BEGIN:VCALENDAR
VERSION:2.0
PRODID:-//DIGITAL FACTORY//EVENTS MAKER V1.6.12//EN
CALSCALE:GREGORIAN
METHOD:PUBLISH
BEGIN:VEVENT
DTSTART:20251215T060000Z
DTEND:20251215T190000Z
DTSTAMP:20260422T093450Z
UID:69e8963a6158b
CATEGORIES:Odpady wielkogabarytowe
LOCATION:Chylice tylko ulice: Broniewskiego, Grodzka, Jasna, Leśna, Łąkowa, Parkowa, Pańska, Przyjacielska, Marka Grechuty, Wesoła Chylice
ORGANIZER;CN=WGO Gminy Piaseczno:MAILTO:go@piaseczno.eu
DESCRIPTION: Odbiór odpadów 
URL;VALUE=URI:https://odpady.piaseczno.eu/harmonogram-odbioru-odpadow/odbior/chyliczki-opiaseczno-ul-agrestowa-malinowa-morelowa-poziomkowa-przesmyckiego-od-nr-36-do-68-raz-od-nr-39-do-63-solna-truskawkowa-tujowadpady-wielkogabarytowe/
SUMMARY:Chyliczki\, Chylice tylko ulice: Broniewskiego\, Grodzka\, Jasna\, Leśna\, Łąkowa\, Parkowa\, Pańska\, Przyjacielska\, Marka Grechuty\, Wesoła\, Piaseczno ul. Agrestowa\, Malinowa\, Morelowa\, Poziomkowa\, Przesmyckiego (od nr 36 do 68 oraz od nr 39 do 63) Solna\, Truskawkowa\, Tujowa - Odpady wielkogabarytowe
END:VEVENT
BEGIN:VEVENT
DTSTART:20260309T060000Z
DTEND:20260309T190000Z
DTSTAMP:20260422T093450Z
UID:69e8963a61624
CATEGORIES:Odpady wielkogabarytowe
LOCATION:Chylice tylko ulice: Broniewskiego, Grodzka, Jasna, Leśna, Łąkowa, Parkowa, Pańska, Przyjacielska, Marka Grechuty, Wesoła Chylice
ORGANIZER;CN=WGO Gminy Piaseczno:MAILTO:go@piaseczno.eu
DESCRIPTION: Odbiór odpadów 
URL;VALUE=URI:https://odpady.piaseczno.eu/harmonogram-odbioru-odpadow/odbior/chyliczki-opiaseczno-ul-agrestowa-malinowa-morelowa-poziomkowa-przesmyckiego-od-nr-36-do-68-raz-od-nr-39-do-63-solna-truskawkowa-tujowadpady-wielkogabarytowe/
SUMMARY:Chyliczki\, Chylice tylko ulice: Broniewskiego\, Grodzka\, Jasna\, Leśna\, Łąkowa\, Parkowa\, Pańska\, Przyjacielska\, Marka Grechuty\, Wesoła\, Piaseczno ul. Agrestowa\, Malinowa\, Morelowa\, Poziomkowa\, Przesmyckiego (od nr 36 do 68 oraz od nr 39 do 63) Solna\, Truskawkowa\, Tujowa - Odpady wielkogabarytowe
END:VEVENT
BEGIN:VEVENT
DTSTART:20260601T060000Z
DTEND:20260601T190000Z
DTSTAMP:20260422T093450Z
UID:69e8963a61651
CATEGORIES:Odpady wielkogabarytowe
LOCATION:Chylice tylko ulice: Broniewskiego, Grodzka, Jasna, Leśna, Łąkowa, Parkowa, Pańska, Przyjacielska, Marka Grechuty, Wesoła Chylice
ORGANIZER;CN=WGO Gminy Piaseczno:MAILTO:go@piaseczno.eu
DESCRIPTION: Odbiór odpadów 
URL;VALUE=URI:https://odpady.piaseczno.eu/harmonogram-odbioru-odpadow/odbior/chyliczki-opiaseczno-ul-agrestowa-malinowa-morelowa-poziomkowa-przesmyckiego-od-nr-36-do-68-raz-od-nr-39-do-63-solna-truskawkowa-tujowadpady-wielkogabarytowe/
SUMMARY:Chyliczki\, Chylice tylko ulice: Broniewskiego\, Grodzka\, Jasna\, Leśna\, Łąkowa\, Parkowa\, Pańska\, Przyjacielska\, Marka Grechuty\, Wesoła\, Piaseczno ul. Agrestowa\, Malinowa\, Morelowa\, Poziomkowa\, Przesmyckiego (od nr 36 do 68 oraz od nr 39 do 63) Solna\, Truskawkowa\, Tujowa - Odpady wielkogabarytowe
END:VEVENT
BEGIN:VEVENT
DTSTART:20260824T060000Z
DTEND:20260824T190000Z
DTSTAMP:20260422T093450Z
UID:69e8963a61674
CATEGORIES:Odpady wielkogabarytowe
LOCATION:Chylice tylko ulice: Broniewskiego, Grodzka, Jasna, Leśna, Łąkowa, Parkowa, Pańska, Przyjacielska, Marka Grechuty, Wesoła Chylice
ORGANIZER;CN=WGO Gminy Piaseczno:MAILTO:go@piaseczno.eu
DESCRIPTION: Odbiór odpadów 
URL;VALUE=URI:https://odpady.piaseczno.eu/harmonogram-odbioru-odpadow/odbior/chyliczki-opiaseczno-ul-agrestowa-malinowa-morelowa-poziomkowa-przesmyckiego-od-nr-36-do-68-raz-od-nr-39-do-63-solna-truskawkowa-tujowadpady-wielkogabarytowe/
SUMMARY:Chyliczki\, Chylice tylko ulice: Broniewskiego\, Grodzka\, Jasna\, Leśna\, Łąkowa\, Parkowa\, Pańska\, Przyjacielska\, Marka Grechuty\, Wesoła\, Piaseczno ul. Agrestowa\, Malinowa\, Morelowa\, Poziomkowa\, Przesmyckiego (od nr 36 do 68 oraz od nr 39 do 63) Solna\, Truskawkowa\, Tujowa - Odpady wielkogabarytowe
END:VEVENT
BEGIN:VEVENT
DTSTART:20261116T060000Z
DTEND:20261116T190000Z
DTSTAMP:20260422T093450Z
UID:69e8963a61694
CATEGORIES:Odpady wielkogabarytowe
LOCATION:Chylice tylko ulice: Broniewskiego, Grodzka, Jasna, Leśna, Łąkowa, Parkowa, Pańska, Przyjacielska, Marka Grechuty, Wesoła Chylice
ORGANIZER;CN=WGO Gminy Piaseczno:MAILTO:go@piaseczno.eu
DESCRIPTION: Odbiór odpadów 
URL;VALUE=URI:https://odpady.piaseczno.eu/harmonogram-odbioru-odpadow/odbior/chyliczki-opiaseczno-ul-agrestowa-malinowa-morelowa-poziomkowa-przesmyckiego-od-nr-36-do-68-raz-od-nr-39-do-63-solna-truskawkowa-tujowadpady-wielkogabarytowe/
SUMMARY:Chyliczki\, Chylice tylko ulice: Broniewskiego\, Grodzka\, Jasna\, Leśna\, Łąkowa\, Parkowa\, Pańska\, Przyjacielska\, Marka Grechuty\, Wesoła\, Piaseczno ul. Agrestowa\, Malinowa\, Morelowa\, Poziomkowa\, Przesmyckiego (od nr 36 do 68 oraz od nr 39 do 63) Solna\, Truskawkowa\, Tujowa - Odpady wielkogabarytowe
END:VEVENT
END:VCALENDAR
