BEGIN:VCALENDAR
VERSION:2.0
PRODID:-//DIGITAL FACTORY//EVENTS MAKER V1.6.12//EN
CALSCALE:GREGORIAN
METHOD:PUBLISH
BEGIN:VEVENT
DTSTART:20260107T060000Z
DTEND:20260107T190000Z
DTSTAMP:20260420T122937Z
UID:69e61c31a4088
CATEGORIES:Odbiór choinek
LOCATION:Chylice tylko ulice: Broniewskiego, Grodzka, Jasna, Leśna, Łąkowa, Parkowa, Pańska, Przyjacielska, Marka Grechuty, Wesoła Chylice
ORGANIZER;CN=WGO Gminy Piaseczno:MAILTO:go@piaseczno.eu
DESCRIPTION: Odbiór odpadów 
URL;VALUE=URI:https://odpady.piaseczno.eu/harmonogram-odbioru-odpadow/odbior/chyliczki-choinki/
SUMMARY:Chyliczki\, Chylice tylko ulice: Broniewskiego\, Grodzka\, Jasna\, Leśna\, Łąkowa\, Parkowa\, Pańska\, Przyjacielska\, Marka Grechuty\, Wesoła\, Piaseczno ul. Agrestowa\, Malinowa\, Morelowa\, Poziomkowa\, Przesmyckiego (od nr 36 do 68 oraz od nr 39 do 63) Solna\, Truskawkowa\, Tujowa- Choinki
END:VEVENT
BEGIN:VEVENT
DTSTART:20260204T060000Z
DTEND:20260204T190000Z
DTSTAMP:20260420T122937Z
UID:69e61c31a416a
CATEGORIES:Odbiór choinek
LOCATION:Chylice tylko ulice: Broniewskiego, Grodzka, Jasna, Leśna, Łąkowa, Parkowa, Pańska, Przyjacielska, Marka Grechuty, Wesoła Chylice
ORGANIZER;CN=WGO Gminy Piaseczno:MAILTO:go@piaseczno.eu
DESCRIPTION: Odbiór odpadów 
URL;VALUE=URI:https://odpady.piaseczno.eu/harmonogram-odbioru-odpadow/odbior/chyliczki-choinki/
SUMMARY:Chyliczki\, Chylice tylko ulice: Broniewskiego\, Grodzka\, Jasna\, Leśna\, Łąkowa\, Parkowa\, Pańska\, Przyjacielska\, Marka Grechuty\, Wesoła\, Piaseczno ul. Agrestowa\, Malinowa\, Morelowa\, Poziomkowa\, Przesmyckiego (od nr 36 do 68 oraz od nr 39 do 63) Solna\, Truskawkowa\, Tujowa- Choinki
END:VEVENT
END:VCALENDAR
