BEGIN:VCALENDAR
VERSION:2.0
PRODID:-//DIGITAL FACTORY//EVENTS MAKER V1.6.12//EN
CALSCALE:GREGORIAN
METHOD:PUBLISH
BEGIN:VEVENT
DTSTART:20251118T060000Z
DTEND:20251118T190000Z
DTSTAMP:20260424T131702Z
UID:69eb6d4e09599
CATEGORIES:Odpady segregowane - szkło
LOCATION:Chojnów tylko ul. Leśników, Chylice, Jastrzębie, Chylice-Pólko, Siedliska, Żabieniec z wyjątkiem ul. Rybakówka i Rzekotki Chojnów tylko ul. Leśników, Mazowieckie, PL
ORGANIZER;CN=WGO Gminy Piaseczno:MAILTO:go@piaseczno.eu
DESCRIPTION: Odbiór odpadów 
URL;VALUE=URI:https://odpady.piaseczno.eu/harmonogram-odbioru-odpadow/odbior/chylice-polko-siedliska-szklo/
SUMMARY:Chojnów tylko ul. Leśników\, Chylice z wjątkiem ulic: Broniewskiego\, Grodzka\, Jasna\, Leśna\, Łąkowa\, Parkowa\, Pańska\, Przyjacielska\, Marka Grechuty\, Wesołej\, Jastrzębie\, Chylice-Pólko\, Siedliska\, Żabieniec z wyjątkiem ul. Rybakówka i Rzekotki- Szkło
END:VEVENT
BEGIN:VEVENT
DTSTART:20251216T060000Z
DTEND:20251216T190000Z
DTSTAMP:20260424T131702Z
UID:69eb6d4e0961f
CATEGORIES:Odpady segregowane - szkło
LOCATION:Chojnów tylko ul. Leśników, Chylice, Jastrzębie, Chylice-Pólko, Siedliska, Żabieniec z wyjątkiem ul. Rybakówka i Rzekotki Chojnów tylko ul. Leśników, Mazowieckie, PL
ORGANIZER;CN=WGO Gminy Piaseczno:MAILTO:go@piaseczno.eu
DESCRIPTION: Odbiór odpadów 
URL;VALUE=URI:https://odpady.piaseczno.eu/harmonogram-odbioru-odpadow/odbior/chylice-polko-siedliska-szklo/
SUMMARY:Chojnów tylko ul. Leśników\, Chylice z wjątkiem ulic: Broniewskiego\, Grodzka\, Jasna\, Leśna\, Łąkowa\, Parkowa\, Pańska\, Przyjacielska\, Marka Grechuty\, Wesołej\, Jastrzębie\, Chylice-Pólko\, Siedliska\, Żabieniec z wyjątkiem ul. Rybakówka i Rzekotki- Szkło
END:VEVENT
BEGIN:VEVENT
DTSTART:20260113T060000Z
DTEND:20260113T190000Z
DTSTAMP:20260424T131702Z
UID:69eb6d4e09648
CATEGORIES:Odpady segregowane - szkło
LOCATION:Chojnów tylko ul. Leśników, Chylice, Jastrzębie, Chylice-Pólko, Siedliska, Żabieniec z wyjątkiem ul. Rybakówka i Rzekotki Chojnów tylko ul. Leśników, Mazowieckie, PL
ORGANIZER;CN=WGO Gminy Piaseczno:MAILTO:go@piaseczno.eu
DESCRIPTION: Odbiór odpadów 
URL;VALUE=URI:https://odpady.piaseczno.eu/harmonogram-odbioru-odpadow/odbior/chylice-polko-siedliska-szklo/
SUMMARY:Chojnów tylko ul. Leśników\, Chylice z wjątkiem ulic: Broniewskiego\, Grodzka\, Jasna\, Leśna\, Łąkowa\, Parkowa\, Pańska\, Przyjacielska\, Marka Grechuty\, Wesołej\, Jastrzębie\, Chylice-Pólko\, Siedliska\, Żabieniec z wyjątkiem ul. Rybakówka i Rzekotki- Szkło
END:VEVENT
BEGIN:VEVENT
DTSTART:20260210T060000Z
DTEND:20260210T190000Z
DTSTAMP:20260424T131702Z
UID:69eb6d4e09669
CATEGORIES:Odpady segregowane - szkło
LOCATION:Chojnów tylko ul. Leśników, Chylice, Jastrzębie, Chylice-Pólko, Siedliska, Żabieniec z wyjątkiem ul. Rybakówka i Rzekotki Chojnów tylko ul. Leśników, Mazowieckie, PL
ORGANIZER;CN=WGO Gminy Piaseczno:MAILTO:go@piaseczno.eu
DESCRIPTION: Odbiór odpadów 
URL;VALUE=URI:https://odpady.piaseczno.eu/harmonogram-odbioru-odpadow/odbior/chylice-polko-siedliska-szklo/
SUMMARY:Chojnów tylko ul. Leśników\, Chylice z wjątkiem ulic: Broniewskiego\, Grodzka\, Jasna\, Leśna\, Łąkowa\, Parkowa\, Pańska\, Przyjacielska\, Marka Grechuty\, Wesołej\, Jastrzębie\, Chylice-Pólko\, Siedliska\, Żabieniec z wyjątkiem ul. Rybakówka i Rzekotki- Szkło
END:VEVENT
BEGIN:VEVENT
DTSTART:20260310T060000Z
DTEND:20260310T190000Z
DTSTAMP:20260424T131702Z
UID:69eb6d4e09688
CATEGORIES:Odpady segregowane - szkło
LOCATION:Chojnów tylko ul. Leśników, Chylice, Jastrzębie, Chylice-Pólko, Siedliska, Żabieniec z wyjątkiem ul. Rybakówka i Rzekotki Chojnów tylko ul. Leśników, Mazowieckie, PL
ORGANIZER;CN=WGO Gminy Piaseczno:MAILTO:go@piaseczno.eu
DESCRIPTION: Odbiór odpadów 
URL;VALUE=URI:https://odpady.piaseczno.eu/harmonogram-odbioru-odpadow/odbior/chylice-polko-siedliska-szklo/
SUMMARY:Chojnów tylko ul. Leśników\, Chylice z wjątkiem ulic: Broniewskiego\, Grodzka\, Jasna\, Leśna\, Łąkowa\, Parkowa\, Pańska\, Przyjacielska\, Marka Grechuty\, Wesołej\, Jastrzębie\, Chylice-Pólko\, Siedliska\, Żabieniec z wyjątkiem ul. Rybakówka i Rzekotki- Szkło
END:VEVENT
BEGIN:VEVENT
DTSTART:20260407T060000Z
DTEND:20260407T190000Z
DTSTAMP:20260424T131702Z
UID:69eb6d4e096aa
CATEGORIES:Odpady segregowane - szkło
LOCATION:Chojnów tylko ul. Leśników, Chylice, Jastrzębie, Chylice-Pólko, Siedliska, Żabieniec z wyjątkiem ul. Rybakówka i Rzekotki Chojnów tylko ul. Leśników, Mazowieckie, PL
ORGANIZER;CN=WGO Gminy Piaseczno:MAILTO:go@piaseczno.eu
DESCRIPTION: Odbiór odpadów 
URL;VALUE=URI:https://odpady.piaseczno.eu/harmonogram-odbioru-odpadow/odbior/chylice-polko-siedliska-szklo/
SUMMARY:Chojnów tylko ul. Leśników\, Chylice z wjątkiem ulic: Broniewskiego\, Grodzka\, Jasna\, Leśna\, Łąkowa\, Parkowa\, Pańska\, Przyjacielska\, Marka Grechuty\, Wesołej\, Jastrzębie\, Chylice-Pólko\, Siedliska\, Żabieniec z wyjątkiem ul. Rybakówka i Rzekotki- Szkło
END:VEVENT
BEGIN:VEVENT
DTSTART:20260505T060000Z
DTEND:20260505T190000Z
DTSTAMP:20260424T131702Z
UID:69eb6d4e096c7
CATEGORIES:Odpady segregowane - szkło
LOCATION:Chojnów tylko ul. Leśników, Chylice, Jastrzębie, Chylice-Pólko, Siedliska, Żabieniec z wyjątkiem ul. Rybakówka i Rzekotki Chojnów tylko ul. Leśników, Mazowieckie, PL
ORGANIZER;CN=WGO Gminy Piaseczno:MAILTO:go@piaseczno.eu
DESCRIPTION: Odbiór odpadów 
URL;VALUE=URI:https://odpady.piaseczno.eu/harmonogram-odbioru-odpadow/odbior/chylice-polko-siedliska-szklo/
SUMMARY:Chojnów tylko ul. Leśników\, Chylice z wjątkiem ulic: Broniewskiego\, Grodzka\, Jasna\, Leśna\, Łąkowa\, Parkowa\, Pańska\, Przyjacielska\, Marka Grechuty\, Wesołej\, Jastrzębie\, Chylice-Pólko\, Siedliska\, Żabieniec z wyjątkiem ul. Rybakówka i Rzekotki- Szkło
END:VEVENT
BEGIN:VEVENT
DTSTART:20260602T060000Z
DTEND:20260602T190000Z
DTSTAMP:20260424T131702Z
UID:69eb6d4e096e3
CATEGORIES:Odpady segregowane - szkło
LOCATION:Chojnów tylko ul. Leśników, Chylice, Jastrzębie, Chylice-Pólko, Siedliska, Żabieniec z wyjątkiem ul. Rybakówka i Rzekotki Chojnów tylko ul. Leśników, Mazowieckie, PL
ORGANIZER;CN=WGO Gminy Piaseczno:MAILTO:go@piaseczno.eu
DESCRIPTION: Odbiór odpadów 
URL;VALUE=URI:https://odpady.piaseczno.eu/harmonogram-odbioru-odpadow/odbior/chylice-polko-siedliska-szklo/
SUMMARY:Chojnów tylko ul. Leśników\, Chylice z wjątkiem ulic: Broniewskiego\, Grodzka\, Jasna\, Leśna\, Łąkowa\, Parkowa\, Pańska\, Przyjacielska\, Marka Grechuty\, Wesołej\, Jastrzębie\, Chylice-Pólko\, Siedliska\, Żabieniec z wyjątkiem ul. Rybakówka i Rzekotki- Szkło
END:VEVENT
BEGIN:VEVENT
DTSTART:20260630T060000Z
DTEND:20260630T190000Z
DTSTAMP:20260424T131702Z
UID:69eb6d4e096fe
CATEGORIES:Odpady segregowane - szkło
LOCATION:Chojnów tylko ul. Leśników, Chylice, Jastrzębie, Chylice-Pólko, Siedliska, Żabieniec z wyjątkiem ul. Rybakówka i Rzekotki Chojnów tylko ul. Leśników, Mazowieckie, PL
ORGANIZER;CN=WGO Gminy Piaseczno:MAILTO:go@piaseczno.eu
DESCRIPTION: Odbiór odpadów 
URL;VALUE=URI:https://odpady.piaseczno.eu/harmonogram-odbioru-odpadow/odbior/chylice-polko-siedliska-szklo/
SUMMARY:Chojnów tylko ul. Leśników\, Chylice z wjątkiem ulic: Broniewskiego\, Grodzka\, Jasna\, Leśna\, Łąkowa\, Parkowa\, Pańska\, Przyjacielska\, Marka Grechuty\, Wesołej\, Jastrzębie\, Chylice-Pólko\, Siedliska\, Żabieniec z wyjątkiem ul. Rybakówka i Rzekotki- Szkło
END:VEVENT
BEGIN:VEVENT
DTSTART:20260728T060000Z
DTEND:20260728T190000Z
DTSTAMP:20260424T131702Z
UID:69eb6d4e0971a
CATEGORIES:Odpady segregowane - szkło
LOCATION:Chojnów tylko ul. Leśników, Chylice, Jastrzębie, Chylice-Pólko, Siedliska, Żabieniec z wyjątkiem ul. Rybakówka i Rzekotki Chojnów tylko ul. Leśników, Mazowieckie, PL
ORGANIZER;CN=WGO Gminy Piaseczno:MAILTO:go@piaseczno.eu
DESCRIPTION: Odbiór odpadów 
URL;VALUE=URI:https://odpady.piaseczno.eu/harmonogram-odbioru-odpadow/odbior/chylice-polko-siedliska-szklo/
SUMMARY:Chojnów tylko ul. Leśników\, Chylice z wjątkiem ulic: Broniewskiego\, Grodzka\, Jasna\, Leśna\, Łąkowa\, Parkowa\, Pańska\, Przyjacielska\, Marka Grechuty\, Wesołej\, Jastrzębie\, Chylice-Pólko\, Siedliska\, Żabieniec z wyjątkiem ul. Rybakówka i Rzekotki- Szkło
END:VEVENT
BEGIN:VEVENT
DTSTART:20260825T060000Z
DTEND:20260825T190000Z
DTSTAMP:20260424T131702Z
UID:69eb6d4e0973a
CATEGORIES:Odpady segregowane - szkło
LOCATION:Chojnów tylko ul. Leśników, Chylice, Jastrzębie, Chylice-Pólko, Siedliska, Żabieniec z wyjątkiem ul. Rybakówka i Rzekotki Chojnów tylko ul. Leśników, Mazowieckie, PL
ORGANIZER;CN=WGO Gminy Piaseczno:MAILTO:go@piaseczno.eu
DESCRIPTION: Odbiór odpadów 
URL;VALUE=URI:https://odpady.piaseczno.eu/harmonogram-odbioru-odpadow/odbior/chylice-polko-siedliska-szklo/
SUMMARY:Chojnów tylko ul. Leśników\, Chylice z wjątkiem ulic: Broniewskiego\, Grodzka\, Jasna\, Leśna\, Łąkowa\, Parkowa\, Pańska\, Przyjacielska\, Marka Grechuty\, Wesołej\, Jastrzębie\, Chylice-Pólko\, Siedliska\, Żabieniec z wyjątkiem ul. Rybakówka i Rzekotki- Szkło
END:VEVENT
BEGIN:VEVENT
DTSTART:20260922T060000Z
DTEND:20260922T190000Z
DTSTAMP:20260424T131702Z
UID:69eb6d4e09756
CATEGORIES:Odpady segregowane - szkło
LOCATION:Chojnów tylko ul. Leśników, Chylice, Jastrzębie, Chylice-Pólko, Siedliska, Żabieniec z wyjątkiem ul. Rybakówka i Rzekotki Chojnów tylko ul. Leśników, Mazowieckie, PL
ORGANIZER;CN=WGO Gminy Piaseczno:MAILTO:go@piaseczno.eu
DESCRIPTION: Odbiór odpadów 
URL;VALUE=URI:https://odpady.piaseczno.eu/harmonogram-odbioru-odpadow/odbior/chylice-polko-siedliska-szklo/
SUMMARY:Chojnów tylko ul. Leśników\, Chylice z wjątkiem ulic: Broniewskiego\, Grodzka\, Jasna\, Leśna\, Łąkowa\, Parkowa\, Pańska\, Przyjacielska\, Marka Grechuty\, Wesołej\, Jastrzębie\, Chylice-Pólko\, Siedliska\, Żabieniec z wyjątkiem ul. Rybakówka i Rzekotki- Szkło
END:VEVENT
BEGIN:VEVENT
DTSTART:20261020T060000Z
DTEND:20261020T190000Z
DTSTAMP:20260424T131702Z
UID:69eb6d4e09771
CATEGORIES:Odpady segregowane - szkło
LOCATION:Chojnów tylko ul. Leśników, Chylice, Jastrzębie, Chylice-Pólko, Siedliska, Żabieniec z wyjątkiem ul. Rybakówka i Rzekotki Chojnów tylko ul. Leśników, Mazowieckie, PL
ORGANIZER;CN=WGO Gminy Piaseczno:MAILTO:go@piaseczno.eu
DESCRIPTION: Odbiór odpadów 
URL;VALUE=URI:https://odpady.piaseczno.eu/harmonogram-odbioru-odpadow/odbior/chylice-polko-siedliska-szklo/
SUMMARY:Chojnów tylko ul. Leśników\, Chylice z wjątkiem ulic: Broniewskiego\, Grodzka\, Jasna\, Leśna\, Łąkowa\, Parkowa\, Pańska\, Przyjacielska\, Marka Grechuty\, Wesołej\, Jastrzębie\, Chylice-Pólko\, Siedliska\, Żabieniec z wyjątkiem ul. Rybakówka i Rzekotki- Szkło
END:VEVENT
BEGIN:VEVENT
DTSTART:20261117T060000Z
DTEND:20261117T190000Z
DTSTAMP:20260424T131702Z
UID:69eb6d4e0978b
CATEGORIES:Odpady segregowane - szkło
LOCATION:Chojnów tylko ul. Leśników, Chylice, Jastrzębie, Chylice-Pólko, Siedliska, Żabieniec z wyjątkiem ul. Rybakówka i Rzekotki Chojnów tylko ul. Leśników, Mazowieckie, PL
ORGANIZER;CN=WGO Gminy Piaseczno:MAILTO:go@piaseczno.eu
DESCRIPTION: Odbiór odpadów 
URL;VALUE=URI:https://odpady.piaseczno.eu/harmonogram-odbioru-odpadow/odbior/chylice-polko-siedliska-szklo/
SUMMARY:Chojnów tylko ul. Leśników\, Chylice z wjątkiem ulic: Broniewskiego\, Grodzka\, Jasna\, Leśna\, Łąkowa\, Parkowa\, Pańska\, Przyjacielska\, Marka Grechuty\, Wesołej\, Jastrzębie\, Chylice-Pólko\, Siedliska\, Żabieniec z wyjątkiem ul. Rybakówka i Rzekotki- Szkło
END:VEVENT
END:VCALENDAR
