BEGIN:VCALENDAR
VERSION:2.0
PRODID:-//DIGITAL FACTORY//EVENTS MAKER V1.6.12//EN
CALSCALE:GREGORIAN
METHOD:PUBLISH
BEGIN:VEVENT
DTSTART:20251125T060000Z
DTEND:20251125T190000Z
DTSTAMP:20260424T150419Z
UID:69eb8673269f0
CATEGORIES:Odpady segregowane -tworzywa sztuczne i metale
LOCATION:Chojnów tylko ul. Leśników, Chylice, Jastrzębie, Chylice-Pólko, Siedliska, Żabieniec z wyjątkiem ul. Rybakówka i Rzekotki Chojnów tylko ul. Leśników, Mazowieckie, PL
ORGANIZER;CN=WGO Gminy Piaseczno:MAILTO:go@piaseczno.eu
DESCRIPTION: Odbiór odpadów 
URL;VALUE=URI:https://odpady.piaseczno.eu/harmonogram-odbioru-odpadow/odbior/chylice-polko-siedliska-papier-plastik-metal-tekstylia/
SUMMARY:Chojnów tylko ul. Leśników\, Chylice z wjątkiem ulic: Broniewskiego\, Grodzka\, Jasna\, Leśna\, Łąkowa\, Parkowa\, Pańska\, Przyjacielska\, Marka Grechuty\, Wesołej\, Jastrzębie\, Chylice-Pólko\, Siedliska\, Żabieniec z wyjątkiem ul. Rybakówka i Rzekotki - Metale i tworzywa sztuczne
END:VEVENT
BEGIN:VEVENT
DTSTART:20251209T060000Z
DTEND:20251209T190000Z
DTSTAMP:20260424T150419Z
UID:69eb867326a72
CATEGORIES:Odpady segregowane -tworzywa sztuczne i metale
LOCATION:Chojnów tylko ul. Leśników, Chylice, Jastrzębie, Chylice-Pólko, Siedliska, Żabieniec z wyjątkiem ul. Rybakówka i Rzekotki Chojnów tylko ul. Leśników, Mazowieckie, PL
ORGANIZER;CN=WGO Gminy Piaseczno:MAILTO:go@piaseczno.eu
DESCRIPTION: Odbiór odpadów 
URL;VALUE=URI:https://odpady.piaseczno.eu/harmonogram-odbioru-odpadow/odbior/chylice-polko-siedliska-papier-plastik-metal-tekstylia/
SUMMARY:Chojnów tylko ul. Leśników\, Chylice z wjątkiem ulic: Broniewskiego\, Grodzka\, Jasna\, Leśna\, Łąkowa\, Parkowa\, Pańska\, Przyjacielska\, Marka Grechuty\, Wesołej\, Jastrzębie\, Chylice-Pólko\, Siedliska\, Żabieniec z wyjątkiem ul. Rybakówka i Rzekotki - Metale i tworzywa sztuczne
END:VEVENT
BEGIN:VEVENT
DTSTART:20251220T060000Z
DTEND:20251220T190000Z
DTSTAMP:20260424T150419Z
UID:69eb867326a9d
CATEGORIES:Odpady segregowane -tworzywa sztuczne i metale
LOCATION:Chojnów tylko ul. Leśników, Chylice, Jastrzębie, Chylice-Pólko, Siedliska, Żabieniec z wyjątkiem ul. Rybakówka i Rzekotki Chojnów tylko ul. Leśników, Mazowieckie, PL
ORGANIZER;CN=WGO Gminy Piaseczno:MAILTO:go@piaseczno.eu
DESCRIPTION: Odbiór odpadów 
URL;VALUE=URI:https://odpady.piaseczno.eu/harmonogram-odbioru-odpadow/odbior/chylice-polko-siedliska-papier-plastik-metal-tekstylia/
SUMMARY:Chojnów tylko ul. Leśników\, Chylice z wjątkiem ulic: Broniewskiego\, Grodzka\, Jasna\, Leśna\, Łąkowa\, Parkowa\, Pańska\, Przyjacielska\, Marka Grechuty\, Wesołej\, Jastrzębie\, Chylice-Pólko\, Siedliska\, Żabieniec z wyjątkiem ul. Rybakówka i Rzekotki - Metale i tworzywa sztuczne
END:VEVENT
BEGIN:VEVENT
DTSTART:20260105T060000Z
DTEND:20260105T190000Z
DTSTAMP:20260424T150419Z
UID:69eb867326abf
CATEGORIES:Odpady segregowane -tworzywa sztuczne i metale
LOCATION:Chojnów tylko ul. Leśników, Chylice, Jastrzębie, Chylice-Pólko, Siedliska, Żabieniec z wyjątkiem ul. Rybakówka i Rzekotki Chojnów tylko ul. Leśników, Mazowieckie, PL
ORGANIZER;CN=WGO Gminy Piaseczno:MAILTO:go@piaseczno.eu
DESCRIPTION: Odbiór odpadów 
URL;VALUE=URI:https://odpady.piaseczno.eu/harmonogram-odbioru-odpadow/odbior/chylice-polko-siedliska-papier-plastik-metal-tekstylia/
SUMMARY:Chojnów tylko ul. Leśników\, Chylice z wjątkiem ulic: Broniewskiego\, Grodzka\, Jasna\, Leśna\, Łąkowa\, Parkowa\, Pańska\, Przyjacielska\, Marka Grechuty\, Wesołej\, Jastrzębie\, Chylice-Pólko\, Siedliska\, Żabieniec z wyjątkiem ul. Rybakówka i Rzekotki - Metale i tworzywa sztuczne
END:VEVENT
BEGIN:VEVENT
DTSTART:20260120T060000Z
DTEND:20260120T190000Z
DTSTAMP:20260424T150419Z
UID:69eb867326add
CATEGORIES:Odpady segregowane -tworzywa sztuczne i metale
LOCATION:Chojnów tylko ul. Leśników, Chylice, Jastrzębie, Chylice-Pólko, Siedliska, Żabieniec z wyjątkiem ul. Rybakówka i Rzekotki Chojnów tylko ul. Leśników, Mazowieckie, PL
ORGANIZER;CN=WGO Gminy Piaseczno:MAILTO:go@piaseczno.eu
DESCRIPTION: Odbiór odpadów 
URL;VALUE=URI:https://odpady.piaseczno.eu/harmonogram-odbioru-odpadow/odbior/chylice-polko-siedliska-papier-plastik-metal-tekstylia/
SUMMARY:Chojnów tylko ul. Leśników\, Chylice z wjątkiem ulic: Broniewskiego\, Grodzka\, Jasna\, Leśna\, Łąkowa\, Parkowa\, Pańska\, Przyjacielska\, Marka Grechuty\, Wesołej\, Jastrzębie\, Chylice-Pólko\, Siedliska\, Żabieniec z wyjątkiem ul. Rybakówka i Rzekotki - Metale i tworzywa sztuczne
END:VEVENT
BEGIN:VEVENT
DTSTART:20260203T060000Z
DTEND:20260203T190000Z
DTSTAMP:20260424T150419Z
UID:69eb867326afd
CATEGORIES:Odpady segregowane -tworzywa sztuczne i metale
LOCATION:Chojnów tylko ul. Leśników, Chylice, Jastrzębie, Chylice-Pólko, Siedliska, Żabieniec z wyjątkiem ul. Rybakówka i Rzekotki Chojnów tylko ul. Leśników, Mazowieckie, PL
ORGANIZER;CN=WGO Gminy Piaseczno:MAILTO:go@piaseczno.eu
DESCRIPTION: Odbiór odpadów 
URL;VALUE=URI:https://odpady.piaseczno.eu/harmonogram-odbioru-odpadow/odbior/chylice-polko-siedliska-papier-plastik-metal-tekstylia/
SUMMARY:Chojnów tylko ul. Leśników\, Chylice z wjątkiem ulic: Broniewskiego\, Grodzka\, Jasna\, Leśna\, Łąkowa\, Parkowa\, Pańska\, Przyjacielska\, Marka Grechuty\, Wesołej\, Jastrzębie\, Chylice-Pólko\, Siedliska\, Żabieniec z wyjątkiem ul. Rybakówka i Rzekotki - Metale i tworzywa sztuczne
END:VEVENT
BEGIN:VEVENT
DTSTART:20260217T060000Z
DTEND:20260217T190000Z
DTSTAMP:20260424T150419Z
UID:69eb867326b1a
CATEGORIES:Odpady segregowane -tworzywa sztuczne i metale
LOCATION:Chojnów tylko ul. Leśników, Chylice, Jastrzębie, Chylice-Pólko, Siedliska, Żabieniec z wyjątkiem ul. Rybakówka i Rzekotki Chojnów tylko ul. Leśników, Mazowieckie, PL
ORGANIZER;CN=WGO Gminy Piaseczno:MAILTO:go@piaseczno.eu
DESCRIPTION: Odbiór odpadów 
URL;VALUE=URI:https://odpady.piaseczno.eu/harmonogram-odbioru-odpadow/odbior/chylice-polko-siedliska-papier-plastik-metal-tekstylia/
SUMMARY:Chojnów tylko ul. Leśników\, Chylice z wjątkiem ulic: Broniewskiego\, Grodzka\, Jasna\, Leśna\, Łąkowa\, Parkowa\, Pańska\, Przyjacielska\, Marka Grechuty\, Wesołej\, Jastrzębie\, Chylice-Pólko\, Siedliska\, Żabieniec z wyjątkiem ul. Rybakówka i Rzekotki - Metale i tworzywa sztuczne
END:VEVENT
BEGIN:VEVENT
DTSTART:20260303T060000Z
DTEND:20260303T190000Z
DTSTAMP:20260424T150419Z
UID:69eb867326b35
CATEGORIES:Odpady segregowane -tworzywa sztuczne i metale
LOCATION:Chojnów tylko ul. Leśników, Chylice, Jastrzębie, Chylice-Pólko, Siedliska, Żabieniec z wyjątkiem ul. Rybakówka i Rzekotki Chojnów tylko ul. Leśników, Mazowieckie, PL
ORGANIZER;CN=WGO Gminy Piaseczno:MAILTO:go@piaseczno.eu
DESCRIPTION: Odbiór odpadów 
URL;VALUE=URI:https://odpady.piaseczno.eu/harmonogram-odbioru-odpadow/odbior/chylice-polko-siedliska-papier-plastik-metal-tekstylia/
SUMMARY:Chojnów tylko ul. Leśników\, Chylice z wjątkiem ulic: Broniewskiego\, Grodzka\, Jasna\, Leśna\, Łąkowa\, Parkowa\, Pańska\, Przyjacielska\, Marka Grechuty\, Wesołej\, Jastrzębie\, Chylice-Pólko\, Siedliska\, Żabieniec z wyjątkiem ul. Rybakówka i Rzekotki - Metale i tworzywa sztuczne
END:VEVENT
BEGIN:VEVENT
DTSTART:20260317T060000Z
DTEND:20260317T190000Z
DTSTAMP:20260424T150419Z
UID:69eb867326b50
CATEGORIES:Odpady segregowane -tworzywa sztuczne i metale
LOCATION:Chojnów tylko ul. Leśników, Chylice, Jastrzębie, Chylice-Pólko, Siedliska, Żabieniec z wyjątkiem ul. Rybakówka i Rzekotki Chojnów tylko ul. Leśników, Mazowieckie, PL
ORGANIZER;CN=WGO Gminy Piaseczno:MAILTO:go@piaseczno.eu
DESCRIPTION: Odbiór odpadów 
URL;VALUE=URI:https://odpady.piaseczno.eu/harmonogram-odbioru-odpadow/odbior/chylice-polko-siedliska-papier-plastik-metal-tekstylia/
SUMMARY:Chojnów tylko ul. Leśników\, Chylice z wjątkiem ulic: Broniewskiego\, Grodzka\, Jasna\, Leśna\, Łąkowa\, Parkowa\, Pańska\, Przyjacielska\, Marka Grechuty\, Wesołej\, Jastrzębie\, Chylice-Pólko\, Siedliska\, Żabieniec z wyjątkiem ul. Rybakówka i Rzekotki - Metale i tworzywa sztuczne
END:VEVENT
BEGIN:VEVENT
DTSTART:20260331T060000Z
DTEND:20260331T190000Z
DTSTAMP:20260424T150419Z
UID:69eb867326b6b
CATEGORIES:Odpady segregowane -tworzywa sztuczne i metale
LOCATION:Chojnów tylko ul. Leśników, Chylice, Jastrzębie, Chylice-Pólko, Siedliska, Żabieniec z wyjątkiem ul. Rybakówka i Rzekotki Chojnów tylko ul. Leśników, Mazowieckie, PL
ORGANIZER;CN=WGO Gminy Piaseczno:MAILTO:go@piaseczno.eu
DESCRIPTION: Odbiór odpadów 
URL;VALUE=URI:https://odpady.piaseczno.eu/harmonogram-odbioru-odpadow/odbior/chylice-polko-siedliska-papier-plastik-metal-tekstylia/
SUMMARY:Chojnów tylko ul. Leśników\, Chylice z wjątkiem ulic: Broniewskiego\, Grodzka\, Jasna\, Leśna\, Łąkowa\, Parkowa\, Pańska\, Przyjacielska\, Marka Grechuty\, Wesołej\, Jastrzębie\, Chylice-Pólko\, Siedliska\, Żabieniec z wyjątkiem ul. Rybakówka i Rzekotki - Metale i tworzywa sztuczne
END:VEVENT
BEGIN:VEVENT
DTSTART:20260414T060000Z
DTEND:20260414T190000Z
DTSTAMP:20260424T150419Z
UID:69eb867326b8c
CATEGORIES:Odpady segregowane -tworzywa sztuczne i metale
LOCATION:Chojnów tylko ul. Leśników, Chylice, Jastrzębie, Chylice-Pólko, Siedliska, Żabieniec z wyjątkiem ul. Rybakówka i Rzekotki Chojnów tylko ul. Leśników, Mazowieckie, PL
ORGANIZER;CN=WGO Gminy Piaseczno:MAILTO:go@piaseczno.eu
DESCRIPTION: Odbiór odpadów 
URL;VALUE=URI:https://odpady.piaseczno.eu/harmonogram-odbioru-odpadow/odbior/chylice-polko-siedliska-papier-plastik-metal-tekstylia/
SUMMARY:Chojnów tylko ul. Leśników\, Chylice z wjątkiem ulic: Broniewskiego\, Grodzka\, Jasna\, Leśna\, Łąkowa\, Parkowa\, Pańska\, Przyjacielska\, Marka Grechuty\, Wesołej\, Jastrzębie\, Chylice-Pólko\, Siedliska\, Żabieniec z wyjątkiem ul. Rybakówka i Rzekotki - Metale i tworzywa sztuczne
END:VEVENT
BEGIN:VEVENT
DTSTART:20260428T060000Z
DTEND:20260428T190000Z
DTSTAMP:20260424T150419Z
UID:69eb867326ba6
CATEGORIES:Odpady segregowane -tworzywa sztuczne i metale
LOCATION:Chojnów tylko ul. Leśników, Chylice, Jastrzębie, Chylice-Pólko, Siedliska, Żabieniec z wyjątkiem ul. Rybakówka i Rzekotki Chojnów tylko ul. Leśników, Mazowieckie, PL
ORGANIZER;CN=WGO Gminy Piaseczno:MAILTO:go@piaseczno.eu
DESCRIPTION: Odbiór odpadów 
URL;VALUE=URI:https://odpady.piaseczno.eu/harmonogram-odbioru-odpadow/odbior/chylice-polko-siedliska-papier-plastik-metal-tekstylia/
SUMMARY:Chojnów tylko ul. Leśników\, Chylice z wjątkiem ulic: Broniewskiego\, Grodzka\, Jasna\, Leśna\, Łąkowa\, Parkowa\, Pańska\, Przyjacielska\, Marka Grechuty\, Wesołej\, Jastrzębie\, Chylice-Pólko\, Siedliska\, Żabieniec z wyjątkiem ul. Rybakówka i Rzekotki - Metale i tworzywa sztuczne
END:VEVENT
BEGIN:VEVENT
DTSTART:20260512T060000Z
DTEND:20260512T190000Z
DTSTAMP:20260424T150419Z
UID:69eb867326bc1
CATEGORIES:Odpady segregowane -tworzywa sztuczne i metale
LOCATION:Chojnów tylko ul. Leśników, Chylice, Jastrzębie, Chylice-Pólko, Siedliska, Żabieniec z wyjątkiem ul. Rybakówka i Rzekotki Chojnów tylko ul. Leśników, Mazowieckie, PL
ORGANIZER;CN=WGO Gminy Piaseczno:MAILTO:go@piaseczno.eu
DESCRIPTION: Odbiór odpadów 
URL;VALUE=URI:https://odpady.piaseczno.eu/harmonogram-odbioru-odpadow/odbior/chylice-polko-siedliska-papier-plastik-metal-tekstylia/
SUMMARY:Chojnów tylko ul. Leśników\, Chylice z wjątkiem ulic: Broniewskiego\, Grodzka\, Jasna\, Leśna\, Łąkowa\, Parkowa\, Pańska\, Przyjacielska\, Marka Grechuty\, Wesołej\, Jastrzębie\, Chylice-Pólko\, Siedliska\, Żabieniec z wyjątkiem ul. Rybakówka i Rzekotki - Metale i tworzywa sztuczne
END:VEVENT
BEGIN:VEVENT
DTSTART:20260526T060000Z
DTEND:20260526T190000Z
DTSTAMP:20260424T150419Z
UID:69eb867326bdc
CATEGORIES:Odpady segregowane -tworzywa sztuczne i metale
LOCATION:Chojnów tylko ul. Leśników, Chylice, Jastrzębie, Chylice-Pólko, Siedliska, Żabieniec z wyjątkiem ul. Rybakówka i Rzekotki Chojnów tylko ul. Leśników, Mazowieckie, PL
ORGANIZER;CN=WGO Gminy Piaseczno:MAILTO:go@piaseczno.eu
DESCRIPTION: Odbiór odpadów 
URL;VALUE=URI:https://odpady.piaseczno.eu/harmonogram-odbioru-odpadow/odbior/chylice-polko-siedliska-papier-plastik-metal-tekstylia/
SUMMARY:Chojnów tylko ul. Leśników\, Chylice z wjątkiem ulic: Broniewskiego\, Grodzka\, Jasna\, Leśna\, Łąkowa\, Parkowa\, Pańska\, Przyjacielska\, Marka Grechuty\, Wesołej\, Jastrzębie\, Chylice-Pólko\, Siedliska\, Żabieniec z wyjątkiem ul. Rybakówka i Rzekotki - Metale i tworzywa sztuczne
END:VEVENT
BEGIN:VEVENT
DTSTART:20260609T060000Z
DTEND:20260609T190000Z
DTSTAMP:20260424T150419Z
UID:69eb867326bfa
CATEGORIES:Odpady segregowane -tworzywa sztuczne i metale
LOCATION:Chojnów tylko ul. Leśników, Chylice, Jastrzębie, Chylice-Pólko, Siedliska, Żabieniec z wyjątkiem ul. Rybakówka i Rzekotki Chojnów tylko ul. Leśników, Mazowieckie, PL
ORGANIZER;CN=WGO Gminy Piaseczno:MAILTO:go@piaseczno.eu
DESCRIPTION: Odbiór odpadów 
URL;VALUE=URI:https://odpady.piaseczno.eu/harmonogram-odbioru-odpadow/odbior/chylice-polko-siedliska-papier-plastik-metal-tekstylia/
SUMMARY:Chojnów tylko ul. Leśników\, Chylice z wjątkiem ulic: Broniewskiego\, Grodzka\, Jasna\, Leśna\, Łąkowa\, Parkowa\, Pańska\, Przyjacielska\, Marka Grechuty\, Wesołej\, Jastrzębie\, Chylice-Pólko\, Siedliska\, Żabieniec z wyjątkiem ul. Rybakówka i Rzekotki - Metale i tworzywa sztuczne
END:VEVENT
BEGIN:VEVENT
DTSTART:20260623T060000Z
DTEND:20260623T190000Z
DTSTAMP:20260424T150419Z
UID:69eb867326c1d
CATEGORIES:Odpady segregowane -tworzywa sztuczne i metale
LOCATION:Chojnów tylko ul. Leśników, Chylice, Jastrzębie, Chylice-Pólko, Siedliska, Żabieniec z wyjątkiem ul. Rybakówka i Rzekotki Chojnów tylko ul. Leśników, Mazowieckie, PL
ORGANIZER;CN=WGO Gminy Piaseczno:MAILTO:go@piaseczno.eu
DESCRIPTION: Odbiór odpadów 
URL;VALUE=URI:https://odpady.piaseczno.eu/harmonogram-odbioru-odpadow/odbior/chylice-polko-siedliska-papier-plastik-metal-tekstylia/
SUMMARY:Chojnów tylko ul. Leśników\, Chylice z wjątkiem ulic: Broniewskiego\, Grodzka\, Jasna\, Leśna\, Łąkowa\, Parkowa\, Pańska\, Przyjacielska\, Marka Grechuty\, Wesołej\, Jastrzębie\, Chylice-Pólko\, Siedliska\, Żabieniec z wyjątkiem ul. Rybakówka i Rzekotki - Metale i tworzywa sztuczne
END:VEVENT
BEGIN:VEVENT
DTSTART:20260707T060000Z
DTEND:20260707T190000Z
DTSTAMP:20260424T150419Z
UID:69eb867326c39
CATEGORIES:Odpady segregowane -tworzywa sztuczne i metale
LOCATION:Chojnów tylko ul. Leśników, Chylice, Jastrzębie, Chylice-Pólko, Siedliska, Żabieniec z wyjątkiem ul. Rybakówka i Rzekotki Chojnów tylko ul. Leśników, Mazowieckie, PL
ORGANIZER;CN=WGO Gminy Piaseczno:MAILTO:go@piaseczno.eu
DESCRIPTION: Odbiór odpadów 
URL;VALUE=URI:https://odpady.piaseczno.eu/harmonogram-odbioru-odpadow/odbior/chylice-polko-siedliska-papier-plastik-metal-tekstylia/
SUMMARY:Chojnów tylko ul. Leśników\, Chylice z wjątkiem ulic: Broniewskiego\, Grodzka\, Jasna\, Leśna\, Łąkowa\, Parkowa\, Pańska\, Przyjacielska\, Marka Grechuty\, Wesołej\, Jastrzębie\, Chylice-Pólko\, Siedliska\, Żabieniec z wyjątkiem ul. Rybakówka i Rzekotki - Metale i tworzywa sztuczne
END:VEVENT
BEGIN:VEVENT
DTSTART:20260721T060000Z
DTEND:20260721T190000Z
DTSTAMP:20260424T150419Z
UID:69eb867326c54
CATEGORIES:Odpady segregowane -tworzywa sztuczne i metale
LOCATION:Chojnów tylko ul. Leśników, Chylice, Jastrzębie, Chylice-Pólko, Siedliska, Żabieniec z wyjątkiem ul. Rybakówka i Rzekotki Chojnów tylko ul. Leśników, Mazowieckie, PL
ORGANIZER;CN=WGO Gminy Piaseczno:MAILTO:go@piaseczno.eu
DESCRIPTION: Odbiór odpadów 
URL;VALUE=URI:https://odpady.piaseczno.eu/harmonogram-odbioru-odpadow/odbior/chylice-polko-siedliska-papier-plastik-metal-tekstylia/
SUMMARY:Chojnów tylko ul. Leśników\, Chylice z wjątkiem ulic: Broniewskiego\, Grodzka\, Jasna\, Leśna\, Łąkowa\, Parkowa\, Pańska\, Przyjacielska\, Marka Grechuty\, Wesołej\, Jastrzębie\, Chylice-Pólko\, Siedliska\, Żabieniec z wyjątkiem ul. Rybakówka i Rzekotki - Metale i tworzywa sztuczne
END:VEVENT
BEGIN:VEVENT
DTSTART:20260804T060000Z
DTEND:20260804T190000Z
DTSTAMP:20260424T150419Z
UID:69eb867326c6f
CATEGORIES:Odpady segregowane -tworzywa sztuczne i metale
LOCATION:Chojnów tylko ul. Leśników, Chylice, Jastrzębie, Chylice-Pólko, Siedliska, Żabieniec z wyjątkiem ul. Rybakówka i Rzekotki Chojnów tylko ul. Leśników, Mazowieckie, PL
ORGANIZER;CN=WGO Gminy Piaseczno:MAILTO:go@piaseczno.eu
DESCRIPTION: Odbiór odpadów 
URL;VALUE=URI:https://odpady.piaseczno.eu/harmonogram-odbioru-odpadow/odbior/chylice-polko-siedliska-papier-plastik-metal-tekstylia/
SUMMARY:Chojnów tylko ul. Leśników\, Chylice z wjątkiem ulic: Broniewskiego\, Grodzka\, Jasna\, Leśna\, Łąkowa\, Parkowa\, Pańska\, Przyjacielska\, Marka Grechuty\, Wesołej\, Jastrzębie\, Chylice-Pólko\, Siedliska\, Żabieniec z wyjątkiem ul. Rybakówka i Rzekotki - Metale i tworzywa sztuczne
END:VEVENT
BEGIN:VEVENT
DTSTART:20260818T060000Z
DTEND:20260818T190000Z
DTSTAMP:20260424T150419Z
UID:69eb867326c8f
CATEGORIES:Odpady segregowane -tworzywa sztuczne i metale
LOCATION:Chojnów tylko ul. Leśników, Chylice, Jastrzębie, Chylice-Pólko, Siedliska, Żabieniec z wyjątkiem ul. Rybakówka i Rzekotki Chojnów tylko ul. Leśników, Mazowieckie, PL
ORGANIZER;CN=WGO Gminy Piaseczno:MAILTO:go@piaseczno.eu
DESCRIPTION: Odbiór odpadów 
URL;VALUE=URI:https://odpady.piaseczno.eu/harmonogram-odbioru-odpadow/odbior/chylice-polko-siedliska-papier-plastik-metal-tekstylia/
SUMMARY:Chojnów tylko ul. Leśników\, Chylice z wjątkiem ulic: Broniewskiego\, Grodzka\, Jasna\, Leśna\, Łąkowa\, Parkowa\, Pańska\, Przyjacielska\, Marka Grechuty\, Wesołej\, Jastrzębie\, Chylice-Pólko\, Siedliska\, Żabieniec z wyjątkiem ul. Rybakówka i Rzekotki - Metale i tworzywa sztuczne
END:VEVENT
BEGIN:VEVENT
DTSTART:20260901T060000Z
DTEND:20260901T190000Z
DTSTAMP:20260424T150419Z
UID:69eb867326caa
CATEGORIES:Odpady segregowane -tworzywa sztuczne i metale
LOCATION:Chojnów tylko ul. Leśników, Chylice, Jastrzębie, Chylice-Pólko, Siedliska, Żabieniec z wyjątkiem ul. Rybakówka i Rzekotki Chojnów tylko ul. Leśników, Mazowieckie, PL
ORGANIZER;CN=WGO Gminy Piaseczno:MAILTO:go@piaseczno.eu
DESCRIPTION: Odbiór odpadów 
URL;VALUE=URI:https://odpady.piaseczno.eu/harmonogram-odbioru-odpadow/odbior/chylice-polko-siedliska-papier-plastik-metal-tekstylia/
SUMMARY:Chojnów tylko ul. Leśników\, Chylice z wjątkiem ulic: Broniewskiego\, Grodzka\, Jasna\, Leśna\, Łąkowa\, Parkowa\, Pańska\, Przyjacielska\, Marka Grechuty\, Wesołej\, Jastrzębie\, Chylice-Pólko\, Siedliska\, Żabieniec z wyjątkiem ul. Rybakówka i Rzekotki - Metale i tworzywa sztuczne
END:VEVENT
BEGIN:VEVENT
DTSTART:20260915T060000Z
DTEND:20260915T190000Z
DTSTAMP:20260424T150419Z
UID:69eb867326cc4
CATEGORIES:Odpady segregowane -tworzywa sztuczne i metale
LOCATION:Chojnów tylko ul. Leśników, Chylice, Jastrzębie, Chylice-Pólko, Siedliska, Żabieniec z wyjątkiem ul. Rybakówka i Rzekotki Chojnów tylko ul. Leśników, Mazowieckie, PL
ORGANIZER;CN=WGO Gminy Piaseczno:MAILTO:go@piaseczno.eu
DESCRIPTION: Odbiór odpadów 
URL;VALUE=URI:https://odpady.piaseczno.eu/harmonogram-odbioru-odpadow/odbior/chylice-polko-siedliska-papier-plastik-metal-tekstylia/
SUMMARY:Chojnów tylko ul. Leśników\, Chylice z wjątkiem ulic: Broniewskiego\, Grodzka\, Jasna\, Leśna\, Łąkowa\, Parkowa\, Pańska\, Przyjacielska\, Marka Grechuty\, Wesołej\, Jastrzębie\, Chylice-Pólko\, Siedliska\, Żabieniec z wyjątkiem ul. Rybakówka i Rzekotki - Metale i tworzywa sztuczne
END:VEVENT
BEGIN:VEVENT
DTSTART:20260929T060000Z
DTEND:20260929T190000Z
DTSTAMP:20260424T150419Z
UID:69eb867326cdf
CATEGORIES:Odpady segregowane -tworzywa sztuczne i metale
LOCATION:Chojnów tylko ul. Leśników, Chylice, Jastrzębie, Chylice-Pólko, Siedliska, Żabieniec z wyjątkiem ul. Rybakówka i Rzekotki Chojnów tylko ul. Leśników, Mazowieckie, PL
ORGANIZER;CN=WGO Gminy Piaseczno:MAILTO:go@piaseczno.eu
DESCRIPTION: Odbiór odpadów 
URL;VALUE=URI:https://odpady.piaseczno.eu/harmonogram-odbioru-odpadow/odbior/chylice-polko-siedliska-papier-plastik-metal-tekstylia/
SUMMARY:Chojnów tylko ul. Leśników\, Chylice z wjątkiem ulic: Broniewskiego\, Grodzka\, Jasna\, Leśna\, Łąkowa\, Parkowa\, Pańska\, Przyjacielska\, Marka Grechuty\, Wesołej\, Jastrzębie\, Chylice-Pólko\, Siedliska\, Żabieniec z wyjątkiem ul. Rybakówka i Rzekotki - Metale i tworzywa sztuczne
END:VEVENT
BEGIN:VEVENT
DTSTART:20261013T060000Z
DTEND:20261013T190000Z
DTSTAMP:20260424T150419Z
UID:69eb867326d1c
CATEGORIES:Odpady segregowane -tworzywa sztuczne i metale
LOCATION:Chojnów tylko ul. Leśników, Chylice, Jastrzębie, Chylice-Pólko, Siedliska, Żabieniec z wyjątkiem ul. Rybakówka i Rzekotki Chojnów tylko ul. Leśników, Mazowieckie, PL
ORGANIZER;CN=WGO Gminy Piaseczno:MAILTO:go@piaseczno.eu
DESCRIPTION: Odbiór odpadów 
URL;VALUE=URI:https://odpady.piaseczno.eu/harmonogram-odbioru-odpadow/odbior/chylice-polko-siedliska-papier-plastik-metal-tekstylia/
SUMMARY:Chojnów tylko ul. Leśników\, Chylice z wjątkiem ulic: Broniewskiego\, Grodzka\, Jasna\, Leśna\, Łąkowa\, Parkowa\, Pańska\, Przyjacielska\, Marka Grechuty\, Wesołej\, Jastrzębie\, Chylice-Pólko\, Siedliska\, Żabieniec z wyjątkiem ul. Rybakówka i Rzekotki - Metale i tworzywa sztuczne
END:VEVENT
BEGIN:VEVENT
DTSTART:20261027T060000Z
DTEND:20261027T190000Z
DTSTAMP:20260424T150419Z
UID:69eb867326d46
CATEGORIES:Odpady segregowane -tworzywa sztuczne i metale
LOCATION:Chojnów tylko ul. Leśników, Chylice, Jastrzębie, Chylice-Pólko, Siedliska, Żabieniec z wyjątkiem ul. Rybakówka i Rzekotki Chojnów tylko ul. Leśników, Mazowieckie, PL
ORGANIZER;CN=WGO Gminy Piaseczno:MAILTO:go@piaseczno.eu
DESCRIPTION: Odbiór odpadów 
URL;VALUE=URI:https://odpady.piaseczno.eu/harmonogram-odbioru-odpadow/odbior/chylice-polko-siedliska-papier-plastik-metal-tekstylia/
SUMMARY:Chojnów tylko ul. Leśników\, Chylice z wjątkiem ulic: Broniewskiego\, Grodzka\, Jasna\, Leśna\, Łąkowa\, Parkowa\, Pańska\, Przyjacielska\, Marka Grechuty\, Wesołej\, Jastrzębie\, Chylice-Pólko\, Siedliska\, Żabieniec z wyjątkiem ul. Rybakówka i Rzekotki - Metale i tworzywa sztuczne
END:VEVENT
BEGIN:VEVENT
DTSTART:20261110T060000Z
DTEND:20261110T190000Z
DTSTAMP:20260424T150419Z
UID:69eb867326d60
CATEGORIES:Odpady segregowane -tworzywa sztuczne i metale
LOCATION:Chojnów tylko ul. Leśników, Chylice, Jastrzębie, Chylice-Pólko, Siedliska, Żabieniec z wyjątkiem ul. Rybakówka i Rzekotki Chojnów tylko ul. Leśników, Mazowieckie, PL
ORGANIZER;CN=WGO Gminy Piaseczno:MAILTO:go@piaseczno.eu
DESCRIPTION: Odbiór odpadów 
URL;VALUE=URI:https://odpady.piaseczno.eu/harmonogram-odbioru-odpadow/odbior/chylice-polko-siedliska-papier-plastik-metal-tekstylia/
SUMMARY:Chojnów tylko ul. Leśników\, Chylice z wjątkiem ulic: Broniewskiego\, Grodzka\, Jasna\, Leśna\, Łąkowa\, Parkowa\, Pańska\, Przyjacielska\, Marka Grechuty\, Wesołej\, Jastrzębie\, Chylice-Pólko\, Siedliska\, Żabieniec z wyjątkiem ul. Rybakówka i Rzekotki - Metale i tworzywa sztuczne
END:VEVENT
BEGIN:VEVENT
DTSTART:20261124T060000Z
DTEND:20261124T190000Z
DTSTAMP:20260424T150419Z
UID:69eb867326d7b
CATEGORIES:Odpady segregowane -tworzywa sztuczne i metale
LOCATION:Chojnów tylko ul. Leśników, Chylice, Jastrzębie, Chylice-Pólko, Siedliska, Żabieniec z wyjątkiem ul. Rybakówka i Rzekotki Chojnów tylko ul. Leśników, Mazowieckie, PL
ORGANIZER;CN=WGO Gminy Piaseczno:MAILTO:go@piaseczno.eu
DESCRIPTION: Odbiór odpadów 
URL;VALUE=URI:https://odpady.piaseczno.eu/harmonogram-odbioru-odpadow/odbior/chylice-polko-siedliska-papier-plastik-metal-tekstylia/
SUMMARY:Chojnów tylko ul. Leśników\, Chylice z wjątkiem ulic: Broniewskiego\, Grodzka\, Jasna\, Leśna\, Łąkowa\, Parkowa\, Pańska\, Przyjacielska\, Marka Grechuty\, Wesołej\, Jastrzębie\, Chylice-Pólko\, Siedliska\, Żabieniec z wyjątkiem ul. Rybakówka i Rzekotki - Metale i tworzywa sztuczne
END:VEVENT
END:VCALENDAR
