BEGIN:VCALENDAR
VERSION:2.0
PRODID:-//DIGITAL FACTORY//EVENTS MAKER V1.6.12//EN
CALSCALE:GREGORIAN
METHOD:PUBLISH
BEGIN:VEVENT
DTSTART:20260127T060000Z
DTEND:20260127T190000Z
DTSTAMP:20260421T065609Z
UID:69e71f89df5de
CATEGORIES:odpady segregowane - papier
LOCATION:Chojnów tylko ul. Leśników, Chylice, Jastrzębie, Chylice-Pólko, Siedliska, Żabieniec z wyjątkiem ul. Rybakówka i Rzekotki Chojnów tylko ul. Leśników, Mazowieckie, PL
ORGANIZER;CN=WGO Gminy Piaseczno:MAILTO:go@piaseczno.eu
DESCRIPTION: Odbiór odpadów 
URL;VALUE=URI:https://odpady.piaseczno.eu/harmonogram-odbioru-odpadow/odbior/chylice-chylice-polko-papier/
SUMMARY:Chojnów tylko ul. Leśników\, Chylice z wjątkiem ulic: Broniewskiego\, Grodzka\, Jasna\, Leśna\, Łąkowa\, Parkowa\, Pańska\, Przyjacielska\, Marka Grechuty\, Wesołej\, Jastrzębie\, Chylice-Pólko\, Siedliska\, Żabieniec z wyjątkiem ul. Rybakówka i Rzekotki - Papier
END:VEVENT
BEGIN:VEVENT
DTSTART:20251230T060000Z
DTEND:20251230T190000Z
DTSTAMP:20260421T065609Z
UID:69e71f89df65f
CATEGORIES:odpady segregowane - papier
LOCATION:Chojnów tylko ul. Leśników, Chylice, Jastrzębie, Chylice-Pólko, Siedliska, Żabieniec z wyjątkiem ul. Rybakówka i Rzekotki Chojnów tylko ul. Leśników, Mazowieckie, PL
ORGANIZER;CN=WGO Gminy Piaseczno:MAILTO:go@piaseczno.eu
DESCRIPTION: Odbiór odpadów 
URL;VALUE=URI:https://odpady.piaseczno.eu/harmonogram-odbioru-odpadow/odbior/chylice-chylice-polko-papier/
SUMMARY:Chojnów tylko ul. Leśników\, Chylice z wjątkiem ulic: Broniewskiego\, Grodzka\, Jasna\, Leśna\, Łąkowa\, Parkowa\, Pańska\, Przyjacielska\, Marka Grechuty\, Wesołej\, Jastrzębie\, Chylice-Pólko\, Siedliska\, Żabieniec z wyjątkiem ul. Rybakówka i Rzekotki - Papier
END:VEVENT
BEGIN:VEVENT
DTSTART:20260127T060000Z
DTEND:20260127T190000Z
DTSTAMP:20260421T065609Z
UID:69e71f89df688
CATEGORIES:odpady segregowane - papier
LOCATION:Chojnów tylko ul. Leśników, Chylice, Jastrzębie, Chylice-Pólko, Siedliska, Żabieniec z wyjątkiem ul. Rybakówka i Rzekotki Chojnów tylko ul. Leśników, Mazowieckie, PL
ORGANIZER;CN=WGO Gminy Piaseczno:MAILTO:go@piaseczno.eu
DESCRIPTION: Odbiór odpadów 
URL;VALUE=URI:https://odpady.piaseczno.eu/harmonogram-odbioru-odpadow/odbior/chylice-chylice-polko-papier/
SUMMARY:Chojnów tylko ul. Leśników\, Chylice z wjątkiem ulic: Broniewskiego\, Grodzka\, Jasna\, Leśna\, Łąkowa\, Parkowa\, Pańska\, Przyjacielska\, Marka Grechuty\, Wesołej\, Jastrzębie\, Chylice-Pólko\, Siedliska\, Żabieniec z wyjątkiem ul. Rybakówka i Rzekotki - Papier
END:VEVENT
BEGIN:VEVENT
DTSTART:20260224T060000Z
DTEND:20260224T190000Z
DTSTAMP:20260421T065609Z
UID:69e71f89df6a8
CATEGORIES:odpady segregowane - papier
LOCATION:Chojnów tylko ul. Leśników, Chylice, Jastrzębie, Chylice-Pólko, Siedliska, Żabieniec z wyjątkiem ul. Rybakówka i Rzekotki Chojnów tylko ul. Leśników, Mazowieckie, PL
ORGANIZER;CN=WGO Gminy Piaseczno:MAILTO:go@piaseczno.eu
DESCRIPTION: Odbiór odpadów 
URL;VALUE=URI:https://odpady.piaseczno.eu/harmonogram-odbioru-odpadow/odbior/chylice-chylice-polko-papier/
SUMMARY:Chojnów tylko ul. Leśników\, Chylice z wjątkiem ulic: Broniewskiego\, Grodzka\, Jasna\, Leśna\, Łąkowa\, Parkowa\, Pańska\, Przyjacielska\, Marka Grechuty\, Wesołej\, Jastrzębie\, Chylice-Pólko\, Siedliska\, Żabieniec z wyjątkiem ul. Rybakówka i Rzekotki - Papier
END:VEVENT
BEGIN:VEVENT
DTSTART:20260324T060000Z
DTEND:20260324T190000Z
DTSTAMP:20260421T065609Z
UID:69e71f89df6c7
CATEGORIES:odpady segregowane - papier
LOCATION:Chojnów tylko ul. Leśników, Chylice, Jastrzębie, Chylice-Pólko, Siedliska, Żabieniec z wyjątkiem ul. Rybakówka i Rzekotki Chojnów tylko ul. Leśników, Mazowieckie, PL
ORGANIZER;CN=WGO Gminy Piaseczno:MAILTO:go@piaseczno.eu
DESCRIPTION: Odbiór odpadów 
URL;VALUE=URI:https://odpady.piaseczno.eu/harmonogram-odbioru-odpadow/odbior/chylice-chylice-polko-papier/
SUMMARY:Chojnów tylko ul. Leśników\, Chylice z wjątkiem ulic: Broniewskiego\, Grodzka\, Jasna\, Leśna\, Łąkowa\, Parkowa\, Pańska\, Przyjacielska\, Marka Grechuty\, Wesołej\, Jastrzębie\, Chylice-Pólko\, Siedliska\, Żabieniec z wyjątkiem ul. Rybakówka i Rzekotki - Papier
END:VEVENT
BEGIN:VEVENT
DTSTART:20260421T060000Z
DTEND:20260421T190000Z
DTSTAMP:20260421T065609Z
UID:69e71f89df6e9
CATEGORIES:odpady segregowane - papier
LOCATION:Chojnów tylko ul. Leśników, Chylice, Jastrzębie, Chylice-Pólko, Siedliska, Żabieniec z wyjątkiem ul. Rybakówka i Rzekotki Chojnów tylko ul. Leśników, Mazowieckie, PL
ORGANIZER;CN=WGO Gminy Piaseczno:MAILTO:go@piaseczno.eu
DESCRIPTION: Odbiór odpadów 
URL;VALUE=URI:https://odpady.piaseczno.eu/harmonogram-odbioru-odpadow/odbior/chylice-chylice-polko-papier/
SUMMARY:Chojnów tylko ul. Leśników\, Chylice z wjątkiem ulic: Broniewskiego\, Grodzka\, Jasna\, Leśna\, Łąkowa\, Parkowa\, Pańska\, Przyjacielska\, Marka Grechuty\, Wesołej\, Jastrzębie\, Chylice-Pólko\, Siedliska\, Żabieniec z wyjątkiem ul. Rybakówka i Rzekotki - Papier
END:VEVENT
BEGIN:VEVENT
DTSTART:20260519T060000Z
DTEND:20260519T190000Z
DTSTAMP:20260421T065609Z
UID:69e71f89df707
CATEGORIES:odpady segregowane - papier
LOCATION:Chojnów tylko ul. Leśników, Chylice, Jastrzębie, Chylice-Pólko, Siedliska, Żabieniec z wyjątkiem ul. Rybakówka i Rzekotki Chojnów tylko ul. Leśników, Mazowieckie, PL
ORGANIZER;CN=WGO Gminy Piaseczno:MAILTO:go@piaseczno.eu
DESCRIPTION: Odbiór odpadów 
URL;VALUE=URI:https://odpady.piaseczno.eu/harmonogram-odbioru-odpadow/odbior/chylice-chylice-polko-papier/
SUMMARY:Chojnów tylko ul. Leśników\, Chylice z wjątkiem ulic: Broniewskiego\, Grodzka\, Jasna\, Leśna\, Łąkowa\, Parkowa\, Pańska\, Przyjacielska\, Marka Grechuty\, Wesołej\, Jastrzębie\, Chylice-Pólko\, Siedliska\, Żabieniec z wyjątkiem ul. Rybakówka i Rzekotki - Papier
END:VEVENT
BEGIN:VEVENT
DTSTART:20260616T060000Z
DTEND:20260616T190000Z
DTSTAMP:20260421T065609Z
UID:69e71f89df722
CATEGORIES:odpady segregowane - papier
LOCATION:Chojnów tylko ul. Leśników, Chylice, Jastrzębie, Chylice-Pólko, Siedliska, Żabieniec z wyjątkiem ul. Rybakówka i Rzekotki Chojnów tylko ul. Leśników, Mazowieckie, PL
ORGANIZER;CN=WGO Gminy Piaseczno:MAILTO:go@piaseczno.eu
DESCRIPTION: Odbiór odpadów 
URL;VALUE=URI:https://odpady.piaseczno.eu/harmonogram-odbioru-odpadow/odbior/chylice-chylice-polko-papier/
SUMMARY:Chojnów tylko ul. Leśników\, Chylice z wjątkiem ulic: Broniewskiego\, Grodzka\, Jasna\, Leśna\, Łąkowa\, Parkowa\, Pańska\, Przyjacielska\, Marka Grechuty\, Wesołej\, Jastrzębie\, Chylice-Pólko\, Siedliska\, Żabieniec z wyjątkiem ul. Rybakówka i Rzekotki - Papier
END:VEVENT
BEGIN:VEVENT
DTSTART:20260714T060000Z
DTEND:20260714T190000Z
DTSTAMP:20260421T065609Z
UID:69e71f89df73d
CATEGORIES:odpady segregowane - papier
LOCATION:Chojnów tylko ul. Leśników, Chylice, Jastrzębie, Chylice-Pólko, Siedliska, Żabieniec z wyjątkiem ul. Rybakówka i Rzekotki Chojnów tylko ul. Leśników, Mazowieckie, PL
ORGANIZER;CN=WGO Gminy Piaseczno:MAILTO:go@piaseczno.eu
DESCRIPTION: Odbiór odpadów 
URL;VALUE=URI:https://odpady.piaseczno.eu/harmonogram-odbioru-odpadow/odbior/chylice-chylice-polko-papier/
SUMMARY:Chojnów tylko ul. Leśników\, Chylice z wjątkiem ulic: Broniewskiego\, Grodzka\, Jasna\, Leśna\, Łąkowa\, Parkowa\, Pańska\, Przyjacielska\, Marka Grechuty\, Wesołej\, Jastrzębie\, Chylice-Pólko\, Siedliska\, Żabieniec z wyjątkiem ul. Rybakówka i Rzekotki - Papier
END:VEVENT
BEGIN:VEVENT
DTSTART:20260811T060000Z
DTEND:20260811T190000Z
DTSTAMP:20260421T065609Z
UID:69e71f89df758
CATEGORIES:odpady segregowane - papier
LOCATION:Chojnów tylko ul. Leśników, Chylice, Jastrzębie, Chylice-Pólko, Siedliska, Żabieniec z wyjątkiem ul. Rybakówka i Rzekotki Chojnów tylko ul. Leśników, Mazowieckie, PL
ORGANIZER;CN=WGO Gminy Piaseczno:MAILTO:go@piaseczno.eu
DESCRIPTION: Odbiór odpadów 
URL;VALUE=URI:https://odpady.piaseczno.eu/harmonogram-odbioru-odpadow/odbior/chylice-chylice-polko-papier/
SUMMARY:Chojnów tylko ul. Leśników\, Chylice z wjątkiem ulic: Broniewskiego\, Grodzka\, Jasna\, Leśna\, Łąkowa\, Parkowa\, Pańska\, Przyjacielska\, Marka Grechuty\, Wesołej\, Jastrzębie\, Chylice-Pólko\, Siedliska\, Żabieniec z wyjątkiem ul. Rybakówka i Rzekotki - Papier
END:VEVENT
BEGIN:VEVENT
DTSTART:20260908T060000Z
DTEND:20260908T190000Z
DTSTAMP:20260421T065609Z
UID:69e71f89df778
CATEGORIES:odpady segregowane - papier
LOCATION:Chojnów tylko ul. Leśników, Chylice, Jastrzębie, Chylice-Pólko, Siedliska, Żabieniec z wyjątkiem ul. Rybakówka i Rzekotki Chojnów tylko ul. Leśników, Mazowieckie, PL
ORGANIZER;CN=WGO Gminy Piaseczno:MAILTO:go@piaseczno.eu
DESCRIPTION: Odbiór odpadów 
URL;VALUE=URI:https://odpady.piaseczno.eu/harmonogram-odbioru-odpadow/odbior/chylice-chylice-polko-papier/
SUMMARY:Chojnów tylko ul. Leśników\, Chylice z wjątkiem ulic: Broniewskiego\, Grodzka\, Jasna\, Leśna\, Łąkowa\, Parkowa\, Pańska\, Przyjacielska\, Marka Grechuty\, Wesołej\, Jastrzębie\, Chylice-Pólko\, Siedliska\, Żabieniec z wyjątkiem ul. Rybakówka i Rzekotki - Papier
END:VEVENT
BEGIN:VEVENT
DTSTART:20261006T060000Z
DTEND:20261006T190000Z
DTSTAMP:20260421T065609Z
UID:69e71f89df793
CATEGORIES:odpady segregowane - papier
LOCATION:Chojnów tylko ul. Leśników, Chylice, Jastrzębie, Chylice-Pólko, Siedliska, Żabieniec z wyjątkiem ul. Rybakówka i Rzekotki Chojnów tylko ul. Leśników, Mazowieckie, PL
ORGANIZER;CN=WGO Gminy Piaseczno:MAILTO:go@piaseczno.eu
DESCRIPTION: Odbiór odpadów 
URL;VALUE=URI:https://odpady.piaseczno.eu/harmonogram-odbioru-odpadow/odbior/chylice-chylice-polko-papier/
SUMMARY:Chojnów tylko ul. Leśników\, Chylice z wjątkiem ulic: Broniewskiego\, Grodzka\, Jasna\, Leśna\, Łąkowa\, Parkowa\, Pańska\, Przyjacielska\, Marka Grechuty\, Wesołej\, Jastrzębie\, Chylice-Pólko\, Siedliska\, Żabieniec z wyjątkiem ul. Rybakówka i Rzekotki - Papier
END:VEVENT
BEGIN:VEVENT
DTSTART:20261103T060000Z
DTEND:20261103T190000Z
DTSTAMP:20260421T065609Z
UID:69e71f89df7ae
CATEGORIES:odpady segregowane - papier
LOCATION:Chojnów tylko ul. Leśników, Chylice, Jastrzębie, Chylice-Pólko, Siedliska, Żabieniec z wyjątkiem ul. Rybakówka i Rzekotki Chojnów tylko ul. Leśników, Mazowieckie, PL
ORGANIZER;CN=WGO Gminy Piaseczno:MAILTO:go@piaseczno.eu
DESCRIPTION: Odbiór odpadów 
URL;VALUE=URI:https://odpady.piaseczno.eu/harmonogram-odbioru-odpadow/odbior/chylice-chylice-polko-papier/
SUMMARY:Chojnów tylko ul. Leśników\, Chylice z wjątkiem ulic: Broniewskiego\, Grodzka\, Jasna\, Leśna\, Łąkowa\, Parkowa\, Pańska\, Przyjacielska\, Marka Grechuty\, Wesołej\, Jastrzębie\, Chylice-Pólko\, Siedliska\, Żabieniec z wyjątkiem ul. Rybakówka i Rzekotki - Papier
END:VEVENT
END:VCALENDAR
