BEGIN:VCALENDAR
VERSION:2.0
PRODID:-//DIGITAL FACTORY//EVENTS MAKER V1.6.12//EN
CALSCALE:GREGORIAN
METHOD:PUBLISH
BEGIN:VEVENT
DTSTART:20260110T060000Z
DTEND:20260110T190000Z
DTSTAMP:20260424T004216Z
UID:69eabc68689d9
CATEGORIES:Odpady wielkogabarytowe
LOCATION:Chojnów z wyjątkiem ul. Gościniec Warecki i Leśników Chojnów, Mazowieckie, PL
ORGANIZER;CN=WGO Gminy Piaseczno:MAILTO:go@piaseczno.eu
DESCRIPTION: Odbiór odpadów 
URL;VALUE=URI:https://odpady.piaseczno.eu/harmonogram-odbioru-odpadow/odbior/chojnow-orzeszyn-pilawa-nowinki-odpady-wielkogabarytowe/
SUMMARY:Chojnów - z wyjątkiem ul. Gościniec Warecki i Leśników\,  Orzeszyn\, Pilawa - Odpady wielkogabarytowe
END:VEVENT
BEGIN:VEVENT
DTSTART:20260330T060000Z
DTEND:20260330T190000Z
DTSTAMP:20260424T004216Z
UID:69eabc6868a69
CATEGORIES:Odpady wielkogabarytowe
LOCATION:Chojnów z wyjątkiem ul. Gościniec Warecki i Leśników Chojnów, Mazowieckie, PL
ORGANIZER;CN=WGO Gminy Piaseczno:MAILTO:go@piaseczno.eu
DESCRIPTION: Odbiór odpadów 
URL;VALUE=URI:https://odpady.piaseczno.eu/harmonogram-odbioru-odpadow/odbior/chojnow-orzeszyn-pilawa-nowinki-odpady-wielkogabarytowe/
SUMMARY:Chojnów - z wyjątkiem ul. Gościniec Warecki i Leśników\,  Orzeszyn\, Pilawa - Odpady wielkogabarytowe
END:VEVENT
BEGIN:VEVENT
DTSTART:20260622T060000Z
DTEND:20260622T190000Z
DTSTAMP:20260424T004216Z
UID:69eabc6868a95
CATEGORIES:Odpady wielkogabarytowe
LOCATION:Chojnów z wyjątkiem ul. Gościniec Warecki i Leśników Chojnów, Mazowieckie, PL
ORGANIZER;CN=WGO Gminy Piaseczno:MAILTO:go@piaseczno.eu
DESCRIPTION: Odbiór odpadów 
URL;VALUE=URI:https://odpady.piaseczno.eu/harmonogram-odbioru-odpadow/odbior/chojnow-orzeszyn-pilawa-nowinki-odpady-wielkogabarytowe/
SUMMARY:Chojnów - z wyjątkiem ul. Gościniec Warecki i Leśników\,  Orzeszyn\, Pilawa - Odpady wielkogabarytowe
END:VEVENT
BEGIN:VEVENT
DTSTART:20260914T060000Z
DTEND:20260914T190000Z
DTSTAMP:20260424T004216Z
UID:69eabc6868ab6
CATEGORIES:Odpady wielkogabarytowe
LOCATION:Chojnów z wyjątkiem ul. Gościniec Warecki i Leśników Chojnów, Mazowieckie, PL
ORGANIZER;CN=WGO Gminy Piaseczno:MAILTO:go@piaseczno.eu
DESCRIPTION: Odbiór odpadów 
URL;VALUE=URI:https://odpady.piaseczno.eu/harmonogram-odbioru-odpadow/odbior/chojnow-orzeszyn-pilawa-nowinki-odpady-wielkogabarytowe/
SUMMARY:Chojnów - z wyjątkiem ul. Gościniec Warecki i Leśników\,  Orzeszyn\, Pilawa - Odpady wielkogabarytowe
END:VEVENT
END:VCALENDAR
