BEGIN:VCALENDAR
VERSION:2.0
PRODID:-//DIGITAL FACTORY//EVENTS MAKER V1.6.12//EN
CALSCALE:GREGORIAN
METHOD:PUBLISH
BEGIN:VEVENT
DTSTART:20251216T060000Z
DTEND:20251216T190000Z
DTSTAMP:20260423T225744Z
UID:69eaa3e8a1ba3
CATEGORIES:Odpady segregowane - szkło
LOCATION:Chojnów z wyjątkiem ul. Gościniec Warecki i Leśników Chojnów, Mazowieckie, PL
ORGANIZER;CN=WGO Gminy Piaseczno:MAILTO:go@piaseczno.eu
DESCRIPTION: Odbiór odpadów 
URL;VALUE=URI:https://odpady.piaseczno.eu/harmonogram-odbioru-odpadow/odbior/chojnow-jastrzebie-orzeszyn-pilawa-siedliska-zabieniec-odpady-szklo/
SUMMARY:Chojnów - z wyjątkiem ul. Gościniec Warecki i Leśników\,  Orzeszyn\, Pilawa - szkło
END:VEVENT
BEGIN:VEVENT
DTSTART:20260113T060000Z
DTEND:20260113T190000Z
DTSTAMP:20260423T225744Z
UID:69eaa3e8a1c49
CATEGORIES:Odpady segregowane - szkło
LOCATION:Chojnów z wyjątkiem ul. Gościniec Warecki i Leśników Chojnów, Mazowieckie, PL
ORGANIZER;CN=WGO Gminy Piaseczno:MAILTO:go@piaseczno.eu
DESCRIPTION: Odbiór odpadów 
URL;VALUE=URI:https://odpady.piaseczno.eu/harmonogram-odbioru-odpadow/odbior/chojnow-jastrzebie-orzeszyn-pilawa-siedliska-zabieniec-odpady-szklo/
SUMMARY:Chojnów - z wyjątkiem ul. Gościniec Warecki i Leśników\,  Orzeszyn\, Pilawa - szkło
END:VEVENT
BEGIN:VEVENT
DTSTART:20260210T060000Z
DTEND:20260210T190000Z
DTSTAMP:20260423T225744Z
UID:69eaa3e8a1c73
CATEGORIES:Odpady segregowane - szkło
LOCATION:Chojnów z wyjątkiem ul. Gościniec Warecki i Leśników Chojnów, Mazowieckie, PL
ORGANIZER;CN=WGO Gminy Piaseczno:MAILTO:go@piaseczno.eu
DESCRIPTION: Odbiór odpadów 
URL;VALUE=URI:https://odpady.piaseczno.eu/harmonogram-odbioru-odpadow/odbior/chojnow-jastrzebie-orzeszyn-pilawa-siedliska-zabieniec-odpady-szklo/
SUMMARY:Chojnów - z wyjątkiem ul. Gościniec Warecki i Leśników\,  Orzeszyn\, Pilawa - szkło
END:VEVENT
BEGIN:VEVENT
DTSTART:20260310T060000Z
DTEND:20260310T190000Z
DTSTAMP:20260423T225744Z
UID:69eaa3e8a1c95
CATEGORIES:Odpady segregowane - szkło
LOCATION:Chojnów z wyjątkiem ul. Gościniec Warecki i Leśników Chojnów, Mazowieckie, PL
ORGANIZER;CN=WGO Gminy Piaseczno:MAILTO:go@piaseczno.eu
DESCRIPTION: Odbiór odpadów 
URL;VALUE=URI:https://odpady.piaseczno.eu/harmonogram-odbioru-odpadow/odbior/chojnow-jastrzebie-orzeszyn-pilawa-siedliska-zabieniec-odpady-szklo/
SUMMARY:Chojnów - z wyjątkiem ul. Gościniec Warecki i Leśników\,  Orzeszyn\, Pilawa - szkło
END:VEVENT
BEGIN:VEVENT
DTSTART:20260407T060000Z
DTEND:20260407T190000Z
DTSTAMP:20260423T225744Z
UID:69eaa3e8a1cb3
CATEGORIES:Odpady segregowane - szkło
LOCATION:Chojnów z wyjątkiem ul. Gościniec Warecki i Leśników Chojnów, Mazowieckie, PL
ORGANIZER;CN=WGO Gminy Piaseczno:MAILTO:go@piaseczno.eu
DESCRIPTION: Odbiór odpadów 
URL;VALUE=URI:https://odpady.piaseczno.eu/harmonogram-odbioru-odpadow/odbior/chojnow-jastrzebie-orzeszyn-pilawa-siedliska-zabieniec-odpady-szklo/
SUMMARY:Chojnów - z wyjątkiem ul. Gościniec Warecki i Leśników\,  Orzeszyn\, Pilawa - szkło
END:VEVENT
BEGIN:VEVENT
DTSTART:20260505T060000Z
DTEND:20260505T190000Z
DTSTAMP:20260423T225744Z
UID:69eaa3e8a1cd1
CATEGORIES:Odpady segregowane - szkło
LOCATION:Chojnów z wyjątkiem ul. Gościniec Warecki i Leśników Chojnów, Mazowieckie, PL
ORGANIZER;CN=WGO Gminy Piaseczno:MAILTO:go@piaseczno.eu
DESCRIPTION: Odbiór odpadów 
URL;VALUE=URI:https://odpady.piaseczno.eu/harmonogram-odbioru-odpadow/odbior/chojnow-jastrzebie-orzeszyn-pilawa-siedliska-zabieniec-odpady-szklo/
SUMMARY:Chojnów - z wyjątkiem ul. Gościniec Warecki i Leśników\,  Orzeszyn\, Pilawa - szkło
END:VEVENT
BEGIN:VEVENT
DTSTART:20260602T060000Z
DTEND:20260602T190000Z
DTSTAMP:20260423T225744Z
UID:69eaa3e8a1cee
CATEGORIES:Odpady segregowane - szkło
LOCATION:Chojnów z wyjątkiem ul. Gościniec Warecki i Leśników Chojnów, Mazowieckie, PL
ORGANIZER;CN=WGO Gminy Piaseczno:MAILTO:go@piaseczno.eu
DESCRIPTION: Odbiór odpadów 
URL;VALUE=URI:https://odpady.piaseczno.eu/harmonogram-odbioru-odpadow/odbior/chojnow-jastrzebie-orzeszyn-pilawa-siedliska-zabieniec-odpady-szklo/
SUMMARY:Chojnów - z wyjątkiem ul. Gościniec Warecki i Leśników\,  Orzeszyn\, Pilawa - szkło
END:VEVENT
BEGIN:VEVENT
DTSTART:20260630T060000Z
DTEND:20260630T190000Z
DTSTAMP:20260423T225744Z
UID:69eaa3e8a1d0a
CATEGORIES:Odpady segregowane - szkło
LOCATION:Chojnów z wyjątkiem ul. Gościniec Warecki i Leśników Chojnów, Mazowieckie, PL
ORGANIZER;CN=WGO Gminy Piaseczno:MAILTO:go@piaseczno.eu
DESCRIPTION: Odbiór odpadów 
URL;VALUE=URI:https://odpady.piaseczno.eu/harmonogram-odbioru-odpadow/odbior/chojnow-jastrzebie-orzeszyn-pilawa-siedliska-zabieniec-odpady-szklo/
SUMMARY:Chojnów - z wyjątkiem ul. Gościniec Warecki i Leśników\,  Orzeszyn\, Pilawa - szkło
END:VEVENT
BEGIN:VEVENT
DTSTART:20260728T060000Z
DTEND:20260728T190000Z
DTSTAMP:20260423T225744Z
UID:69eaa3e8a1d26
CATEGORIES:Odpady segregowane - szkło
LOCATION:Chojnów z wyjątkiem ul. Gościniec Warecki i Leśników Chojnów, Mazowieckie, PL
ORGANIZER;CN=WGO Gminy Piaseczno:MAILTO:go@piaseczno.eu
DESCRIPTION: Odbiór odpadów 
URL;VALUE=URI:https://odpady.piaseczno.eu/harmonogram-odbioru-odpadow/odbior/chojnow-jastrzebie-orzeszyn-pilawa-siedliska-zabieniec-odpady-szklo/
SUMMARY:Chojnów - z wyjątkiem ul. Gościniec Warecki i Leśników\,  Orzeszyn\, Pilawa - szkło
END:VEVENT
BEGIN:VEVENT
DTSTART:20260825T060000Z
DTEND:20260825T190000Z
DTSTAMP:20260423T225744Z
UID:69eaa3e8a1d41
CATEGORIES:Odpady segregowane - szkło
LOCATION:Chojnów z wyjątkiem ul. Gościniec Warecki i Leśników Chojnów, Mazowieckie, PL
ORGANIZER;CN=WGO Gminy Piaseczno:MAILTO:go@piaseczno.eu
DESCRIPTION: Odbiór odpadów 
URL;VALUE=URI:https://odpady.piaseczno.eu/harmonogram-odbioru-odpadow/odbior/chojnow-jastrzebie-orzeszyn-pilawa-siedliska-zabieniec-odpady-szklo/
SUMMARY:Chojnów - z wyjątkiem ul. Gościniec Warecki i Leśników\,  Orzeszyn\, Pilawa - szkło
END:VEVENT
BEGIN:VEVENT
DTSTART:20260922T060000Z
DTEND:20260922T190000Z
DTSTAMP:20260423T225744Z
UID:69eaa3e8a1d5c
CATEGORIES:Odpady segregowane - szkło
LOCATION:Chojnów z wyjątkiem ul. Gościniec Warecki i Leśników Chojnów, Mazowieckie, PL
ORGANIZER;CN=WGO Gminy Piaseczno:MAILTO:go@piaseczno.eu
DESCRIPTION: Odbiór odpadów 
URL;VALUE=URI:https://odpady.piaseczno.eu/harmonogram-odbioru-odpadow/odbior/chojnow-jastrzebie-orzeszyn-pilawa-siedliska-zabieniec-odpady-szklo/
SUMMARY:Chojnów - z wyjątkiem ul. Gościniec Warecki i Leśników\,  Orzeszyn\, Pilawa - szkło
END:VEVENT
BEGIN:VEVENT
DTSTART:20261020T060000Z
DTEND:20261020T190000Z
DTSTAMP:20260423T225744Z
UID:69eaa3e8a1d78
CATEGORIES:Odpady segregowane - szkło
LOCATION:Chojnów z wyjątkiem ul. Gościniec Warecki i Leśników Chojnów, Mazowieckie, PL
ORGANIZER;CN=WGO Gminy Piaseczno:MAILTO:go@piaseczno.eu
DESCRIPTION: Odbiór odpadów 
URL;VALUE=URI:https://odpady.piaseczno.eu/harmonogram-odbioru-odpadow/odbior/chojnow-jastrzebie-orzeszyn-pilawa-siedliska-zabieniec-odpady-szklo/
SUMMARY:Chojnów - z wyjątkiem ul. Gościniec Warecki i Leśników\,  Orzeszyn\, Pilawa - szkło
END:VEVENT
BEGIN:VEVENT
DTSTART:20261117T060000Z
DTEND:20261117T190000Z
DTSTAMP:20260423T225744Z
UID:69eaa3e8a1d93
CATEGORIES:Odpady segregowane - szkło
LOCATION:Chojnów z wyjątkiem ul. Gościniec Warecki i Leśników Chojnów, Mazowieckie, PL
ORGANIZER;CN=WGO Gminy Piaseczno:MAILTO:go@piaseczno.eu
DESCRIPTION: Odbiór odpadów 
URL;VALUE=URI:https://odpady.piaseczno.eu/harmonogram-odbioru-odpadow/odbior/chojnow-jastrzebie-orzeszyn-pilawa-siedliska-zabieniec-odpady-szklo/
SUMMARY:Chojnów - z wyjątkiem ul. Gościniec Warecki i Leśników\,  Orzeszyn\, Pilawa - szkło
END:VEVENT
END:VCALENDAR
