BEGIN:VCALENDAR
VERSION:2.0
PRODID:-//DIGITAL FACTORY//EVENTS MAKER V1.6.12//EN
CALSCALE:GREGORIAN
METHOD:PUBLISH
BEGIN:VEVENT
DTSTART:20251125T060000Z
DTEND:20251125T190000Z
DTSTAMP:20260423T230031Z
UID:69eaa48f1d5a5
CATEGORIES:Odpady segregowane -tworzywa sztuczne i metale
LOCATION:Chojnów z wyjątkiem ul. Gościniec Warecki i Leśników Chojnów, Mazowieckie, PL
ORGANIZER;CN=WGO Gminy Piaseczno:MAILTO:go@piaseczno.eu
DESCRIPTION: Odbiór odpadów 
URL;VALUE=URI:https://odpady.piaseczno.eu/harmonogram-odbioru-odpadow/odbior/chojnow-jastrzebie-orzeszyn-pilawa-siedliska-zabieniec-metal-papier-plastik-tekstylia/
SUMMARY:Chojnów z wyjątkiem ul. Gościniec Warecki i Leśników\,  Orzeszyn\, Pilawa- Metale i tworzywa sztuczne
END:VEVENT
BEGIN:VEVENT
DTSTART:20251209T060000Z
DTEND:20251209T190000Z
DTSTAMP:20260423T230031Z
UID:69eaa48f1d62b
CATEGORIES:Odpady segregowane -tworzywa sztuczne i metale
LOCATION:Chojnów z wyjątkiem ul. Gościniec Warecki i Leśników Chojnów, Mazowieckie, PL
ORGANIZER;CN=WGO Gminy Piaseczno:MAILTO:go@piaseczno.eu
DESCRIPTION: Odbiór odpadów 
URL;VALUE=URI:https://odpady.piaseczno.eu/harmonogram-odbioru-odpadow/odbior/chojnow-jastrzebie-orzeszyn-pilawa-siedliska-zabieniec-metal-papier-plastik-tekstylia/
SUMMARY:Chojnów z wyjątkiem ul. Gościniec Warecki i Leśników\,  Orzeszyn\, Pilawa- Metale i tworzywa sztuczne
END:VEVENT
BEGIN:VEVENT
DTSTART:20251220T060000Z
DTEND:20251220T190000Z
DTSTAMP:20260423T230031Z
UID:69eaa48f1d654
CATEGORIES:Odpady segregowane -tworzywa sztuczne i metale
LOCATION:Chojnów z wyjątkiem ul. Gościniec Warecki i Leśników Chojnów, Mazowieckie, PL
ORGANIZER;CN=WGO Gminy Piaseczno:MAILTO:go@piaseczno.eu
DESCRIPTION: Odbiór odpadów 
URL;VALUE=URI:https://odpady.piaseczno.eu/harmonogram-odbioru-odpadow/odbior/chojnow-jastrzebie-orzeszyn-pilawa-siedliska-zabieniec-metal-papier-plastik-tekstylia/
SUMMARY:Chojnów z wyjątkiem ul. Gościniec Warecki i Leśników\,  Orzeszyn\, Pilawa- Metale i tworzywa sztuczne
END:VEVENT
BEGIN:VEVENT
DTSTART:20260105T060000Z
DTEND:20260105T190000Z
DTSTAMP:20260423T230031Z
UID:69eaa48f1d676
CATEGORIES:Odpady segregowane -tworzywa sztuczne i metale
LOCATION:Chojnów z wyjątkiem ul. Gościniec Warecki i Leśników Chojnów, Mazowieckie, PL
ORGANIZER;CN=WGO Gminy Piaseczno:MAILTO:go@piaseczno.eu
DESCRIPTION: Odbiór odpadów 
URL;VALUE=URI:https://odpady.piaseczno.eu/harmonogram-odbioru-odpadow/odbior/chojnow-jastrzebie-orzeszyn-pilawa-siedliska-zabieniec-metal-papier-plastik-tekstylia/
SUMMARY:Chojnów z wyjątkiem ul. Gościniec Warecki i Leśników\,  Orzeszyn\, Pilawa- Metale i tworzywa sztuczne
END:VEVENT
BEGIN:VEVENT
DTSTART:20260120T060000Z
DTEND:20260120T190000Z
DTSTAMP:20260423T230031Z
UID:69eaa48f1d695
CATEGORIES:Odpady segregowane -tworzywa sztuczne i metale
LOCATION:Chojnów z wyjątkiem ul. Gościniec Warecki i Leśników Chojnów, Mazowieckie, PL
ORGANIZER;CN=WGO Gminy Piaseczno:MAILTO:go@piaseczno.eu
DESCRIPTION: Odbiór odpadów 
URL;VALUE=URI:https://odpady.piaseczno.eu/harmonogram-odbioru-odpadow/odbior/chojnow-jastrzebie-orzeszyn-pilawa-siedliska-zabieniec-metal-papier-plastik-tekstylia/
SUMMARY:Chojnów z wyjątkiem ul. Gościniec Warecki i Leśników\,  Orzeszyn\, Pilawa- Metale i tworzywa sztuczne
END:VEVENT
BEGIN:VEVENT
DTSTART:20260203T060000Z
DTEND:20260203T190000Z
DTSTAMP:20260423T230031Z
UID:69eaa48f1d6b8
CATEGORIES:Odpady segregowane -tworzywa sztuczne i metale
LOCATION:Chojnów z wyjątkiem ul. Gościniec Warecki i Leśników Chojnów, Mazowieckie, PL
ORGANIZER;CN=WGO Gminy Piaseczno:MAILTO:go@piaseczno.eu
DESCRIPTION: Odbiór odpadów 
URL;VALUE=URI:https://odpady.piaseczno.eu/harmonogram-odbioru-odpadow/odbior/chojnow-jastrzebie-orzeszyn-pilawa-siedliska-zabieniec-metal-papier-plastik-tekstylia/
SUMMARY:Chojnów z wyjątkiem ul. Gościniec Warecki i Leśników\,  Orzeszyn\, Pilawa- Metale i tworzywa sztuczne
END:VEVENT
BEGIN:VEVENT
DTSTART:20260217T060000Z
DTEND:20260217T190000Z
DTSTAMP:20260423T230031Z
UID:69eaa48f1d6d5
CATEGORIES:Odpady segregowane -tworzywa sztuczne i metale
LOCATION:Chojnów z wyjątkiem ul. Gościniec Warecki i Leśników Chojnów, Mazowieckie, PL
ORGANIZER;CN=WGO Gminy Piaseczno:MAILTO:go@piaseczno.eu
DESCRIPTION: Odbiór odpadów 
URL;VALUE=URI:https://odpady.piaseczno.eu/harmonogram-odbioru-odpadow/odbior/chojnow-jastrzebie-orzeszyn-pilawa-siedliska-zabieniec-metal-papier-plastik-tekstylia/
SUMMARY:Chojnów z wyjątkiem ul. Gościniec Warecki i Leśników\,  Orzeszyn\, Pilawa- Metale i tworzywa sztuczne
END:VEVENT
BEGIN:VEVENT
DTSTART:20260303T060000Z
DTEND:20260303T190000Z
DTSTAMP:20260423T230031Z
UID:69eaa48f1d6f4
CATEGORIES:Odpady segregowane -tworzywa sztuczne i metale
LOCATION:Chojnów z wyjątkiem ul. Gościniec Warecki i Leśników Chojnów, Mazowieckie, PL
ORGANIZER;CN=WGO Gminy Piaseczno:MAILTO:go@piaseczno.eu
DESCRIPTION: Odbiór odpadów 
URL;VALUE=URI:https://odpady.piaseczno.eu/harmonogram-odbioru-odpadow/odbior/chojnow-jastrzebie-orzeszyn-pilawa-siedliska-zabieniec-metal-papier-plastik-tekstylia/
SUMMARY:Chojnów z wyjątkiem ul. Gościniec Warecki i Leśników\,  Orzeszyn\, Pilawa- Metale i tworzywa sztuczne
END:VEVENT
BEGIN:VEVENT
DTSTART:20260317T060000Z
DTEND:20260317T190000Z
DTSTAMP:20260423T230031Z
UID:69eaa48f1d710
CATEGORIES:Odpady segregowane -tworzywa sztuczne i metale
LOCATION:Chojnów z wyjątkiem ul. Gościniec Warecki i Leśników Chojnów, Mazowieckie, PL
ORGANIZER;CN=WGO Gminy Piaseczno:MAILTO:go@piaseczno.eu
DESCRIPTION: Odbiór odpadów 
URL;VALUE=URI:https://odpady.piaseczno.eu/harmonogram-odbioru-odpadow/odbior/chojnow-jastrzebie-orzeszyn-pilawa-siedliska-zabieniec-metal-papier-plastik-tekstylia/
SUMMARY:Chojnów z wyjątkiem ul. Gościniec Warecki i Leśników\,  Orzeszyn\, Pilawa- Metale i tworzywa sztuczne
END:VEVENT
BEGIN:VEVENT
DTSTART:20260331T060000Z
DTEND:20260331T190000Z
DTSTAMP:20260423T230031Z
UID:69eaa48f1d72b
CATEGORIES:Odpady segregowane -tworzywa sztuczne i metale
LOCATION:Chojnów z wyjątkiem ul. Gościniec Warecki i Leśników Chojnów, Mazowieckie, PL
ORGANIZER;CN=WGO Gminy Piaseczno:MAILTO:go@piaseczno.eu
DESCRIPTION: Odbiór odpadów 
URL;VALUE=URI:https://odpady.piaseczno.eu/harmonogram-odbioru-odpadow/odbior/chojnow-jastrzebie-orzeszyn-pilawa-siedliska-zabieniec-metal-papier-plastik-tekstylia/
SUMMARY:Chojnów z wyjątkiem ul. Gościniec Warecki i Leśników\,  Orzeszyn\, Pilawa- Metale i tworzywa sztuczne
END:VEVENT
BEGIN:VEVENT
DTSTART:20260414T060000Z
DTEND:20260414T190000Z
DTSTAMP:20260423T230031Z
UID:69eaa48f1d745
CATEGORIES:Odpady segregowane -tworzywa sztuczne i metale
LOCATION:Chojnów z wyjątkiem ul. Gościniec Warecki i Leśników Chojnów, Mazowieckie, PL
ORGANIZER;CN=WGO Gminy Piaseczno:MAILTO:go@piaseczno.eu
DESCRIPTION: Odbiór odpadów 
URL;VALUE=URI:https://odpady.piaseczno.eu/harmonogram-odbioru-odpadow/odbior/chojnow-jastrzebie-orzeszyn-pilawa-siedliska-zabieniec-metal-papier-plastik-tekstylia/
SUMMARY:Chojnów z wyjątkiem ul. Gościniec Warecki i Leśników\,  Orzeszyn\, Pilawa- Metale i tworzywa sztuczne
END:VEVENT
BEGIN:VEVENT
DTSTART:20260428T060000Z
DTEND:20260428T190000Z
DTSTAMP:20260423T230031Z
UID:69eaa48f1d760
CATEGORIES:Odpady segregowane -tworzywa sztuczne i metale
LOCATION:Chojnów z wyjątkiem ul. Gościniec Warecki i Leśników Chojnów, Mazowieckie, PL
ORGANIZER;CN=WGO Gminy Piaseczno:MAILTO:go@piaseczno.eu
DESCRIPTION: Odbiór odpadów 
URL;VALUE=URI:https://odpady.piaseczno.eu/harmonogram-odbioru-odpadow/odbior/chojnow-jastrzebie-orzeszyn-pilawa-siedliska-zabieniec-metal-papier-plastik-tekstylia/
SUMMARY:Chojnów z wyjątkiem ul. Gościniec Warecki i Leśników\,  Orzeszyn\, Pilawa- Metale i tworzywa sztuczne
END:VEVENT
BEGIN:VEVENT
DTSTART:20260512T060000Z
DTEND:20260512T190000Z
DTSTAMP:20260423T230031Z
UID:69eaa48f1d77b
CATEGORIES:Odpady segregowane -tworzywa sztuczne i metale
LOCATION:Chojnów z wyjątkiem ul. Gościniec Warecki i Leśników Chojnów, Mazowieckie, PL
ORGANIZER;CN=WGO Gminy Piaseczno:MAILTO:go@piaseczno.eu
DESCRIPTION: Odbiór odpadów 
URL;VALUE=URI:https://odpady.piaseczno.eu/harmonogram-odbioru-odpadow/odbior/chojnow-jastrzebie-orzeszyn-pilawa-siedliska-zabieniec-metal-papier-plastik-tekstylia/
SUMMARY:Chojnów z wyjątkiem ul. Gościniec Warecki i Leśników\,  Orzeszyn\, Pilawa- Metale i tworzywa sztuczne
END:VEVENT
BEGIN:VEVENT
DTSTART:20260526T060000Z
DTEND:20260526T190000Z
DTSTAMP:20260423T230031Z
UID:69eaa48f1d79b
CATEGORIES:Odpady segregowane -tworzywa sztuczne i metale
LOCATION:Chojnów z wyjątkiem ul. Gościniec Warecki i Leśników Chojnów, Mazowieckie, PL
ORGANIZER;CN=WGO Gminy Piaseczno:MAILTO:go@piaseczno.eu
DESCRIPTION: Odbiór odpadów 
URL;VALUE=URI:https://odpady.piaseczno.eu/harmonogram-odbioru-odpadow/odbior/chojnow-jastrzebie-orzeszyn-pilawa-siedliska-zabieniec-metal-papier-plastik-tekstylia/
SUMMARY:Chojnów z wyjątkiem ul. Gościniec Warecki i Leśników\,  Orzeszyn\, Pilawa- Metale i tworzywa sztuczne
END:VEVENT
BEGIN:VEVENT
DTSTART:20260609T060000Z
DTEND:20260609T190000Z
DTSTAMP:20260423T230031Z
UID:69eaa48f1d7b6
CATEGORIES:Odpady segregowane -tworzywa sztuczne i metale
LOCATION:Chojnów z wyjątkiem ul. Gościniec Warecki i Leśników Chojnów, Mazowieckie, PL
ORGANIZER;CN=WGO Gminy Piaseczno:MAILTO:go@piaseczno.eu
DESCRIPTION: Odbiór odpadów 
URL;VALUE=URI:https://odpady.piaseczno.eu/harmonogram-odbioru-odpadow/odbior/chojnow-jastrzebie-orzeszyn-pilawa-siedliska-zabieniec-metal-papier-plastik-tekstylia/
SUMMARY:Chojnów z wyjątkiem ul. Gościniec Warecki i Leśników\,  Orzeszyn\, Pilawa- Metale i tworzywa sztuczne
END:VEVENT
BEGIN:VEVENT
DTSTART:20260623T060000Z
DTEND:20260623T190000Z
DTSTAMP:20260423T230031Z
UID:69eaa48f1d7d1
CATEGORIES:Odpady segregowane -tworzywa sztuczne i metale
LOCATION:Chojnów z wyjątkiem ul. Gościniec Warecki i Leśników Chojnów, Mazowieckie, PL
ORGANIZER;CN=WGO Gminy Piaseczno:MAILTO:go@piaseczno.eu
DESCRIPTION: Odbiór odpadów 
URL;VALUE=URI:https://odpady.piaseczno.eu/harmonogram-odbioru-odpadow/odbior/chojnow-jastrzebie-orzeszyn-pilawa-siedliska-zabieniec-metal-papier-plastik-tekstylia/
SUMMARY:Chojnów z wyjątkiem ul. Gościniec Warecki i Leśników\,  Orzeszyn\, Pilawa- Metale i tworzywa sztuczne
END:VEVENT
BEGIN:VEVENT
DTSTART:20260707T060000Z
DTEND:20260707T190000Z
DTSTAMP:20260423T230031Z
UID:69eaa48f1d7eb
CATEGORIES:Odpady segregowane -tworzywa sztuczne i metale
LOCATION:Chojnów z wyjątkiem ul. Gościniec Warecki i Leśników Chojnów, Mazowieckie, PL
ORGANIZER;CN=WGO Gminy Piaseczno:MAILTO:go@piaseczno.eu
DESCRIPTION: Odbiór odpadów 
URL;VALUE=URI:https://odpady.piaseczno.eu/harmonogram-odbioru-odpadow/odbior/chojnow-jastrzebie-orzeszyn-pilawa-siedliska-zabieniec-metal-papier-plastik-tekstylia/
SUMMARY:Chojnów z wyjątkiem ul. Gościniec Warecki i Leśników\,  Orzeszyn\, Pilawa- Metale i tworzywa sztuczne
END:VEVENT
BEGIN:VEVENT
DTSTART:20260721T060000Z
DTEND:20260721T190000Z
DTSTAMP:20260423T230031Z
UID:69eaa48f1d805
CATEGORIES:Odpady segregowane -tworzywa sztuczne i metale
LOCATION:Chojnów z wyjątkiem ul. Gościniec Warecki i Leśników Chojnów, Mazowieckie, PL
ORGANIZER;CN=WGO Gminy Piaseczno:MAILTO:go@piaseczno.eu
DESCRIPTION: Odbiór odpadów 
URL;VALUE=URI:https://odpady.piaseczno.eu/harmonogram-odbioru-odpadow/odbior/chojnow-jastrzebie-orzeszyn-pilawa-siedliska-zabieniec-metal-papier-plastik-tekstylia/
SUMMARY:Chojnów z wyjątkiem ul. Gościniec Warecki i Leśników\,  Orzeszyn\, Pilawa- Metale i tworzywa sztuczne
END:VEVENT
BEGIN:VEVENT
DTSTART:20260804T060000Z
DTEND:20260804T190000Z
DTSTAMP:20260423T230031Z
UID:69eaa48f1d820
CATEGORIES:Odpady segregowane -tworzywa sztuczne i metale
LOCATION:Chojnów z wyjątkiem ul. Gościniec Warecki i Leśników Chojnów, Mazowieckie, PL
ORGANIZER;CN=WGO Gminy Piaseczno:MAILTO:go@piaseczno.eu
DESCRIPTION: Odbiór odpadów 
URL;VALUE=URI:https://odpady.piaseczno.eu/harmonogram-odbioru-odpadow/odbior/chojnow-jastrzebie-orzeszyn-pilawa-siedliska-zabieniec-metal-papier-plastik-tekstylia/
SUMMARY:Chojnów z wyjątkiem ul. Gościniec Warecki i Leśników\,  Orzeszyn\, Pilawa- Metale i tworzywa sztuczne
END:VEVENT
BEGIN:VEVENT
DTSTART:20260818T060000Z
DTEND:20260818T190000Z
DTSTAMP:20260423T230031Z
UID:69eaa48f1d83d
CATEGORIES:Odpady segregowane -tworzywa sztuczne i metale
LOCATION:Chojnów z wyjątkiem ul. Gościniec Warecki i Leśników Chojnów, Mazowieckie, PL
ORGANIZER;CN=WGO Gminy Piaseczno:MAILTO:go@piaseczno.eu
DESCRIPTION: Odbiór odpadów 
URL;VALUE=URI:https://odpady.piaseczno.eu/harmonogram-odbioru-odpadow/odbior/chojnow-jastrzebie-orzeszyn-pilawa-siedliska-zabieniec-metal-papier-plastik-tekstylia/
SUMMARY:Chojnów z wyjątkiem ul. Gościniec Warecki i Leśników\,  Orzeszyn\, Pilawa- Metale i tworzywa sztuczne
END:VEVENT
BEGIN:VEVENT
DTSTART:20260901T060000Z
DTEND:20260901T190000Z
DTSTAMP:20260423T230031Z
UID:69eaa48f1d858
CATEGORIES:Odpady segregowane -tworzywa sztuczne i metale
LOCATION:Chojnów z wyjątkiem ul. Gościniec Warecki i Leśników Chojnów, Mazowieckie, PL
ORGANIZER;CN=WGO Gminy Piaseczno:MAILTO:go@piaseczno.eu
DESCRIPTION: Odbiór odpadów 
URL;VALUE=URI:https://odpady.piaseczno.eu/harmonogram-odbioru-odpadow/odbior/chojnow-jastrzebie-orzeszyn-pilawa-siedliska-zabieniec-metal-papier-plastik-tekstylia/
SUMMARY:Chojnów z wyjątkiem ul. Gościniec Warecki i Leśników\,  Orzeszyn\, Pilawa- Metale i tworzywa sztuczne
END:VEVENT
BEGIN:VEVENT
DTSTART:20260915T060000Z
DTEND:20260915T190000Z
DTSTAMP:20260423T230031Z
UID:69eaa48f1d873
CATEGORIES:Odpady segregowane -tworzywa sztuczne i metale
LOCATION:Chojnów z wyjątkiem ul. Gościniec Warecki i Leśników Chojnów, Mazowieckie, PL
ORGANIZER;CN=WGO Gminy Piaseczno:MAILTO:go@piaseczno.eu
DESCRIPTION: Odbiór odpadów 
URL;VALUE=URI:https://odpady.piaseczno.eu/harmonogram-odbioru-odpadow/odbior/chojnow-jastrzebie-orzeszyn-pilawa-siedliska-zabieniec-metal-papier-plastik-tekstylia/
SUMMARY:Chojnów z wyjątkiem ul. Gościniec Warecki i Leśników\,  Orzeszyn\, Pilawa- Metale i tworzywa sztuczne
END:VEVENT
BEGIN:VEVENT
DTSTART:20260929T060000Z
DTEND:20260929T190000Z
DTSTAMP:20260423T230031Z
UID:69eaa48f1d88d
CATEGORIES:Odpady segregowane -tworzywa sztuczne i metale
LOCATION:Chojnów z wyjątkiem ul. Gościniec Warecki i Leśników Chojnów, Mazowieckie, PL
ORGANIZER;CN=WGO Gminy Piaseczno:MAILTO:go@piaseczno.eu
DESCRIPTION: Odbiór odpadów 
URL;VALUE=URI:https://odpady.piaseczno.eu/harmonogram-odbioru-odpadow/odbior/chojnow-jastrzebie-orzeszyn-pilawa-siedliska-zabieniec-metal-papier-plastik-tekstylia/
SUMMARY:Chojnów z wyjątkiem ul. Gościniec Warecki i Leśników\,  Orzeszyn\, Pilawa- Metale i tworzywa sztuczne
END:VEVENT
BEGIN:VEVENT
DTSTART:20261013T060000Z
DTEND:20261013T190000Z
DTSTAMP:20260423T230031Z
UID:69eaa48f1d8a7
CATEGORIES:Odpady segregowane -tworzywa sztuczne i metale
LOCATION:Chojnów z wyjątkiem ul. Gościniec Warecki i Leśników Chojnów, Mazowieckie, PL
ORGANIZER;CN=WGO Gminy Piaseczno:MAILTO:go@piaseczno.eu
DESCRIPTION: Odbiór odpadów 
URL;VALUE=URI:https://odpady.piaseczno.eu/harmonogram-odbioru-odpadow/odbior/chojnow-jastrzebie-orzeszyn-pilawa-siedliska-zabieniec-metal-papier-plastik-tekstylia/
SUMMARY:Chojnów z wyjątkiem ul. Gościniec Warecki i Leśników\,  Orzeszyn\, Pilawa- Metale i tworzywa sztuczne
END:VEVENT
BEGIN:VEVENT
DTSTART:20261027T060000Z
DTEND:20261027T190000Z
DTSTAMP:20260423T230031Z
UID:69eaa48f1d8c1
CATEGORIES:Odpady segregowane -tworzywa sztuczne i metale
LOCATION:Chojnów z wyjątkiem ul. Gościniec Warecki i Leśników Chojnów, Mazowieckie, PL
ORGANIZER;CN=WGO Gminy Piaseczno:MAILTO:go@piaseczno.eu
DESCRIPTION: Odbiór odpadów 
URL;VALUE=URI:https://odpady.piaseczno.eu/harmonogram-odbioru-odpadow/odbior/chojnow-jastrzebie-orzeszyn-pilawa-siedliska-zabieniec-metal-papier-plastik-tekstylia/
SUMMARY:Chojnów z wyjątkiem ul. Gościniec Warecki i Leśników\,  Orzeszyn\, Pilawa- Metale i tworzywa sztuczne
END:VEVENT
BEGIN:VEVENT
DTSTART:20261110T060000Z
DTEND:20261110T190000Z
DTSTAMP:20260423T230031Z
UID:69eaa48f1d8db
CATEGORIES:Odpady segregowane -tworzywa sztuczne i metale
LOCATION:Chojnów z wyjątkiem ul. Gościniec Warecki i Leśników Chojnów, Mazowieckie, PL
ORGANIZER;CN=WGO Gminy Piaseczno:MAILTO:go@piaseczno.eu
DESCRIPTION: Odbiór odpadów 
URL;VALUE=URI:https://odpady.piaseczno.eu/harmonogram-odbioru-odpadow/odbior/chojnow-jastrzebie-orzeszyn-pilawa-siedliska-zabieniec-metal-papier-plastik-tekstylia/
SUMMARY:Chojnów z wyjątkiem ul. Gościniec Warecki i Leśników\,  Orzeszyn\, Pilawa- Metale i tworzywa sztuczne
END:VEVENT
BEGIN:VEVENT
DTSTART:20261124T060000Z
DTEND:20261124T190000Z
DTSTAMP:20260423T230031Z
UID:69eaa48f1d934
CATEGORIES:Odpady segregowane -tworzywa sztuczne i metale
LOCATION:Chojnów z wyjątkiem ul. Gościniec Warecki i Leśników Chojnów, Mazowieckie, PL
ORGANIZER;CN=WGO Gminy Piaseczno:MAILTO:go@piaseczno.eu
DESCRIPTION: Odbiór odpadów 
URL;VALUE=URI:https://odpady.piaseczno.eu/harmonogram-odbioru-odpadow/odbior/chojnow-jastrzebie-orzeszyn-pilawa-siedliska-zabieniec-metal-papier-plastik-tekstylia/
SUMMARY:Chojnów z wyjątkiem ul. Gościniec Warecki i Leśników\,  Orzeszyn\, Pilawa- Metale i tworzywa sztuczne
END:VEVENT
END:VCALENDAR
