BEGIN:VCALENDAR
VERSION:2.0
PRODID:-//DIGITAL FACTORY//EVENTS MAKER V1.6.12//EN
CALSCALE:GREGORIAN
METHOD:PUBLISH
BEGIN:VEVENT
DTSTART:20251124T060000Z
DTEND:20251124T190000Z
DTSTAMP:20260422T030557Z
UID:69e83b15a6a23
CATEGORIES:Odpady zmieszane
LOCATION:Bobrowiec z wyjątkiem ul. Bażancia, Bobrowiecka, Główna (55-71 oraz 80-80b), Kormoranów, Orla, Puszczyka, Sowia, Skrajna, Sójki, Wilgi Bobrowiec, Mazowieckie
ORGANIZER;CN=WGO Gminy Piaseczno:MAILTO:go@piaseczno.eu
DESCRIPTION: Odbiór odpadów 
URL;VALUE=URI:https://odpady.piaseczno.eu/harmonogram-odbioru-odpadow/odbior/bobrowiec-odpady-zmieszane/
SUMMARY:Bobrowiec z wyjątkiem ulic: Bażancia\, Bobrowiecka\, Główna (od nr 55 do 71 oraz od nr 80 do 80b)\, Kormoranów\, Orla\, Puszczyka\, Sowia\, Skrajna\, Sójki\, Wilgi - Odpady zmieszane
END:VEVENT
BEGIN:VEVENT
DTSTART:20251208T060000Z
DTEND:20251208T190000Z
DTSTAMP:20260422T030557Z
UID:69e83b15a6b17
CATEGORIES:Odpady zmieszane
LOCATION:Bobrowiec z wyjątkiem ul. Bażancia, Bobrowiecka, Główna (55-71 oraz 80-80b), Kormoranów, Orla, Puszczyka, Sowia, Skrajna, Sójki, Wilgi Bobrowiec, Mazowieckie
ORGANIZER;CN=WGO Gminy Piaseczno:MAILTO:go@piaseczno.eu
DESCRIPTION: Odbiór odpadów 
URL;VALUE=URI:https://odpady.piaseczno.eu/harmonogram-odbioru-odpadow/odbior/bobrowiec-odpady-zmieszane/
SUMMARY:Bobrowiec z wyjątkiem ulic: Bażancia\, Bobrowiecka\, Główna (od nr 55 do 71 oraz od nr 80 do 80b)\, Kormoranów\, Orla\, Puszczyka\, Sowia\, Skrajna\, Sójki\, Wilgi - Odpady zmieszane
END:VEVENT
BEGIN:VEVENT
DTSTART:20251220T060000Z
DTEND:20251220T190000Z
DTSTAMP:20260422T030557Z
UID:69e83b15a6b7c
CATEGORIES:Odpady zmieszane
LOCATION:Bobrowiec z wyjątkiem ul. Bażancia, Bobrowiecka, Główna (55-71 oraz 80-80b), Kormoranów, Orla, Puszczyka, Sowia, Skrajna, Sójki, Wilgi Bobrowiec, Mazowieckie
ORGANIZER;CN=WGO Gminy Piaseczno:MAILTO:go@piaseczno.eu
DESCRIPTION: Odbiór odpadów 
URL;VALUE=URI:https://odpady.piaseczno.eu/harmonogram-odbioru-odpadow/odbior/bobrowiec-odpady-zmieszane/
SUMMARY:Bobrowiec z wyjątkiem ulic: Bażancia\, Bobrowiecka\, Główna (od nr 55 do 71 oraz od nr 80 do 80b)\, Kormoranów\, Orla\, Puszczyka\, Sowia\, Skrajna\, Sójki\, Wilgi - Odpady zmieszane
END:VEVENT
BEGIN:VEVENT
DTSTART:20260105T060000Z
DTEND:20260105T190000Z
DTSTAMP:20260422T030557Z
UID:69e83b15a6ba4
CATEGORIES:Odpady zmieszane
LOCATION:Bobrowiec z wyjątkiem ul. Bażancia, Bobrowiecka, Główna (55-71 oraz 80-80b), Kormoranów, Orla, Puszczyka, Sowia, Skrajna, Sójki, Wilgi Bobrowiec, Mazowieckie
ORGANIZER;CN=WGO Gminy Piaseczno:MAILTO:go@piaseczno.eu
DESCRIPTION: Odbiór odpadów 
URL;VALUE=URI:https://odpady.piaseczno.eu/harmonogram-odbioru-odpadow/odbior/bobrowiec-odpady-zmieszane/
SUMMARY:Bobrowiec z wyjątkiem ulic: Bażancia\, Bobrowiecka\, Główna (od nr 55 do 71 oraz od nr 80 do 80b)\, Kormoranów\, Orla\, Puszczyka\, Sowia\, Skrajna\, Sójki\, Wilgi - Odpady zmieszane
END:VEVENT
BEGIN:VEVENT
DTSTART:20260119T060000Z
DTEND:20260119T190000Z
DTSTAMP:20260422T030557Z
UID:69e83b15a6bc5
CATEGORIES:Odpady zmieszane
LOCATION:Bobrowiec z wyjątkiem ul. Bażancia, Bobrowiecka, Główna (55-71 oraz 80-80b), Kormoranów, Orla, Puszczyka, Sowia, Skrajna, Sójki, Wilgi Bobrowiec, Mazowieckie
ORGANIZER;CN=WGO Gminy Piaseczno:MAILTO:go@piaseczno.eu
DESCRIPTION: Odbiór odpadów 
URL;VALUE=URI:https://odpady.piaseczno.eu/harmonogram-odbioru-odpadow/odbior/bobrowiec-odpady-zmieszane/
SUMMARY:Bobrowiec z wyjątkiem ulic: Bażancia\, Bobrowiecka\, Główna (od nr 55 do 71 oraz od nr 80 do 80b)\, Kormoranów\, Orla\, Puszczyka\, Sowia\, Skrajna\, Sójki\, Wilgi - Odpady zmieszane
END:VEVENT
BEGIN:VEVENT
DTSTART:20260202T060000Z
DTEND:20260202T190000Z
DTSTAMP:20260422T030557Z
UID:69e83b15a6be4
CATEGORIES:Odpady zmieszane
LOCATION:Bobrowiec z wyjątkiem ul. Bażancia, Bobrowiecka, Główna (55-71 oraz 80-80b), Kormoranów, Orla, Puszczyka, Sowia, Skrajna, Sójki, Wilgi Bobrowiec, Mazowieckie
ORGANIZER;CN=WGO Gminy Piaseczno:MAILTO:go@piaseczno.eu
DESCRIPTION: Odbiór odpadów 
URL;VALUE=URI:https://odpady.piaseczno.eu/harmonogram-odbioru-odpadow/odbior/bobrowiec-odpady-zmieszane/
SUMMARY:Bobrowiec z wyjątkiem ulic: Bażancia\, Bobrowiecka\, Główna (od nr 55 do 71 oraz od nr 80 do 80b)\, Kormoranów\, Orla\, Puszczyka\, Sowia\, Skrajna\, Sójki\, Wilgi - Odpady zmieszane
END:VEVENT
BEGIN:VEVENT
DTSTART:20260216T060000Z
DTEND:20260216T190000Z
DTSTAMP:20260422T030557Z
UID:69e83b15a6c08
CATEGORIES:Odpady zmieszane
LOCATION:Bobrowiec z wyjątkiem ul. Bażancia, Bobrowiecka, Główna (55-71 oraz 80-80b), Kormoranów, Orla, Puszczyka, Sowia, Skrajna, Sójki, Wilgi Bobrowiec, Mazowieckie
ORGANIZER;CN=WGO Gminy Piaseczno:MAILTO:go@piaseczno.eu
DESCRIPTION: Odbiór odpadów 
URL;VALUE=URI:https://odpady.piaseczno.eu/harmonogram-odbioru-odpadow/odbior/bobrowiec-odpady-zmieszane/
SUMMARY:Bobrowiec z wyjątkiem ulic: Bażancia\, Bobrowiecka\, Główna (od nr 55 do 71 oraz od nr 80 do 80b)\, Kormoranów\, Orla\, Puszczyka\, Sowia\, Skrajna\, Sójki\, Wilgi - Odpady zmieszane
END:VEVENT
BEGIN:VEVENT
DTSTART:20260302T060000Z
DTEND:20260302T190000Z
DTSTAMP:20260422T030557Z
UID:69e83b15a6c25
CATEGORIES:Odpady zmieszane
LOCATION:Bobrowiec z wyjątkiem ul. Bażancia, Bobrowiecka, Główna (55-71 oraz 80-80b), Kormoranów, Orla, Puszczyka, Sowia, Skrajna, Sójki, Wilgi Bobrowiec, Mazowieckie
ORGANIZER;CN=WGO Gminy Piaseczno:MAILTO:go@piaseczno.eu
DESCRIPTION: Odbiór odpadów 
URL;VALUE=URI:https://odpady.piaseczno.eu/harmonogram-odbioru-odpadow/odbior/bobrowiec-odpady-zmieszane/
SUMMARY:Bobrowiec z wyjątkiem ulic: Bażancia\, Bobrowiecka\, Główna (od nr 55 do 71 oraz od nr 80 do 80b)\, Kormoranów\, Orla\, Puszczyka\, Sowia\, Skrajna\, Sójki\, Wilgi - Odpady zmieszane
END:VEVENT
BEGIN:VEVENT
DTSTART:20260316T060000Z
DTEND:20260316T190000Z
DTSTAMP:20260422T030557Z
UID:69e83b15a6c42
CATEGORIES:Odpady zmieszane
LOCATION:Bobrowiec z wyjątkiem ul. Bażancia, Bobrowiecka, Główna (55-71 oraz 80-80b), Kormoranów, Orla, Puszczyka, Sowia, Skrajna, Sójki, Wilgi Bobrowiec, Mazowieckie
ORGANIZER;CN=WGO Gminy Piaseczno:MAILTO:go@piaseczno.eu
DESCRIPTION: Odbiór odpadów 
URL;VALUE=URI:https://odpady.piaseczno.eu/harmonogram-odbioru-odpadow/odbior/bobrowiec-odpady-zmieszane/
SUMMARY:Bobrowiec z wyjątkiem ulic: Bażancia\, Bobrowiecka\, Główna (od nr 55 do 71 oraz od nr 80 do 80b)\, Kormoranów\, Orla\, Puszczyka\, Sowia\, Skrajna\, Sójki\, Wilgi - Odpady zmieszane
END:VEVENT
BEGIN:VEVENT
DTSTART:20260330T060000Z
DTEND:20260330T190000Z
DTSTAMP:20260422T030557Z
UID:69e83b15a6c5f
CATEGORIES:Odpady zmieszane
LOCATION:Bobrowiec z wyjątkiem ul. Bażancia, Bobrowiecka, Główna (55-71 oraz 80-80b), Kormoranów, Orla, Puszczyka, Sowia, Skrajna, Sójki, Wilgi Bobrowiec, Mazowieckie
ORGANIZER;CN=WGO Gminy Piaseczno:MAILTO:go@piaseczno.eu
DESCRIPTION: Odbiór odpadów 
URL;VALUE=URI:https://odpady.piaseczno.eu/harmonogram-odbioru-odpadow/odbior/bobrowiec-odpady-zmieszane/
SUMMARY:Bobrowiec z wyjątkiem ulic: Bażancia\, Bobrowiecka\, Główna (od nr 55 do 71 oraz od nr 80 do 80b)\, Kormoranów\, Orla\, Puszczyka\, Sowia\, Skrajna\, Sójki\, Wilgi - Odpady zmieszane
END:VEVENT
BEGIN:VEVENT
DTSTART:20260413T060000Z
DTEND:20260413T190000Z
DTSTAMP:20260422T030557Z
UID:69e83b15a6c83
CATEGORIES:Odpady zmieszane
LOCATION:Bobrowiec z wyjątkiem ul. Bażancia, Bobrowiecka, Główna (55-71 oraz 80-80b), Kormoranów, Orla, Puszczyka, Sowia, Skrajna, Sójki, Wilgi Bobrowiec, Mazowieckie
ORGANIZER;CN=WGO Gminy Piaseczno:MAILTO:go@piaseczno.eu
DESCRIPTION: Odbiór odpadów 
URL;VALUE=URI:https://odpady.piaseczno.eu/harmonogram-odbioru-odpadow/odbior/bobrowiec-odpady-zmieszane/
SUMMARY:Bobrowiec z wyjątkiem ulic: Bażancia\, Bobrowiecka\, Główna (od nr 55 do 71 oraz od nr 80 do 80b)\, Kormoranów\, Orla\, Puszczyka\, Sowia\, Skrajna\, Sójki\, Wilgi - Odpady zmieszane
END:VEVENT
BEGIN:VEVENT
DTSTART:20260427T060000Z
DTEND:20260427T190000Z
DTSTAMP:20260422T030557Z
UID:69e83b15a6ca1
CATEGORIES:Odpady zmieszane
LOCATION:Bobrowiec z wyjątkiem ul. Bażancia, Bobrowiecka, Główna (55-71 oraz 80-80b), Kormoranów, Orla, Puszczyka, Sowia, Skrajna, Sójki, Wilgi Bobrowiec, Mazowieckie
ORGANIZER;CN=WGO Gminy Piaseczno:MAILTO:go@piaseczno.eu
DESCRIPTION: Odbiór odpadów 
URL;VALUE=URI:https://odpady.piaseczno.eu/harmonogram-odbioru-odpadow/odbior/bobrowiec-odpady-zmieszane/
SUMMARY:Bobrowiec z wyjątkiem ulic: Bażancia\, Bobrowiecka\, Główna (od nr 55 do 71 oraz od nr 80 do 80b)\, Kormoranów\, Orla\, Puszczyka\, Sowia\, Skrajna\, Sójki\, Wilgi - Odpady zmieszane
END:VEVENT
BEGIN:VEVENT
DTSTART:20260511T060000Z
DTEND:20260511T190000Z
DTSTAMP:20260422T030557Z
UID:69e83b15a6ce7
CATEGORIES:Odpady zmieszane
LOCATION:Bobrowiec z wyjątkiem ul. Bażancia, Bobrowiecka, Główna (55-71 oraz 80-80b), Kormoranów, Orla, Puszczyka, Sowia, Skrajna, Sójki, Wilgi Bobrowiec, Mazowieckie
ORGANIZER;CN=WGO Gminy Piaseczno:MAILTO:go@piaseczno.eu
DESCRIPTION: Odbiór odpadów 
URL;VALUE=URI:https://odpady.piaseczno.eu/harmonogram-odbioru-odpadow/odbior/bobrowiec-odpady-zmieszane/
SUMMARY:Bobrowiec z wyjątkiem ulic: Bażancia\, Bobrowiecka\, Główna (od nr 55 do 71 oraz od nr 80 do 80b)\, Kormoranów\, Orla\, Puszczyka\, Sowia\, Skrajna\, Sójki\, Wilgi - Odpady zmieszane
END:VEVENT
BEGIN:VEVENT
DTSTART:20260525T060000Z
DTEND:20260525T190000Z
DTSTAMP:20260422T030557Z
UID:69e83b15a6d11
CATEGORIES:Odpady zmieszane
LOCATION:Bobrowiec z wyjątkiem ul. Bażancia, Bobrowiecka, Główna (55-71 oraz 80-80b), Kormoranów, Orla, Puszczyka, Sowia, Skrajna, Sójki, Wilgi Bobrowiec, Mazowieckie
ORGANIZER;CN=WGO Gminy Piaseczno:MAILTO:go@piaseczno.eu
DESCRIPTION: Odbiór odpadów 
URL;VALUE=URI:https://odpady.piaseczno.eu/harmonogram-odbioru-odpadow/odbior/bobrowiec-odpady-zmieszane/
SUMMARY:Bobrowiec z wyjątkiem ulic: Bażancia\, Bobrowiecka\, Główna (od nr 55 do 71 oraz od nr 80 do 80b)\, Kormoranów\, Orla\, Puszczyka\, Sowia\, Skrajna\, Sójki\, Wilgi - Odpady zmieszane
END:VEVENT
BEGIN:VEVENT
DTSTART:20260601T060000Z
DTEND:20260601T190000Z
DTSTAMP:20260422T030557Z
UID:69e83b15a6d2d
CATEGORIES:Odpady zmieszane
LOCATION:Bobrowiec z wyjątkiem ul. Bażancia, Bobrowiecka, Główna (55-71 oraz 80-80b), Kormoranów, Orla, Puszczyka, Sowia, Skrajna, Sójki, Wilgi Bobrowiec, Mazowieckie
ORGANIZER;CN=WGO Gminy Piaseczno:MAILTO:go@piaseczno.eu
DESCRIPTION: Odbiór odpadów 
URL;VALUE=URI:https://odpady.piaseczno.eu/harmonogram-odbioru-odpadow/odbior/bobrowiec-odpady-zmieszane/
SUMMARY:Bobrowiec z wyjątkiem ulic: Bażancia\, Bobrowiecka\, Główna (od nr 55 do 71 oraz od nr 80 do 80b)\, Kormoranów\, Orla\, Puszczyka\, Sowia\, Skrajna\, Sójki\, Wilgi - Odpady zmieszane
END:VEVENT
BEGIN:VEVENT
DTSTART:20260608T060000Z
DTEND:20260608T190000Z
DTSTAMP:20260422T030557Z
UID:69e83b15a6d49
CATEGORIES:Odpady zmieszane
LOCATION:Bobrowiec z wyjątkiem ul. Bażancia, Bobrowiecka, Główna (55-71 oraz 80-80b), Kormoranów, Orla, Puszczyka, Sowia, Skrajna, Sójki, Wilgi Bobrowiec, Mazowieckie
ORGANIZER;CN=WGO Gminy Piaseczno:MAILTO:go@piaseczno.eu
DESCRIPTION: Odbiór odpadów 
URL;VALUE=URI:https://odpady.piaseczno.eu/harmonogram-odbioru-odpadow/odbior/bobrowiec-odpady-zmieszane/
SUMMARY:Bobrowiec z wyjątkiem ulic: Bażancia\, Bobrowiecka\, Główna (od nr 55 do 71 oraz od nr 80 do 80b)\, Kormoranów\, Orla\, Puszczyka\, Sowia\, Skrajna\, Sójki\, Wilgi - Odpady zmieszane
END:VEVENT
BEGIN:VEVENT
DTSTART:20260615T060000Z
DTEND:20260615T190000Z
DTSTAMP:20260422T030557Z
UID:69e83b15a6d64
CATEGORIES:Odpady zmieszane
LOCATION:Bobrowiec z wyjątkiem ul. Bażancia, Bobrowiecka, Główna (55-71 oraz 80-80b), Kormoranów, Orla, Puszczyka, Sowia, Skrajna, Sójki, Wilgi Bobrowiec, Mazowieckie
ORGANIZER;CN=WGO Gminy Piaseczno:MAILTO:go@piaseczno.eu
DESCRIPTION: Odbiór odpadów 
URL;VALUE=URI:https://odpady.piaseczno.eu/harmonogram-odbioru-odpadow/odbior/bobrowiec-odpady-zmieszane/
SUMMARY:Bobrowiec z wyjątkiem ulic: Bażancia\, Bobrowiecka\, Główna (od nr 55 do 71 oraz od nr 80 do 80b)\, Kormoranów\, Orla\, Puszczyka\, Sowia\, Skrajna\, Sójki\, Wilgi - Odpady zmieszane
END:VEVENT
BEGIN:VEVENT
DTSTART:20260622T060000Z
DTEND:20260622T190000Z
DTSTAMP:20260422T030557Z
UID:69e83b15a6d83
CATEGORIES:Odpady zmieszane
LOCATION:Bobrowiec z wyjątkiem ul. Bażancia, Bobrowiecka, Główna (55-71 oraz 80-80b), Kormoranów, Orla, Puszczyka, Sowia, Skrajna, Sójki, Wilgi Bobrowiec, Mazowieckie
ORGANIZER;CN=WGO Gminy Piaseczno:MAILTO:go@piaseczno.eu
DESCRIPTION: Odbiór odpadów 
URL;VALUE=URI:https://odpady.piaseczno.eu/harmonogram-odbioru-odpadow/odbior/bobrowiec-odpady-zmieszane/
SUMMARY:Bobrowiec z wyjątkiem ulic: Bażancia\, Bobrowiecka\, Główna (od nr 55 do 71 oraz od nr 80 do 80b)\, Kormoranów\, Orla\, Puszczyka\, Sowia\, Skrajna\, Sójki\, Wilgi - Odpady zmieszane
END:VEVENT
BEGIN:VEVENT
DTSTART:20260629T060000Z
DTEND:20260629T190000Z
DTSTAMP:20260422T030557Z
UID:69e83b15a6d9f
CATEGORIES:Odpady zmieszane
LOCATION:Bobrowiec z wyjątkiem ul. Bażancia, Bobrowiecka, Główna (55-71 oraz 80-80b), Kormoranów, Orla, Puszczyka, Sowia, Skrajna, Sójki, Wilgi Bobrowiec, Mazowieckie
ORGANIZER;CN=WGO Gminy Piaseczno:MAILTO:go@piaseczno.eu
DESCRIPTION: Odbiór odpadów 
URL;VALUE=URI:https://odpady.piaseczno.eu/harmonogram-odbioru-odpadow/odbior/bobrowiec-odpady-zmieszane/
SUMMARY:Bobrowiec z wyjątkiem ulic: Bażancia\, Bobrowiecka\, Główna (od nr 55 do 71 oraz od nr 80 do 80b)\, Kormoranów\, Orla\, Puszczyka\, Sowia\, Skrajna\, Sójki\, Wilgi - Odpady zmieszane
END:VEVENT
BEGIN:VEVENT
DTSTART:20260706T060000Z
DTEND:20260706T190000Z
DTSTAMP:20260422T030557Z
UID:69e83b15a6dbb
CATEGORIES:Odpady zmieszane
LOCATION:Bobrowiec z wyjątkiem ul. Bażancia, Bobrowiecka, Główna (55-71 oraz 80-80b), Kormoranów, Orla, Puszczyka, Sowia, Skrajna, Sójki, Wilgi Bobrowiec, Mazowieckie
ORGANIZER;CN=WGO Gminy Piaseczno:MAILTO:go@piaseczno.eu
DESCRIPTION: Odbiór odpadów 
URL;VALUE=URI:https://odpady.piaseczno.eu/harmonogram-odbioru-odpadow/odbior/bobrowiec-odpady-zmieszane/
SUMMARY:Bobrowiec z wyjątkiem ulic: Bażancia\, Bobrowiecka\, Główna (od nr 55 do 71 oraz od nr 80 do 80b)\, Kormoranów\, Orla\, Puszczyka\, Sowia\, Skrajna\, Sójki\, Wilgi - Odpady zmieszane
END:VEVENT
BEGIN:VEVENT
DTSTART:20260713T060000Z
DTEND:20260713T190000Z
DTSTAMP:20260422T030557Z
UID:69e83b15a6dd7
CATEGORIES:Odpady zmieszane
LOCATION:Bobrowiec z wyjątkiem ul. Bażancia, Bobrowiecka, Główna (55-71 oraz 80-80b), Kormoranów, Orla, Puszczyka, Sowia, Skrajna, Sójki, Wilgi Bobrowiec, Mazowieckie
ORGANIZER;CN=WGO Gminy Piaseczno:MAILTO:go@piaseczno.eu
DESCRIPTION: Odbiór odpadów 
URL;VALUE=URI:https://odpady.piaseczno.eu/harmonogram-odbioru-odpadow/odbior/bobrowiec-odpady-zmieszane/
SUMMARY:Bobrowiec z wyjątkiem ulic: Bażancia\, Bobrowiecka\, Główna (od nr 55 do 71 oraz od nr 80 do 80b)\, Kormoranów\, Orla\, Puszczyka\, Sowia\, Skrajna\, Sójki\, Wilgi - Odpady zmieszane
END:VEVENT
BEGIN:VEVENT
DTSTART:20260720T060000Z
DTEND:20260720T190000Z
DTSTAMP:20260422T030557Z
UID:69e83b15a6df3
CATEGORIES:Odpady zmieszane
LOCATION:Bobrowiec z wyjątkiem ul. Bażancia, Bobrowiecka, Główna (55-71 oraz 80-80b), Kormoranów, Orla, Puszczyka, Sowia, Skrajna, Sójki, Wilgi Bobrowiec, Mazowieckie
ORGANIZER;CN=WGO Gminy Piaseczno:MAILTO:go@piaseczno.eu
DESCRIPTION: Odbiór odpadów 
URL;VALUE=URI:https://odpady.piaseczno.eu/harmonogram-odbioru-odpadow/odbior/bobrowiec-odpady-zmieszane/
SUMMARY:Bobrowiec z wyjątkiem ulic: Bażancia\, Bobrowiecka\, Główna (od nr 55 do 71 oraz od nr 80 do 80b)\, Kormoranów\, Orla\, Puszczyka\, Sowia\, Skrajna\, Sójki\, Wilgi - Odpady zmieszane
END:VEVENT
BEGIN:VEVENT
DTSTART:20260727T060000Z
DTEND:20260727T190000Z
DTSTAMP:20260422T030557Z
UID:69e83b15a6e0f
CATEGORIES:Odpady zmieszane
LOCATION:Bobrowiec z wyjątkiem ul. Bażancia, Bobrowiecka, Główna (55-71 oraz 80-80b), Kormoranów, Orla, Puszczyka, Sowia, Skrajna, Sójki, Wilgi Bobrowiec, Mazowieckie
ORGANIZER;CN=WGO Gminy Piaseczno:MAILTO:go@piaseczno.eu
DESCRIPTION: Odbiór odpadów 
URL;VALUE=URI:https://odpady.piaseczno.eu/harmonogram-odbioru-odpadow/odbior/bobrowiec-odpady-zmieszane/
SUMMARY:Bobrowiec z wyjątkiem ulic: Bażancia\, Bobrowiecka\, Główna (od nr 55 do 71 oraz od nr 80 do 80b)\, Kormoranów\, Orla\, Puszczyka\, Sowia\, Skrajna\, Sójki\, Wilgi - Odpady zmieszane
END:VEVENT
BEGIN:VEVENT
DTSTART:20260803T060000Z
DTEND:20260803T190000Z
DTSTAMP:20260422T030557Z
UID:69e83b15a6e2e
CATEGORIES:Odpady zmieszane
LOCATION:Bobrowiec z wyjątkiem ul. Bażancia, Bobrowiecka, Główna (55-71 oraz 80-80b), Kormoranów, Orla, Puszczyka, Sowia, Skrajna, Sójki, Wilgi Bobrowiec, Mazowieckie
ORGANIZER;CN=WGO Gminy Piaseczno:MAILTO:go@piaseczno.eu
DESCRIPTION: Odbiór odpadów 
URL;VALUE=URI:https://odpady.piaseczno.eu/harmonogram-odbioru-odpadow/odbior/bobrowiec-odpady-zmieszane/
SUMMARY:Bobrowiec z wyjątkiem ulic: Bażancia\, Bobrowiecka\, Główna (od nr 55 do 71 oraz od nr 80 do 80b)\, Kormoranów\, Orla\, Puszczyka\, Sowia\, Skrajna\, Sójki\, Wilgi - Odpady zmieszane
END:VEVENT
BEGIN:VEVENT
DTSTART:20260810T060000Z
DTEND:20260810T190000Z
DTSTAMP:20260422T030557Z
UID:69e83b15a6e4a
CATEGORIES:Odpady zmieszane
LOCATION:Bobrowiec z wyjątkiem ul. Bażancia, Bobrowiecka, Główna (55-71 oraz 80-80b), Kormoranów, Orla, Puszczyka, Sowia, Skrajna, Sójki, Wilgi Bobrowiec, Mazowieckie
ORGANIZER;CN=WGO Gminy Piaseczno:MAILTO:go@piaseczno.eu
DESCRIPTION: Odbiór odpadów 
URL;VALUE=URI:https://odpady.piaseczno.eu/harmonogram-odbioru-odpadow/odbior/bobrowiec-odpady-zmieszane/
SUMMARY:Bobrowiec z wyjątkiem ulic: Bażancia\, Bobrowiecka\, Główna (od nr 55 do 71 oraz od nr 80 do 80b)\, Kormoranów\, Orla\, Puszczyka\, Sowia\, Skrajna\, Sójki\, Wilgi - Odpady zmieszane
END:VEVENT
BEGIN:VEVENT
DTSTART:20260817T060000Z
DTEND:20260817T190000Z
DTSTAMP:20260422T030557Z
UID:69e83b15a6e66
CATEGORIES:Odpady zmieszane
LOCATION:Bobrowiec z wyjątkiem ul. Bażancia, Bobrowiecka, Główna (55-71 oraz 80-80b), Kormoranów, Orla, Puszczyka, Sowia, Skrajna, Sójki, Wilgi Bobrowiec, Mazowieckie
ORGANIZER;CN=WGO Gminy Piaseczno:MAILTO:go@piaseczno.eu
DESCRIPTION: Odbiór odpadów 
URL;VALUE=URI:https://odpady.piaseczno.eu/harmonogram-odbioru-odpadow/odbior/bobrowiec-odpady-zmieszane/
SUMMARY:Bobrowiec z wyjątkiem ulic: Bażancia\, Bobrowiecka\, Główna (od nr 55 do 71 oraz od nr 80 do 80b)\, Kormoranów\, Orla\, Puszczyka\, Sowia\, Skrajna\, Sójki\, Wilgi - Odpady zmieszane
END:VEVENT
BEGIN:VEVENT
DTSTART:20260824T060000Z
DTEND:20260824T190000Z
DTSTAMP:20260422T030557Z
UID:69e83b15a6e82
CATEGORIES:Odpady zmieszane
LOCATION:Bobrowiec z wyjątkiem ul. Bażancia, Bobrowiecka, Główna (55-71 oraz 80-80b), Kormoranów, Orla, Puszczyka, Sowia, Skrajna, Sójki, Wilgi Bobrowiec, Mazowieckie
ORGANIZER;CN=WGO Gminy Piaseczno:MAILTO:go@piaseczno.eu
DESCRIPTION: Odbiór odpadów 
URL;VALUE=URI:https://odpady.piaseczno.eu/harmonogram-odbioru-odpadow/odbior/bobrowiec-odpady-zmieszane/
SUMMARY:Bobrowiec z wyjątkiem ulic: Bażancia\, Bobrowiecka\, Główna (od nr 55 do 71 oraz od nr 80 do 80b)\, Kormoranów\, Orla\, Puszczyka\, Sowia\, Skrajna\, Sójki\, Wilgi - Odpady zmieszane
END:VEVENT
BEGIN:VEVENT
DTSTART:20260831T060000Z
DTEND:20260831T190000Z
DTSTAMP:20260422T030557Z
UID:69e83b15a6e9e
CATEGORIES:Odpady zmieszane
LOCATION:Bobrowiec z wyjątkiem ul. Bażancia, Bobrowiecka, Główna (55-71 oraz 80-80b), Kormoranów, Orla, Puszczyka, Sowia, Skrajna, Sójki, Wilgi Bobrowiec, Mazowieckie
ORGANIZER;CN=WGO Gminy Piaseczno:MAILTO:go@piaseczno.eu
DESCRIPTION: Odbiór odpadów 
URL;VALUE=URI:https://odpady.piaseczno.eu/harmonogram-odbioru-odpadow/odbior/bobrowiec-odpady-zmieszane/
SUMMARY:Bobrowiec z wyjątkiem ulic: Bażancia\, Bobrowiecka\, Główna (od nr 55 do 71 oraz od nr 80 do 80b)\, Kormoranów\, Orla\, Puszczyka\, Sowia\, Skrajna\, Sójki\, Wilgi - Odpady zmieszane
END:VEVENT
BEGIN:VEVENT
DTSTART:20260914T060000Z
DTEND:20260914T190000Z
DTSTAMP:20260422T030557Z
UID:69e83b15a6eba
CATEGORIES:Odpady zmieszane
LOCATION:Bobrowiec z wyjątkiem ul. Bażancia, Bobrowiecka, Główna (55-71 oraz 80-80b), Kormoranów, Orla, Puszczyka, Sowia, Skrajna, Sójki, Wilgi Bobrowiec, Mazowieckie
ORGANIZER;CN=WGO Gminy Piaseczno:MAILTO:go@piaseczno.eu
DESCRIPTION: Odbiór odpadów 
URL;VALUE=URI:https://odpady.piaseczno.eu/harmonogram-odbioru-odpadow/odbior/bobrowiec-odpady-zmieszane/
SUMMARY:Bobrowiec z wyjątkiem ulic: Bażancia\, Bobrowiecka\, Główna (od nr 55 do 71 oraz od nr 80 do 80b)\, Kormoranów\, Orla\, Puszczyka\, Sowia\, Skrajna\, Sójki\, Wilgi - Odpady zmieszane
END:VEVENT
BEGIN:VEVENT
DTSTART:20260928T060000Z
DTEND:20260928T190000Z
DTSTAMP:20260422T030557Z
UID:69e83b15a6ed9
CATEGORIES:Odpady zmieszane
LOCATION:Bobrowiec z wyjątkiem ul. Bażancia, Bobrowiecka, Główna (55-71 oraz 80-80b), Kormoranów, Orla, Puszczyka, Sowia, Skrajna, Sójki, Wilgi Bobrowiec, Mazowieckie
ORGANIZER;CN=WGO Gminy Piaseczno:MAILTO:go@piaseczno.eu
DESCRIPTION: Odbiór odpadów 
URL;VALUE=URI:https://odpady.piaseczno.eu/harmonogram-odbioru-odpadow/odbior/bobrowiec-odpady-zmieszane/
SUMMARY:Bobrowiec z wyjątkiem ulic: Bażancia\, Bobrowiecka\, Główna (od nr 55 do 71 oraz od nr 80 do 80b)\, Kormoranów\, Orla\, Puszczyka\, Sowia\, Skrajna\, Sójki\, Wilgi - Odpady zmieszane
END:VEVENT
BEGIN:VEVENT
DTSTART:20261012T060000Z
DTEND:20261012T190000Z
DTSTAMP:20260422T030557Z
UID:69e83b15a6ef5
CATEGORIES:Odpady zmieszane
LOCATION:Bobrowiec z wyjątkiem ul. Bażancia, Bobrowiecka, Główna (55-71 oraz 80-80b), Kormoranów, Orla, Puszczyka, Sowia, Skrajna, Sójki, Wilgi Bobrowiec, Mazowieckie
ORGANIZER;CN=WGO Gminy Piaseczno:MAILTO:go@piaseczno.eu
DESCRIPTION: Odbiór odpadów 
URL;VALUE=URI:https://odpady.piaseczno.eu/harmonogram-odbioru-odpadow/odbior/bobrowiec-odpady-zmieszane/
SUMMARY:Bobrowiec z wyjątkiem ulic: Bażancia\, Bobrowiecka\, Główna (od nr 55 do 71 oraz od nr 80 do 80b)\, Kormoranów\, Orla\, Puszczyka\, Sowia\, Skrajna\, Sójki\, Wilgi - Odpady zmieszane
END:VEVENT
BEGIN:VEVENT
DTSTART:20261026T060000Z
DTEND:20261026T190000Z
DTSTAMP:20260422T030557Z
UID:69e83b15a6f11
CATEGORIES:Odpady zmieszane
LOCATION:Bobrowiec z wyjątkiem ul. Bażancia, Bobrowiecka, Główna (55-71 oraz 80-80b), Kormoranów, Orla, Puszczyka, Sowia, Skrajna, Sójki, Wilgi Bobrowiec, Mazowieckie
ORGANIZER;CN=WGO Gminy Piaseczno:MAILTO:go@piaseczno.eu
DESCRIPTION: Odbiór odpadów 
URL;VALUE=URI:https://odpady.piaseczno.eu/harmonogram-odbioru-odpadow/odbior/bobrowiec-odpady-zmieszane/
SUMMARY:Bobrowiec z wyjątkiem ulic: Bażancia\, Bobrowiecka\, Główna (od nr 55 do 71 oraz od nr 80 do 80b)\, Kormoranów\, Orla\, Puszczyka\, Sowia\, Skrajna\, Sójki\, Wilgi - Odpady zmieszane
END:VEVENT
BEGIN:VEVENT
DTSTART:20261109T060000Z
DTEND:20261109T190000Z
DTSTAMP:20260422T030557Z
UID:69e83b15a6f2d
CATEGORIES:Odpady zmieszane
LOCATION:Bobrowiec z wyjątkiem ul. Bażancia, Bobrowiecka, Główna (55-71 oraz 80-80b), Kormoranów, Orla, Puszczyka, Sowia, Skrajna, Sójki, Wilgi Bobrowiec, Mazowieckie
ORGANIZER;CN=WGO Gminy Piaseczno:MAILTO:go@piaseczno.eu
DESCRIPTION: Odbiór odpadów 
URL;VALUE=URI:https://odpady.piaseczno.eu/harmonogram-odbioru-odpadow/odbior/bobrowiec-odpady-zmieszane/
SUMMARY:Bobrowiec z wyjątkiem ulic: Bażancia\, Bobrowiecka\, Główna (od nr 55 do 71 oraz od nr 80 do 80b)\, Kormoranów\, Orla\, Puszczyka\, Sowia\, Skrajna\, Sójki\, Wilgi - Odpady zmieszane
END:VEVENT
BEGIN:VEVENT
DTSTART:20261123T060000Z
DTEND:20261123T190000Z
DTSTAMP:20260422T030557Z
UID:69e83b15a6f48
CATEGORIES:Odpady zmieszane
LOCATION:Bobrowiec z wyjątkiem ul. Bażancia, Bobrowiecka, Główna (55-71 oraz 80-80b), Kormoranów, Orla, Puszczyka, Sowia, Skrajna, Sójki, Wilgi Bobrowiec, Mazowieckie
ORGANIZER;CN=WGO Gminy Piaseczno:MAILTO:go@piaseczno.eu
DESCRIPTION: Odbiór odpadów 
URL;VALUE=URI:https://odpady.piaseczno.eu/harmonogram-odbioru-odpadow/odbior/bobrowiec-odpady-zmieszane/
SUMMARY:Bobrowiec z wyjątkiem ulic: Bażancia\, Bobrowiecka\, Główna (od nr 55 do 71 oraz od nr 80 do 80b)\, Kormoranów\, Orla\, Puszczyka\, Sowia\, Skrajna\, Sójki\, Wilgi - Odpady zmieszane
END:VEVENT
END:VCALENDAR
