BEGIN:VCALENDAR
VERSION:2.0
PRODID:-//DIGITAL FACTORY//EVENTS MAKER V1.6.12//EN
CALSCALE:GREGORIAN
METHOD:PUBLISH
BEGIN:VEVENT
DTSTART:20251119T060000Z
DTEND:20251119T190000Z
DTSTAMP:20260425T210557Z
UID:69ed2cb524c6b
CATEGORIES:odpady bio ogrodowe i kuchenne
LOCATION:Bobrowiec z wyjątkiem ul. Bażancia, Bobrowiecka, Główna (55-71 oraz 80-80b), Kormoranów, Orla, Puszczyka, Sowia, Skrajna, Sójki, Wilgi Bobrowiec, Mazowieckie
ORGANIZER;CN=WGO Gminy Piaseczno:MAILTO:go@piaseczno.eu
DESCRIPTION: Odbiór odpadów 
URL;VALUE=URI:https://odpady.piaseczno.eu/harmonogram-odbioru-odpadow/odbior/bobrowiec-odpady-biodegradowalne/
SUMMARY:Bobrowiec z wyjątkiem ulic: Bażancia\, Bobrowiecka\, Główna (od nr 55 do 71 oraz od nr 80 do 80b)\, Kormoranów\, Orla\, Puszczyka\, Sowia\, Skrajna\, Sójki\, Wilgi - Odpady bio ogrodowe i kuchenne
END:VEVENT
BEGIN:VEVENT
DTSTART:20251203T060000Z
DTEND:20251203T190000Z
DTSTAMP:20260425T210557Z
UID:69ed2cb524cf3
CATEGORIES:odpady bio ogrodowe i kuchenne
LOCATION:Bobrowiec z wyjątkiem ul. Bażancia, Bobrowiecka, Główna (55-71 oraz 80-80b), Kormoranów, Orla, Puszczyka, Sowia, Skrajna, Sójki, Wilgi Bobrowiec, Mazowieckie
ORGANIZER;CN=WGO Gminy Piaseczno:MAILTO:go@piaseczno.eu
DESCRIPTION: Odbiór odpadów 
URL;VALUE=URI:https://odpady.piaseczno.eu/harmonogram-odbioru-odpadow/odbior/bobrowiec-odpady-biodegradowalne/
SUMMARY:Bobrowiec z wyjątkiem ulic: Bażancia\, Bobrowiecka\, Główna (od nr 55 do 71 oraz od nr 80 do 80b)\, Kormoranów\, Orla\, Puszczyka\, Sowia\, Skrajna\, Sójki\, Wilgi - Odpady bio ogrodowe i kuchenne
END:VEVENT
BEGIN:VEVENT
DTSTART:20251217T060000Z
DTEND:20251217T190000Z
DTSTAMP:20260425T210557Z
UID:69ed2cb524d35
CATEGORIES:odpady bio ogrodowe i kuchenne
LOCATION:Bobrowiec z wyjątkiem ul. Bażancia, Bobrowiecka, Główna (55-71 oraz 80-80b), Kormoranów, Orla, Puszczyka, Sowia, Skrajna, Sójki, Wilgi Bobrowiec, Mazowieckie
ORGANIZER;CN=WGO Gminy Piaseczno:MAILTO:go@piaseczno.eu
DESCRIPTION: Odbiór odpadów 
URL;VALUE=URI:https://odpady.piaseczno.eu/harmonogram-odbioru-odpadow/odbior/bobrowiec-odpady-biodegradowalne/
SUMMARY:Bobrowiec z wyjątkiem ulic: Bażancia\, Bobrowiecka\, Główna (od nr 55 do 71 oraz od nr 80 do 80b)\, Kormoranów\, Orla\, Puszczyka\, Sowia\, Skrajna\, Sójki\, Wilgi - Odpady bio ogrodowe i kuchenne
END:VEVENT
BEGIN:VEVENT
DTSTART:20251231T060000Z
DTEND:20251231T190000Z
DTSTAMP:20260425T210557Z
UID:69ed2cb524d59
CATEGORIES:odpady bio ogrodowe i kuchenne
LOCATION:Bobrowiec z wyjątkiem ul. Bażancia, Bobrowiecka, Główna (55-71 oraz 80-80b), Kormoranów, Orla, Puszczyka, Sowia, Skrajna, Sójki, Wilgi Bobrowiec, Mazowieckie
ORGANIZER;CN=WGO Gminy Piaseczno:MAILTO:go@piaseczno.eu
DESCRIPTION: Odbiór odpadów 
URL;VALUE=URI:https://odpady.piaseczno.eu/harmonogram-odbioru-odpadow/odbior/bobrowiec-odpady-biodegradowalne/
SUMMARY:Bobrowiec z wyjątkiem ulic: Bażancia\, Bobrowiecka\, Główna (od nr 55 do 71 oraz od nr 80 do 80b)\, Kormoranów\, Orla\, Puszczyka\, Sowia\, Skrajna\, Sójki\, Wilgi - Odpady bio ogrodowe i kuchenne
END:VEVENT
BEGIN:VEVENT
DTSTART:20260114T060000Z
DTEND:20260114T190000Z
DTSTAMP:20260425T210557Z
UID:69ed2cb524d81
CATEGORIES:odpady bio ogrodowe i kuchenne
LOCATION:Bobrowiec z wyjątkiem ul. Bażancia, Bobrowiecka, Główna (55-71 oraz 80-80b), Kormoranów, Orla, Puszczyka, Sowia, Skrajna, Sójki, Wilgi Bobrowiec, Mazowieckie
ORGANIZER;CN=WGO Gminy Piaseczno:MAILTO:go@piaseczno.eu
DESCRIPTION: Odbiór odpadów 
URL;VALUE=URI:https://odpady.piaseczno.eu/harmonogram-odbioru-odpadow/odbior/bobrowiec-odpady-biodegradowalne/
SUMMARY:Bobrowiec z wyjątkiem ulic: Bażancia\, Bobrowiecka\, Główna (od nr 55 do 71 oraz od nr 80 do 80b)\, Kormoranów\, Orla\, Puszczyka\, Sowia\, Skrajna\, Sójki\, Wilgi - Odpady bio ogrodowe i kuchenne
END:VEVENT
BEGIN:VEVENT
DTSTART:20260128T060000Z
DTEND:20260128T190000Z
DTSTAMP:20260425T210557Z
UID:69ed2cb524da0
CATEGORIES:odpady bio ogrodowe i kuchenne
LOCATION:Bobrowiec z wyjątkiem ul. Bażancia, Bobrowiecka, Główna (55-71 oraz 80-80b), Kormoranów, Orla, Puszczyka, Sowia, Skrajna, Sójki, Wilgi Bobrowiec, Mazowieckie
ORGANIZER;CN=WGO Gminy Piaseczno:MAILTO:go@piaseczno.eu
DESCRIPTION: Odbiór odpadów 
URL;VALUE=URI:https://odpady.piaseczno.eu/harmonogram-odbioru-odpadow/odbior/bobrowiec-odpady-biodegradowalne/
SUMMARY:Bobrowiec z wyjątkiem ulic: Bażancia\, Bobrowiecka\, Główna (od nr 55 do 71 oraz od nr 80 do 80b)\, Kormoranów\, Orla\, Puszczyka\, Sowia\, Skrajna\, Sójki\, Wilgi - Odpady bio ogrodowe i kuchenne
END:VEVENT
BEGIN:VEVENT
DTSTART:20260211T060000Z
DTEND:20260211T190000Z
DTSTAMP:20260425T210557Z
UID:69ed2cb524dc1
CATEGORIES:odpady bio ogrodowe i kuchenne
LOCATION:Bobrowiec z wyjątkiem ul. Bażancia, Bobrowiecka, Główna (55-71 oraz 80-80b), Kormoranów, Orla, Puszczyka, Sowia, Skrajna, Sójki, Wilgi Bobrowiec, Mazowieckie
ORGANIZER;CN=WGO Gminy Piaseczno:MAILTO:go@piaseczno.eu
DESCRIPTION: Odbiór odpadów 
URL;VALUE=URI:https://odpady.piaseczno.eu/harmonogram-odbioru-odpadow/odbior/bobrowiec-odpady-biodegradowalne/
SUMMARY:Bobrowiec z wyjątkiem ulic: Bażancia\, Bobrowiecka\, Główna (od nr 55 do 71 oraz od nr 80 do 80b)\, Kormoranów\, Orla\, Puszczyka\, Sowia\, Skrajna\, Sójki\, Wilgi - Odpady bio ogrodowe i kuchenne
END:VEVENT
BEGIN:VEVENT
DTSTART:20260225T060000Z
DTEND:20260225T190000Z
DTSTAMP:20260425T210557Z
UID:69ed2cb524dde
CATEGORIES:odpady bio ogrodowe i kuchenne
LOCATION:Bobrowiec z wyjątkiem ul. Bażancia, Bobrowiecka, Główna (55-71 oraz 80-80b), Kormoranów, Orla, Puszczyka, Sowia, Skrajna, Sójki, Wilgi Bobrowiec, Mazowieckie
ORGANIZER;CN=WGO Gminy Piaseczno:MAILTO:go@piaseczno.eu
DESCRIPTION: Odbiór odpadów 
URL;VALUE=URI:https://odpady.piaseczno.eu/harmonogram-odbioru-odpadow/odbior/bobrowiec-odpady-biodegradowalne/
SUMMARY:Bobrowiec z wyjątkiem ulic: Bażancia\, Bobrowiecka\, Główna (od nr 55 do 71 oraz od nr 80 do 80b)\, Kormoranów\, Orla\, Puszczyka\, Sowia\, Skrajna\, Sójki\, Wilgi - Odpady bio ogrodowe i kuchenne
END:VEVENT
BEGIN:VEVENT
DTSTART:20260311T060000Z
DTEND:20260311T190000Z
DTSTAMP:20260425T210557Z
UID:69ed2cb524dfa
CATEGORIES:odpady bio ogrodowe i kuchenne
LOCATION:Bobrowiec z wyjątkiem ul. Bażancia, Bobrowiecka, Główna (55-71 oraz 80-80b), Kormoranów, Orla, Puszczyka, Sowia, Skrajna, Sójki, Wilgi Bobrowiec, Mazowieckie
ORGANIZER;CN=WGO Gminy Piaseczno:MAILTO:go@piaseczno.eu
DESCRIPTION: Odbiór odpadów 
URL;VALUE=URI:https://odpady.piaseczno.eu/harmonogram-odbioru-odpadow/odbior/bobrowiec-odpady-biodegradowalne/
SUMMARY:Bobrowiec z wyjątkiem ulic: Bażancia\, Bobrowiecka\, Główna (od nr 55 do 71 oraz od nr 80 do 80b)\, Kormoranów\, Orla\, Puszczyka\, Sowia\, Skrajna\, Sójki\, Wilgi - Odpady bio ogrodowe i kuchenne
END:VEVENT
BEGIN:VEVENT
DTSTART:20260325T060000Z
DTEND:20260325T190000Z
DTSTAMP:20260425T210557Z
UID:69ed2cb524e16
CATEGORIES:odpady bio ogrodowe i kuchenne
LOCATION:Bobrowiec z wyjątkiem ul. Bażancia, Bobrowiecka, Główna (55-71 oraz 80-80b), Kormoranów, Orla, Puszczyka, Sowia, Skrajna, Sójki, Wilgi Bobrowiec, Mazowieckie
ORGANIZER;CN=WGO Gminy Piaseczno:MAILTO:go@piaseczno.eu
DESCRIPTION: Odbiór odpadów 
URL;VALUE=URI:https://odpady.piaseczno.eu/harmonogram-odbioru-odpadow/odbior/bobrowiec-odpady-biodegradowalne/
SUMMARY:Bobrowiec z wyjątkiem ulic: Bażancia\, Bobrowiecka\, Główna (od nr 55 do 71 oraz od nr 80 do 80b)\, Kormoranów\, Orla\, Puszczyka\, Sowia\, Skrajna\, Sójki\, Wilgi - Odpady bio ogrodowe i kuchenne
END:VEVENT
BEGIN:VEVENT
DTSTART:20260408T060000Z
DTEND:20260408T190000Z
DTSTAMP:20260425T210557Z
UID:69ed2cb524e32
CATEGORIES:odpady bio ogrodowe i kuchenne
LOCATION:Bobrowiec z wyjątkiem ul. Bażancia, Bobrowiecka, Główna (55-71 oraz 80-80b), Kormoranów, Orla, Puszczyka, Sowia, Skrajna, Sójki, Wilgi Bobrowiec, Mazowieckie
ORGANIZER;CN=WGO Gminy Piaseczno:MAILTO:go@piaseczno.eu
DESCRIPTION: Odbiór odpadów 
URL;VALUE=URI:https://odpady.piaseczno.eu/harmonogram-odbioru-odpadow/odbior/bobrowiec-odpady-biodegradowalne/
SUMMARY:Bobrowiec z wyjątkiem ulic: Bażancia\, Bobrowiecka\, Główna (od nr 55 do 71 oraz od nr 80 do 80b)\, Kormoranów\, Orla\, Puszczyka\, Sowia\, Skrajna\, Sójki\, Wilgi - Odpady bio ogrodowe i kuchenne
END:VEVENT
BEGIN:VEVENT
DTSTART:20260422T060000Z
DTEND:20260422T190000Z
DTSTAMP:20260425T210557Z
UID:69ed2cb524e5e
CATEGORIES:odpady bio ogrodowe i kuchenne
LOCATION:Bobrowiec z wyjątkiem ul. Bażancia, Bobrowiecka, Główna (55-71 oraz 80-80b), Kormoranów, Orla, Puszczyka, Sowia, Skrajna, Sójki, Wilgi Bobrowiec, Mazowieckie
ORGANIZER;CN=WGO Gminy Piaseczno:MAILTO:go@piaseczno.eu
DESCRIPTION: Odbiór odpadów 
URL;VALUE=URI:https://odpady.piaseczno.eu/harmonogram-odbioru-odpadow/odbior/bobrowiec-odpady-biodegradowalne/
SUMMARY:Bobrowiec z wyjątkiem ulic: Bażancia\, Bobrowiecka\, Główna (od nr 55 do 71 oraz od nr 80 do 80b)\, Kormoranów\, Orla\, Puszczyka\, Sowia\, Skrajna\, Sójki\, Wilgi - Odpady bio ogrodowe i kuchenne
END:VEVENT
BEGIN:VEVENT
DTSTART:20260506T060000Z
DTEND:20260506T190000Z
DTSTAMP:20260425T210557Z
UID:69ed2cb524e7b
CATEGORIES:odpady bio ogrodowe i kuchenne
LOCATION:Bobrowiec z wyjątkiem ul. Bażancia, Bobrowiecka, Główna (55-71 oraz 80-80b), Kormoranów, Orla, Puszczyka, Sowia, Skrajna, Sójki, Wilgi Bobrowiec, Mazowieckie
ORGANIZER;CN=WGO Gminy Piaseczno:MAILTO:go@piaseczno.eu
DESCRIPTION: Odbiór odpadów 
URL;VALUE=URI:https://odpady.piaseczno.eu/harmonogram-odbioru-odpadow/odbior/bobrowiec-odpady-biodegradowalne/
SUMMARY:Bobrowiec z wyjątkiem ulic: Bażancia\, Bobrowiecka\, Główna (od nr 55 do 71 oraz od nr 80 do 80b)\, Kormoranów\, Orla\, Puszczyka\, Sowia\, Skrajna\, Sójki\, Wilgi - Odpady bio ogrodowe i kuchenne
END:VEVENT
BEGIN:VEVENT
DTSTART:20260520T060000Z
DTEND:20260520T190000Z
DTSTAMP:20260425T210557Z
UID:69ed2cb524e97
CATEGORIES:odpady bio ogrodowe i kuchenne
LOCATION:Bobrowiec z wyjątkiem ul. Bażancia, Bobrowiecka, Główna (55-71 oraz 80-80b), Kormoranów, Orla, Puszczyka, Sowia, Skrajna, Sójki, Wilgi Bobrowiec, Mazowieckie
ORGANIZER;CN=WGO Gminy Piaseczno:MAILTO:go@piaseczno.eu
DESCRIPTION: Odbiór odpadów 
URL;VALUE=URI:https://odpady.piaseczno.eu/harmonogram-odbioru-odpadow/odbior/bobrowiec-odpady-biodegradowalne/
SUMMARY:Bobrowiec z wyjątkiem ulic: Bażancia\, Bobrowiecka\, Główna (od nr 55 do 71 oraz od nr 80 do 80b)\, Kormoranów\, Orla\, Puszczyka\, Sowia\, Skrajna\, Sójki\, Wilgi - Odpady bio ogrodowe i kuchenne
END:VEVENT
BEGIN:VEVENT
DTSTART:20260603T060000Z
DTEND:20260603T190000Z
DTSTAMP:20260425T210557Z
UID:69ed2cb524eb3
CATEGORIES:odpady bio ogrodowe i kuchenne
LOCATION:Bobrowiec z wyjątkiem ul. Bażancia, Bobrowiecka, Główna (55-71 oraz 80-80b), Kormoranów, Orla, Puszczyka, Sowia, Skrajna, Sójki, Wilgi Bobrowiec, Mazowieckie
ORGANIZER;CN=WGO Gminy Piaseczno:MAILTO:go@piaseczno.eu
DESCRIPTION: Odbiór odpadów 
URL;VALUE=URI:https://odpady.piaseczno.eu/harmonogram-odbioru-odpadow/odbior/bobrowiec-odpady-biodegradowalne/
SUMMARY:Bobrowiec z wyjątkiem ulic: Bażancia\, Bobrowiecka\, Główna (od nr 55 do 71 oraz od nr 80 do 80b)\, Kormoranów\, Orla\, Puszczyka\, Sowia\, Skrajna\, Sójki\, Wilgi - Odpady bio ogrodowe i kuchenne
END:VEVENT
BEGIN:VEVENT
DTSTART:20260617T060000Z
DTEND:20260617T190000Z
DTSTAMP:20260425T210557Z
UID:69ed2cb524ece
CATEGORIES:odpady bio ogrodowe i kuchenne
LOCATION:Bobrowiec z wyjątkiem ul. Bażancia, Bobrowiecka, Główna (55-71 oraz 80-80b), Kormoranów, Orla, Puszczyka, Sowia, Skrajna, Sójki, Wilgi Bobrowiec, Mazowieckie
ORGANIZER;CN=WGO Gminy Piaseczno:MAILTO:go@piaseczno.eu
DESCRIPTION: Odbiór odpadów 
URL;VALUE=URI:https://odpady.piaseczno.eu/harmonogram-odbioru-odpadow/odbior/bobrowiec-odpady-biodegradowalne/
SUMMARY:Bobrowiec z wyjątkiem ulic: Bażancia\, Bobrowiecka\, Główna (od nr 55 do 71 oraz od nr 80 do 80b)\, Kormoranów\, Orla\, Puszczyka\, Sowia\, Skrajna\, Sójki\, Wilgi - Odpady bio ogrodowe i kuchenne
END:VEVENT
BEGIN:VEVENT
DTSTART:20260701T060000Z
DTEND:20260701T190000Z
DTSTAMP:20260425T210557Z
UID:69ed2cb524ee9
CATEGORIES:odpady bio ogrodowe i kuchenne
LOCATION:Bobrowiec z wyjątkiem ul. Bażancia, Bobrowiecka, Główna (55-71 oraz 80-80b), Kormoranów, Orla, Puszczyka, Sowia, Skrajna, Sójki, Wilgi Bobrowiec, Mazowieckie
ORGANIZER;CN=WGO Gminy Piaseczno:MAILTO:go@piaseczno.eu
DESCRIPTION: Odbiór odpadów 
URL;VALUE=URI:https://odpady.piaseczno.eu/harmonogram-odbioru-odpadow/odbior/bobrowiec-odpady-biodegradowalne/
SUMMARY:Bobrowiec z wyjątkiem ulic: Bażancia\, Bobrowiecka\, Główna (od nr 55 do 71 oraz od nr 80 do 80b)\, Kormoranów\, Orla\, Puszczyka\, Sowia\, Skrajna\, Sójki\, Wilgi - Odpady bio ogrodowe i kuchenne
END:VEVENT
BEGIN:VEVENT
DTSTART:20260715T060000Z
DTEND:20260715T190000Z
DTSTAMP:20260425T210557Z
UID:69ed2cb524f08
CATEGORIES:odpady bio ogrodowe i kuchenne
LOCATION:Bobrowiec z wyjątkiem ul. Bażancia, Bobrowiecka, Główna (55-71 oraz 80-80b), Kormoranów, Orla, Puszczyka, Sowia, Skrajna, Sójki, Wilgi Bobrowiec, Mazowieckie
ORGANIZER;CN=WGO Gminy Piaseczno:MAILTO:go@piaseczno.eu
DESCRIPTION: Odbiór odpadów 
URL;VALUE=URI:https://odpady.piaseczno.eu/harmonogram-odbioru-odpadow/odbior/bobrowiec-odpady-biodegradowalne/
SUMMARY:Bobrowiec z wyjątkiem ulic: Bażancia\, Bobrowiecka\, Główna (od nr 55 do 71 oraz od nr 80 do 80b)\, Kormoranów\, Orla\, Puszczyka\, Sowia\, Skrajna\, Sójki\, Wilgi - Odpady bio ogrodowe i kuchenne
END:VEVENT
BEGIN:VEVENT
DTSTART:20260729T060000Z
DTEND:20260729T190000Z
DTSTAMP:20260425T210557Z
UID:69ed2cb524f24
CATEGORIES:odpady bio ogrodowe i kuchenne
LOCATION:Bobrowiec z wyjątkiem ul. Bażancia, Bobrowiecka, Główna (55-71 oraz 80-80b), Kormoranów, Orla, Puszczyka, Sowia, Skrajna, Sójki, Wilgi Bobrowiec, Mazowieckie
ORGANIZER;CN=WGO Gminy Piaseczno:MAILTO:go@piaseczno.eu
DESCRIPTION: Odbiór odpadów 
URL;VALUE=URI:https://odpady.piaseczno.eu/harmonogram-odbioru-odpadow/odbior/bobrowiec-odpady-biodegradowalne/
SUMMARY:Bobrowiec z wyjątkiem ulic: Bażancia\, Bobrowiecka\, Główna (od nr 55 do 71 oraz od nr 80 do 80b)\, Kormoranów\, Orla\, Puszczyka\, Sowia\, Skrajna\, Sójki\, Wilgi - Odpady bio ogrodowe i kuchenne
END:VEVENT
BEGIN:VEVENT
DTSTART:20260812T060000Z
DTEND:20260812T190000Z
DTSTAMP:20260425T210557Z
UID:69ed2cb524f3f
CATEGORIES:odpady bio ogrodowe i kuchenne
LOCATION:Bobrowiec z wyjątkiem ul. Bażancia, Bobrowiecka, Główna (55-71 oraz 80-80b), Kormoranów, Orla, Puszczyka, Sowia, Skrajna, Sójki, Wilgi Bobrowiec, Mazowieckie
ORGANIZER;CN=WGO Gminy Piaseczno:MAILTO:go@piaseczno.eu
DESCRIPTION: Odbiór odpadów 
URL;VALUE=URI:https://odpady.piaseczno.eu/harmonogram-odbioru-odpadow/odbior/bobrowiec-odpady-biodegradowalne/
SUMMARY:Bobrowiec z wyjątkiem ulic: Bażancia\, Bobrowiecka\, Główna (od nr 55 do 71 oraz od nr 80 do 80b)\, Kormoranów\, Orla\, Puszczyka\, Sowia\, Skrajna\, Sójki\, Wilgi - Odpady bio ogrodowe i kuchenne
END:VEVENT
BEGIN:VEVENT
DTSTART:20260826T060000Z
DTEND:20260826T190000Z
DTSTAMP:20260425T210557Z
UID:69ed2cb524f67
CATEGORIES:odpady bio ogrodowe i kuchenne
LOCATION:Bobrowiec z wyjątkiem ul. Bażancia, Bobrowiecka, Główna (55-71 oraz 80-80b), Kormoranów, Orla, Puszczyka, Sowia, Skrajna, Sójki, Wilgi Bobrowiec, Mazowieckie
ORGANIZER;CN=WGO Gminy Piaseczno:MAILTO:go@piaseczno.eu
DESCRIPTION: Odbiór odpadów 
URL;VALUE=URI:https://odpady.piaseczno.eu/harmonogram-odbioru-odpadow/odbior/bobrowiec-odpady-biodegradowalne/
SUMMARY:Bobrowiec z wyjątkiem ulic: Bażancia\, Bobrowiecka\, Główna (od nr 55 do 71 oraz od nr 80 do 80b)\, Kormoranów\, Orla\, Puszczyka\, Sowia\, Skrajna\, Sójki\, Wilgi - Odpady bio ogrodowe i kuchenne
END:VEVENT
BEGIN:VEVENT
DTSTART:20260909T060000Z
DTEND:20260909T190000Z
DTSTAMP:20260425T210557Z
UID:69ed2cb524f82
CATEGORIES:odpady bio ogrodowe i kuchenne
LOCATION:Bobrowiec z wyjątkiem ul. Bażancia, Bobrowiecka, Główna (55-71 oraz 80-80b), Kormoranów, Orla, Puszczyka, Sowia, Skrajna, Sójki, Wilgi Bobrowiec, Mazowieckie
ORGANIZER;CN=WGO Gminy Piaseczno:MAILTO:go@piaseczno.eu
DESCRIPTION: Odbiór odpadów 
URL;VALUE=URI:https://odpady.piaseczno.eu/harmonogram-odbioru-odpadow/odbior/bobrowiec-odpady-biodegradowalne/
SUMMARY:Bobrowiec z wyjątkiem ulic: Bażancia\, Bobrowiecka\, Główna (od nr 55 do 71 oraz od nr 80 do 80b)\, Kormoranów\, Orla\, Puszczyka\, Sowia\, Skrajna\, Sójki\, Wilgi - Odpady bio ogrodowe i kuchenne
END:VEVENT
BEGIN:VEVENT
DTSTART:20260923T060000Z
DTEND:20260923T190000Z
DTSTAMP:20260425T210557Z
UID:69ed2cb524fa1
CATEGORIES:odpady bio ogrodowe i kuchenne
LOCATION:Bobrowiec z wyjątkiem ul. Bażancia, Bobrowiecka, Główna (55-71 oraz 80-80b), Kormoranów, Orla, Puszczyka, Sowia, Skrajna, Sójki, Wilgi Bobrowiec, Mazowieckie
ORGANIZER;CN=WGO Gminy Piaseczno:MAILTO:go@piaseczno.eu
DESCRIPTION: Odbiór odpadów 
URL;VALUE=URI:https://odpady.piaseczno.eu/harmonogram-odbioru-odpadow/odbior/bobrowiec-odpady-biodegradowalne/
SUMMARY:Bobrowiec z wyjątkiem ulic: Bażancia\, Bobrowiecka\, Główna (od nr 55 do 71 oraz od nr 80 do 80b)\, Kormoranów\, Orla\, Puszczyka\, Sowia\, Skrajna\, Sójki\, Wilgi - Odpady bio ogrodowe i kuchenne
END:VEVENT
BEGIN:VEVENT
DTSTART:20261007T060000Z
DTEND:20261007T190000Z
DTSTAMP:20260425T210557Z
UID:69ed2cb524fbc
CATEGORIES:odpady bio ogrodowe i kuchenne
LOCATION:Bobrowiec z wyjątkiem ul. Bażancia, Bobrowiecka, Główna (55-71 oraz 80-80b), Kormoranów, Orla, Puszczyka, Sowia, Skrajna, Sójki, Wilgi Bobrowiec, Mazowieckie
ORGANIZER;CN=WGO Gminy Piaseczno:MAILTO:go@piaseczno.eu
DESCRIPTION: Odbiór odpadów 
URL;VALUE=URI:https://odpady.piaseczno.eu/harmonogram-odbioru-odpadow/odbior/bobrowiec-odpady-biodegradowalne/
SUMMARY:Bobrowiec z wyjątkiem ulic: Bażancia\, Bobrowiecka\, Główna (od nr 55 do 71 oraz od nr 80 do 80b)\, Kormoranów\, Orla\, Puszczyka\, Sowia\, Skrajna\, Sójki\, Wilgi - Odpady bio ogrodowe i kuchenne
END:VEVENT
BEGIN:VEVENT
DTSTART:20261021T060000Z
DTEND:20261021T190000Z
DTSTAMP:20260425T210557Z
UID:69ed2cb524fd7
CATEGORIES:odpady bio ogrodowe i kuchenne
LOCATION:Bobrowiec z wyjątkiem ul. Bażancia, Bobrowiecka, Główna (55-71 oraz 80-80b), Kormoranów, Orla, Puszczyka, Sowia, Skrajna, Sójki, Wilgi Bobrowiec, Mazowieckie
ORGANIZER;CN=WGO Gminy Piaseczno:MAILTO:go@piaseczno.eu
DESCRIPTION: Odbiór odpadów 
URL;VALUE=URI:https://odpady.piaseczno.eu/harmonogram-odbioru-odpadow/odbior/bobrowiec-odpady-biodegradowalne/
SUMMARY:Bobrowiec z wyjątkiem ulic: Bażancia\, Bobrowiecka\, Główna (od nr 55 do 71 oraz od nr 80 do 80b)\, Kormoranów\, Orla\, Puszczyka\, Sowia\, Skrajna\, Sójki\, Wilgi - Odpady bio ogrodowe i kuchenne
END:VEVENT
BEGIN:VEVENT
DTSTART:20261104T060000Z
DTEND:20261104T190000Z
DTSTAMP:20260425T210557Z
UID:69ed2cb524ff2
CATEGORIES:odpady bio ogrodowe i kuchenne
LOCATION:Bobrowiec z wyjątkiem ul. Bażancia, Bobrowiecka, Główna (55-71 oraz 80-80b), Kormoranów, Orla, Puszczyka, Sowia, Skrajna, Sójki, Wilgi Bobrowiec, Mazowieckie
ORGANIZER;CN=WGO Gminy Piaseczno:MAILTO:go@piaseczno.eu
DESCRIPTION: Odbiór odpadów 
URL;VALUE=URI:https://odpady.piaseczno.eu/harmonogram-odbioru-odpadow/odbior/bobrowiec-odpady-biodegradowalne/
SUMMARY:Bobrowiec z wyjątkiem ulic: Bażancia\, Bobrowiecka\, Główna (od nr 55 do 71 oraz od nr 80 do 80b)\, Kormoranów\, Orla\, Puszczyka\, Sowia\, Skrajna\, Sójki\, Wilgi - Odpady bio ogrodowe i kuchenne
END:VEVENT
BEGIN:VEVENT
DTSTART:20261118T060000Z
DTEND:20261118T190000Z
DTSTAMP:20260425T210557Z
UID:69ed2cb52500d
CATEGORIES:odpady bio ogrodowe i kuchenne
LOCATION:Bobrowiec z wyjątkiem ul. Bażancia, Bobrowiecka, Główna (55-71 oraz 80-80b), Kormoranów, Orla, Puszczyka, Sowia, Skrajna, Sójki, Wilgi Bobrowiec, Mazowieckie
ORGANIZER;CN=WGO Gminy Piaseczno:MAILTO:go@piaseczno.eu
DESCRIPTION: Odbiór odpadów 
URL;VALUE=URI:https://odpady.piaseczno.eu/harmonogram-odbioru-odpadow/odbior/bobrowiec-odpady-biodegradowalne/
SUMMARY:Bobrowiec z wyjątkiem ulic: Bażancia\, Bobrowiecka\, Główna (od nr 55 do 71 oraz od nr 80 do 80b)\, Kormoranów\, Orla\, Puszczyka\, Sowia\, Skrajna\, Sójki\, Wilgi - Odpady bio ogrodowe i kuchenne
END:VEVENT
END:VCALENDAR
