BEGIN:VCALENDAR
VERSION:2.0
PRODID:-//DIGITAL FACTORY//EVENTS MAKER V1.6.12//EN
CALSCALE:GREGORIAN
METHOD:PUBLISH
BEGIN:VEVENT
DTSTART:20251126T060000Z
DTEND:20251126T190000Z
DTSTAMP:20260424T193815Z
UID:69ebc6a77f870
CATEGORIES:Odpady segregowane -tworzywa sztuczne i metale
LOCATION:Bobrowiec z wyjątkiem ul. Bażancia, Bobrowiecka, Główna (55-71 oraz 80-80b), Kormoranów, Orla, Puszczyka, Sowia, Skrajna, Sójki, Wilgi Bobrowiec, Mazowieckie
ORGANIZER;CN=WGO Gminy Piaseczno:MAILTO:go@piaseczno.eu
DESCRIPTION: Odbiór odpadów 
URL;VALUE=URI:https://odpady.piaseczno.eu/harmonogram-odbioru-odpadow/odbior/bobrowiec-odpady-bio-ogrodowe/
SUMMARY:Bobrowiec z wyjątkiem ulic: Bażancia\, Bobrowiecka\, Główna (od nr 55 do 71 oraz od nr 80 do 80b)\, Kormoranów\, Orla\, Puszczyka\, Sowia\, Skrajna\, Wilgi – Metale i tworzywa sztuczne
END:VEVENT
BEGIN:VEVENT
DTSTART:20251210T060000Z
DTEND:20251210T190000Z
DTSTAMP:20260424T193815Z
UID:69ebc6a77f915
CATEGORIES:Odpady segregowane -tworzywa sztuczne i metale
LOCATION:Bobrowiec z wyjątkiem ul. Bażancia, Bobrowiecka, Główna (55-71 oraz 80-80b), Kormoranów, Orla, Puszczyka, Sowia, Skrajna, Sójki, Wilgi Bobrowiec, Mazowieckie
ORGANIZER;CN=WGO Gminy Piaseczno:MAILTO:go@piaseczno.eu
DESCRIPTION: Odbiór odpadów 
URL;VALUE=URI:https://odpady.piaseczno.eu/harmonogram-odbioru-odpadow/odbior/bobrowiec-odpady-bio-ogrodowe/
SUMMARY:Bobrowiec z wyjątkiem ulic: Bażancia\, Bobrowiecka\, Główna (od nr 55 do 71 oraz od nr 80 do 80b)\, Kormoranów\, Orla\, Puszczyka\, Sowia\, Skrajna\, Wilgi – Metale i tworzywa sztuczne
END:VEVENT
BEGIN:VEVENT
DTSTART:20251223T060000Z
DTEND:20251223T190000Z
DTSTAMP:20260424T193815Z
UID:69ebc6a77f949
CATEGORIES:Odpady segregowane -tworzywa sztuczne i metale
LOCATION:Bobrowiec z wyjątkiem ul. Bażancia, Bobrowiecka, Główna (55-71 oraz 80-80b), Kormoranów, Orla, Puszczyka, Sowia, Skrajna, Sójki, Wilgi Bobrowiec, Mazowieckie
ORGANIZER;CN=WGO Gminy Piaseczno:MAILTO:go@piaseczno.eu
DESCRIPTION: Odbiór odpadów 
URL;VALUE=URI:https://odpady.piaseczno.eu/harmonogram-odbioru-odpadow/odbior/bobrowiec-odpady-bio-ogrodowe/
SUMMARY:Bobrowiec z wyjątkiem ulic: Bażancia\, Bobrowiecka\, Główna (od nr 55 do 71 oraz od nr 80 do 80b)\, Kormoranów\, Orla\, Puszczyka\, Sowia\, Skrajna\, Wilgi – Metale i tworzywa sztuczne
END:VEVENT
BEGIN:VEVENT
DTSTART:20260107T060000Z
DTEND:20260107T190000Z
DTSTAMP:20260424T193815Z
UID:69ebc6a77f96c
CATEGORIES:Odpady segregowane -tworzywa sztuczne i metale
LOCATION:Bobrowiec z wyjątkiem ul. Bażancia, Bobrowiecka, Główna (55-71 oraz 80-80b), Kormoranów, Orla, Puszczyka, Sowia, Skrajna, Sójki, Wilgi Bobrowiec, Mazowieckie
ORGANIZER;CN=WGO Gminy Piaseczno:MAILTO:go@piaseczno.eu
DESCRIPTION: Odbiór odpadów 
URL;VALUE=URI:https://odpady.piaseczno.eu/harmonogram-odbioru-odpadow/odbior/bobrowiec-odpady-bio-ogrodowe/
SUMMARY:Bobrowiec z wyjątkiem ulic: Bażancia\, Bobrowiecka\, Główna (od nr 55 do 71 oraz od nr 80 do 80b)\, Kormoranów\, Orla\, Puszczyka\, Sowia\, Skrajna\, Wilgi – Metale i tworzywa sztuczne
END:VEVENT
BEGIN:VEVENT
DTSTART:20260121T060000Z
DTEND:20260121T190000Z
DTSTAMP:20260424T193815Z
UID:69ebc6a77f98b
CATEGORIES:Odpady segregowane -tworzywa sztuczne i metale
LOCATION:Bobrowiec z wyjątkiem ul. Bażancia, Bobrowiecka, Główna (55-71 oraz 80-80b), Kormoranów, Orla, Puszczyka, Sowia, Skrajna, Sójki, Wilgi Bobrowiec, Mazowieckie
ORGANIZER;CN=WGO Gminy Piaseczno:MAILTO:go@piaseczno.eu
DESCRIPTION: Odbiór odpadów 
URL;VALUE=URI:https://odpady.piaseczno.eu/harmonogram-odbioru-odpadow/odbior/bobrowiec-odpady-bio-ogrodowe/
SUMMARY:Bobrowiec z wyjątkiem ulic: Bażancia\, Bobrowiecka\, Główna (od nr 55 do 71 oraz od nr 80 do 80b)\, Kormoranów\, Orla\, Puszczyka\, Sowia\, Skrajna\, Wilgi – Metale i tworzywa sztuczne
END:VEVENT
BEGIN:VEVENT
DTSTART:20260204T060000Z
DTEND:20260204T190000Z
DTSTAMP:20260424T193815Z
UID:69ebc6a77f9a8
CATEGORIES:Odpady segregowane -tworzywa sztuczne i metale
LOCATION:Bobrowiec z wyjątkiem ul. Bażancia, Bobrowiecka, Główna (55-71 oraz 80-80b), Kormoranów, Orla, Puszczyka, Sowia, Skrajna, Sójki, Wilgi Bobrowiec, Mazowieckie
ORGANIZER;CN=WGO Gminy Piaseczno:MAILTO:go@piaseczno.eu
DESCRIPTION: Odbiór odpadów 
URL;VALUE=URI:https://odpady.piaseczno.eu/harmonogram-odbioru-odpadow/odbior/bobrowiec-odpady-bio-ogrodowe/
SUMMARY:Bobrowiec z wyjątkiem ulic: Bażancia\, Bobrowiecka\, Główna (od nr 55 do 71 oraz od nr 80 do 80b)\, Kormoranów\, Orla\, Puszczyka\, Sowia\, Skrajna\, Wilgi – Metale i tworzywa sztuczne
END:VEVENT
BEGIN:VEVENT
DTSTART:20260218T060000Z
DTEND:20260218T190000Z
DTSTAMP:20260424T193815Z
UID:69ebc6a77f9ca
CATEGORIES:Odpady segregowane -tworzywa sztuczne i metale
LOCATION:Bobrowiec z wyjątkiem ul. Bażancia, Bobrowiecka, Główna (55-71 oraz 80-80b), Kormoranów, Orla, Puszczyka, Sowia, Skrajna, Sójki, Wilgi Bobrowiec, Mazowieckie
ORGANIZER;CN=WGO Gminy Piaseczno:MAILTO:go@piaseczno.eu
DESCRIPTION: Odbiór odpadów 
URL;VALUE=URI:https://odpady.piaseczno.eu/harmonogram-odbioru-odpadow/odbior/bobrowiec-odpady-bio-ogrodowe/
SUMMARY:Bobrowiec z wyjątkiem ulic: Bażancia\, Bobrowiecka\, Główna (od nr 55 do 71 oraz od nr 80 do 80b)\, Kormoranów\, Orla\, Puszczyka\, Sowia\, Skrajna\, Wilgi – Metale i tworzywa sztuczne
END:VEVENT
BEGIN:VEVENT
DTSTART:20260304T060000Z
DTEND:20260304T190000Z
DTSTAMP:20260424T193815Z
UID:69ebc6a77f9e6
CATEGORIES:Odpady segregowane -tworzywa sztuczne i metale
LOCATION:Bobrowiec z wyjątkiem ul. Bażancia, Bobrowiecka, Główna (55-71 oraz 80-80b), Kormoranów, Orla, Puszczyka, Sowia, Skrajna, Sójki, Wilgi Bobrowiec, Mazowieckie
ORGANIZER;CN=WGO Gminy Piaseczno:MAILTO:go@piaseczno.eu
DESCRIPTION: Odbiór odpadów 
URL;VALUE=URI:https://odpady.piaseczno.eu/harmonogram-odbioru-odpadow/odbior/bobrowiec-odpady-bio-ogrodowe/
SUMMARY:Bobrowiec z wyjątkiem ulic: Bażancia\, Bobrowiecka\, Główna (od nr 55 do 71 oraz od nr 80 do 80b)\, Kormoranów\, Orla\, Puszczyka\, Sowia\, Skrajna\, Wilgi – Metale i tworzywa sztuczne
END:VEVENT
BEGIN:VEVENT
DTSTART:20260318T060000Z
DTEND:20260318T190000Z
DTSTAMP:20260424T193815Z
UID:69ebc6a77fa01
CATEGORIES:Odpady segregowane -tworzywa sztuczne i metale
LOCATION:Bobrowiec z wyjątkiem ul. Bażancia, Bobrowiecka, Główna (55-71 oraz 80-80b), Kormoranów, Orla, Puszczyka, Sowia, Skrajna, Sójki, Wilgi Bobrowiec, Mazowieckie
ORGANIZER;CN=WGO Gminy Piaseczno:MAILTO:go@piaseczno.eu
DESCRIPTION: Odbiór odpadów 
URL;VALUE=URI:https://odpady.piaseczno.eu/harmonogram-odbioru-odpadow/odbior/bobrowiec-odpady-bio-ogrodowe/
SUMMARY:Bobrowiec z wyjątkiem ulic: Bażancia\, Bobrowiecka\, Główna (od nr 55 do 71 oraz od nr 80 do 80b)\, Kormoranów\, Orla\, Puszczyka\, Sowia\, Skrajna\, Wilgi – Metale i tworzywa sztuczne
END:VEVENT
BEGIN:VEVENT
DTSTART:20260401T060000Z
DTEND:20260401T190000Z
DTSTAMP:20260424T193815Z
UID:69ebc6a77fa1c
CATEGORIES:Odpady segregowane -tworzywa sztuczne i metale
LOCATION:Bobrowiec z wyjątkiem ul. Bażancia, Bobrowiecka, Główna (55-71 oraz 80-80b), Kormoranów, Orla, Puszczyka, Sowia, Skrajna, Sójki, Wilgi Bobrowiec, Mazowieckie
ORGANIZER;CN=WGO Gminy Piaseczno:MAILTO:go@piaseczno.eu
DESCRIPTION: Odbiór odpadów 
URL;VALUE=URI:https://odpady.piaseczno.eu/harmonogram-odbioru-odpadow/odbior/bobrowiec-odpady-bio-ogrodowe/
SUMMARY:Bobrowiec z wyjątkiem ulic: Bażancia\, Bobrowiecka\, Główna (od nr 55 do 71 oraz od nr 80 do 80b)\, Kormoranów\, Orla\, Puszczyka\, Sowia\, Skrajna\, Wilgi – Metale i tworzywa sztuczne
END:VEVENT
BEGIN:VEVENT
DTSTART:20260415T060000Z
DTEND:20260415T190000Z
DTSTAMP:20260424T193815Z
UID:69ebc6a77fa37
CATEGORIES:Odpady segregowane -tworzywa sztuczne i metale
LOCATION:Bobrowiec z wyjątkiem ul. Bażancia, Bobrowiecka, Główna (55-71 oraz 80-80b), Kormoranów, Orla, Puszczyka, Sowia, Skrajna, Sójki, Wilgi Bobrowiec, Mazowieckie
ORGANIZER;CN=WGO Gminy Piaseczno:MAILTO:go@piaseczno.eu
DESCRIPTION: Odbiór odpadów 
URL;VALUE=URI:https://odpady.piaseczno.eu/harmonogram-odbioru-odpadow/odbior/bobrowiec-odpady-bio-ogrodowe/
SUMMARY:Bobrowiec z wyjątkiem ulic: Bażancia\, Bobrowiecka\, Główna (od nr 55 do 71 oraz od nr 80 do 80b)\, Kormoranów\, Orla\, Puszczyka\, Sowia\, Skrajna\, Wilgi – Metale i tworzywa sztuczne
END:VEVENT
BEGIN:VEVENT
DTSTART:20260429T060000Z
DTEND:20260429T190000Z
DTSTAMP:20260424T193815Z
UID:69ebc6a77fa5a
CATEGORIES:Odpady segregowane -tworzywa sztuczne i metale
LOCATION:Bobrowiec z wyjątkiem ul. Bażancia, Bobrowiecka, Główna (55-71 oraz 80-80b), Kormoranów, Orla, Puszczyka, Sowia, Skrajna, Sójki, Wilgi Bobrowiec, Mazowieckie
ORGANIZER;CN=WGO Gminy Piaseczno:MAILTO:go@piaseczno.eu
DESCRIPTION: Odbiór odpadów 
URL;VALUE=URI:https://odpady.piaseczno.eu/harmonogram-odbioru-odpadow/odbior/bobrowiec-odpady-bio-ogrodowe/
SUMMARY:Bobrowiec z wyjątkiem ulic: Bażancia\, Bobrowiecka\, Główna (od nr 55 do 71 oraz od nr 80 do 80b)\, Kormoranów\, Orla\, Puszczyka\, Sowia\, Skrajna\, Wilgi – Metale i tworzywa sztuczne
END:VEVENT
BEGIN:VEVENT
DTSTART:20260513T060000Z
DTEND:20260513T190000Z
DTSTAMP:20260424T193815Z
UID:69ebc6a77fa76
CATEGORIES:Odpady segregowane -tworzywa sztuczne i metale
LOCATION:Bobrowiec z wyjątkiem ul. Bażancia, Bobrowiecka, Główna (55-71 oraz 80-80b), Kormoranów, Orla, Puszczyka, Sowia, Skrajna, Sójki, Wilgi Bobrowiec, Mazowieckie
ORGANIZER;CN=WGO Gminy Piaseczno:MAILTO:go@piaseczno.eu
DESCRIPTION: Odbiór odpadów 
URL;VALUE=URI:https://odpady.piaseczno.eu/harmonogram-odbioru-odpadow/odbior/bobrowiec-odpady-bio-ogrodowe/
SUMMARY:Bobrowiec z wyjątkiem ulic: Bażancia\, Bobrowiecka\, Główna (od nr 55 do 71 oraz od nr 80 do 80b)\, Kormoranów\, Orla\, Puszczyka\, Sowia\, Skrajna\, Wilgi – Metale i tworzywa sztuczne
END:VEVENT
BEGIN:VEVENT
DTSTART:20260527T060000Z
DTEND:20260527T190000Z
DTSTAMP:20260424T193815Z
UID:69ebc6a77fa90
CATEGORIES:Odpady segregowane -tworzywa sztuczne i metale
LOCATION:Bobrowiec z wyjątkiem ul. Bażancia, Bobrowiecka, Główna (55-71 oraz 80-80b), Kormoranów, Orla, Puszczyka, Sowia, Skrajna, Sójki, Wilgi Bobrowiec, Mazowieckie
ORGANIZER;CN=WGO Gminy Piaseczno:MAILTO:go@piaseczno.eu
DESCRIPTION: Odbiór odpadów 
URL;VALUE=URI:https://odpady.piaseczno.eu/harmonogram-odbioru-odpadow/odbior/bobrowiec-odpady-bio-ogrodowe/
SUMMARY:Bobrowiec z wyjątkiem ulic: Bażancia\, Bobrowiecka\, Główna (od nr 55 do 71 oraz od nr 80 do 80b)\, Kormoranów\, Orla\, Puszczyka\, Sowia\, Skrajna\, Wilgi – Metale i tworzywa sztuczne
END:VEVENT
BEGIN:VEVENT
DTSTART:20260610T060000Z
DTEND:20260610T190000Z
DTSTAMP:20260424T193815Z
UID:69ebc6a77faab
CATEGORIES:Odpady segregowane -tworzywa sztuczne i metale
LOCATION:Bobrowiec z wyjątkiem ul. Bażancia, Bobrowiecka, Główna (55-71 oraz 80-80b), Kormoranów, Orla, Puszczyka, Sowia, Skrajna, Sójki, Wilgi Bobrowiec, Mazowieckie
ORGANIZER;CN=WGO Gminy Piaseczno:MAILTO:go@piaseczno.eu
DESCRIPTION: Odbiór odpadów 
URL;VALUE=URI:https://odpady.piaseczno.eu/harmonogram-odbioru-odpadow/odbior/bobrowiec-odpady-bio-ogrodowe/
SUMMARY:Bobrowiec z wyjątkiem ulic: Bażancia\, Bobrowiecka\, Główna (od nr 55 do 71 oraz od nr 80 do 80b)\, Kormoranów\, Orla\, Puszczyka\, Sowia\, Skrajna\, Wilgi – Metale i tworzywa sztuczne
END:VEVENT
BEGIN:VEVENT
DTSTART:20260624T060000Z
DTEND:20260624T190000Z
DTSTAMP:20260424T193815Z
UID:69ebc6a77fad1
CATEGORIES:Odpady segregowane -tworzywa sztuczne i metale
LOCATION:Bobrowiec z wyjątkiem ul. Bażancia, Bobrowiecka, Główna (55-71 oraz 80-80b), Kormoranów, Orla, Puszczyka, Sowia, Skrajna, Sójki, Wilgi Bobrowiec, Mazowieckie
ORGANIZER;CN=WGO Gminy Piaseczno:MAILTO:go@piaseczno.eu
DESCRIPTION: Odbiór odpadów 
URL;VALUE=URI:https://odpady.piaseczno.eu/harmonogram-odbioru-odpadow/odbior/bobrowiec-odpady-bio-ogrodowe/
SUMMARY:Bobrowiec z wyjątkiem ulic: Bażancia\, Bobrowiecka\, Główna (od nr 55 do 71 oraz od nr 80 do 80b)\, Kormoranów\, Orla\, Puszczyka\, Sowia\, Skrajna\, Wilgi – Metale i tworzywa sztuczne
END:VEVENT
BEGIN:VEVENT
DTSTART:20260708T060000Z
DTEND:20260708T190000Z
DTSTAMP:20260424T193815Z
UID:69ebc6a77fb09
CATEGORIES:Odpady segregowane -tworzywa sztuczne i metale
LOCATION:Bobrowiec z wyjątkiem ul. Bażancia, Bobrowiecka, Główna (55-71 oraz 80-80b), Kormoranów, Orla, Puszczyka, Sowia, Skrajna, Sójki, Wilgi Bobrowiec, Mazowieckie
ORGANIZER;CN=WGO Gminy Piaseczno:MAILTO:go@piaseczno.eu
DESCRIPTION: Odbiór odpadów 
URL;VALUE=URI:https://odpady.piaseczno.eu/harmonogram-odbioru-odpadow/odbior/bobrowiec-odpady-bio-ogrodowe/
SUMMARY:Bobrowiec z wyjątkiem ulic: Bażancia\, Bobrowiecka\, Główna (od nr 55 do 71 oraz od nr 80 do 80b)\, Kormoranów\, Orla\, Puszczyka\, Sowia\, Skrajna\, Wilgi – Metale i tworzywa sztuczne
END:VEVENT
BEGIN:VEVENT
DTSTART:20260722T060000Z
DTEND:20260722T190000Z
DTSTAMP:20260424T193815Z
UID:69ebc6a77fb28
CATEGORIES:Odpady segregowane -tworzywa sztuczne i metale
LOCATION:Bobrowiec z wyjątkiem ul. Bażancia, Bobrowiecka, Główna (55-71 oraz 80-80b), Kormoranów, Orla, Puszczyka, Sowia, Skrajna, Sójki, Wilgi Bobrowiec, Mazowieckie
ORGANIZER;CN=WGO Gminy Piaseczno:MAILTO:go@piaseczno.eu
DESCRIPTION: Odbiór odpadów 
URL;VALUE=URI:https://odpady.piaseczno.eu/harmonogram-odbioru-odpadow/odbior/bobrowiec-odpady-bio-ogrodowe/
SUMMARY:Bobrowiec z wyjątkiem ulic: Bażancia\, Bobrowiecka\, Główna (od nr 55 do 71 oraz od nr 80 do 80b)\, Kormoranów\, Orla\, Puszczyka\, Sowia\, Skrajna\, Wilgi – Metale i tworzywa sztuczne
END:VEVENT
BEGIN:VEVENT
DTSTART:20260805T060000Z
DTEND:20260805T190000Z
DTSTAMP:20260424T193815Z
UID:69ebc6a77fb42
CATEGORIES:Odpady segregowane -tworzywa sztuczne i metale
LOCATION:Bobrowiec z wyjątkiem ul. Bażancia, Bobrowiecka, Główna (55-71 oraz 80-80b), Kormoranów, Orla, Puszczyka, Sowia, Skrajna, Sójki, Wilgi Bobrowiec, Mazowieckie
ORGANIZER;CN=WGO Gminy Piaseczno:MAILTO:go@piaseczno.eu
DESCRIPTION: Odbiór odpadów 
URL;VALUE=URI:https://odpady.piaseczno.eu/harmonogram-odbioru-odpadow/odbior/bobrowiec-odpady-bio-ogrodowe/
SUMMARY:Bobrowiec z wyjątkiem ulic: Bażancia\, Bobrowiecka\, Główna (od nr 55 do 71 oraz od nr 80 do 80b)\, Kormoranów\, Orla\, Puszczyka\, Sowia\, Skrajna\, Wilgi – Metale i tworzywa sztuczne
END:VEVENT
BEGIN:VEVENT
DTSTART:20260819T060000Z
DTEND:20260819T190000Z
DTSTAMP:20260424T193815Z
UID:69ebc6a77fb5d
CATEGORIES:Odpady segregowane -tworzywa sztuczne i metale
LOCATION:Bobrowiec z wyjątkiem ul. Bażancia, Bobrowiecka, Główna (55-71 oraz 80-80b), Kormoranów, Orla, Puszczyka, Sowia, Skrajna, Sójki, Wilgi Bobrowiec, Mazowieckie
ORGANIZER;CN=WGO Gminy Piaseczno:MAILTO:go@piaseczno.eu
DESCRIPTION: Odbiór odpadów 
URL;VALUE=URI:https://odpady.piaseczno.eu/harmonogram-odbioru-odpadow/odbior/bobrowiec-odpady-bio-ogrodowe/
SUMMARY:Bobrowiec z wyjątkiem ulic: Bażancia\, Bobrowiecka\, Główna (od nr 55 do 71 oraz od nr 80 do 80b)\, Kormoranów\, Orla\, Puszczyka\, Sowia\, Skrajna\, Wilgi – Metale i tworzywa sztuczne
END:VEVENT
BEGIN:VEVENT
DTSTART:20260902T060000Z
DTEND:20260902T190000Z
DTSTAMP:20260424T193815Z
UID:69ebc6a77fb77
CATEGORIES:Odpady segregowane -tworzywa sztuczne i metale
LOCATION:Bobrowiec z wyjątkiem ul. Bażancia, Bobrowiecka, Główna (55-71 oraz 80-80b), Kormoranów, Orla, Puszczyka, Sowia, Skrajna, Sójki, Wilgi Bobrowiec, Mazowieckie
ORGANIZER;CN=WGO Gminy Piaseczno:MAILTO:go@piaseczno.eu
DESCRIPTION: Odbiór odpadów 
URL;VALUE=URI:https://odpady.piaseczno.eu/harmonogram-odbioru-odpadow/odbior/bobrowiec-odpady-bio-ogrodowe/
SUMMARY:Bobrowiec z wyjątkiem ulic: Bażancia\, Bobrowiecka\, Główna (od nr 55 do 71 oraz od nr 80 do 80b)\, Kormoranów\, Orla\, Puszczyka\, Sowia\, Skrajna\, Wilgi – Metale i tworzywa sztuczne
END:VEVENT
BEGIN:VEVENT
DTSTART:20260916T060000Z
DTEND:20260916T190000Z
DTSTAMP:20260424T193815Z
UID:69ebc6a77fb92
CATEGORIES:Odpady segregowane -tworzywa sztuczne i metale
LOCATION:Bobrowiec z wyjątkiem ul. Bażancia, Bobrowiecka, Główna (55-71 oraz 80-80b), Kormoranów, Orla, Puszczyka, Sowia, Skrajna, Sójki, Wilgi Bobrowiec, Mazowieckie
ORGANIZER;CN=WGO Gminy Piaseczno:MAILTO:go@piaseczno.eu
DESCRIPTION: Odbiór odpadów 
URL;VALUE=URI:https://odpady.piaseczno.eu/harmonogram-odbioru-odpadow/odbior/bobrowiec-odpady-bio-ogrodowe/
SUMMARY:Bobrowiec z wyjątkiem ulic: Bażancia\, Bobrowiecka\, Główna (od nr 55 do 71 oraz od nr 80 do 80b)\, Kormoranów\, Orla\, Puszczyka\, Sowia\, Skrajna\, Wilgi – Metale i tworzywa sztuczne
END:VEVENT
BEGIN:VEVENT
DTSTART:20260930T060000Z
DTEND:20260930T190000Z
DTSTAMP:20260424T193815Z
UID:69ebc6a77fbb0
CATEGORIES:Odpady segregowane -tworzywa sztuczne i metale
LOCATION:Bobrowiec z wyjątkiem ul. Bażancia, Bobrowiecka, Główna (55-71 oraz 80-80b), Kormoranów, Orla, Puszczyka, Sowia, Skrajna, Sójki, Wilgi Bobrowiec, Mazowieckie
ORGANIZER;CN=WGO Gminy Piaseczno:MAILTO:go@piaseczno.eu
DESCRIPTION: Odbiór odpadów 
URL;VALUE=URI:https://odpady.piaseczno.eu/harmonogram-odbioru-odpadow/odbior/bobrowiec-odpady-bio-ogrodowe/
SUMMARY:Bobrowiec z wyjątkiem ulic: Bażancia\, Bobrowiecka\, Główna (od nr 55 do 71 oraz od nr 80 do 80b)\, Kormoranów\, Orla\, Puszczyka\, Sowia\, Skrajna\, Wilgi – Metale i tworzywa sztuczne
END:VEVENT
BEGIN:VEVENT
DTSTART:20261014T060000Z
DTEND:20261014T190000Z
DTSTAMP:20260424T193815Z
UID:69ebc6a77fbcb
CATEGORIES:Odpady segregowane -tworzywa sztuczne i metale
LOCATION:Bobrowiec z wyjątkiem ul. Bażancia, Bobrowiecka, Główna (55-71 oraz 80-80b), Kormoranów, Orla, Puszczyka, Sowia, Skrajna, Sójki, Wilgi Bobrowiec, Mazowieckie
ORGANIZER;CN=WGO Gminy Piaseczno:MAILTO:go@piaseczno.eu
DESCRIPTION: Odbiór odpadów 
URL;VALUE=URI:https://odpady.piaseczno.eu/harmonogram-odbioru-odpadow/odbior/bobrowiec-odpady-bio-ogrodowe/
SUMMARY:Bobrowiec z wyjątkiem ulic: Bażancia\, Bobrowiecka\, Główna (od nr 55 do 71 oraz od nr 80 do 80b)\, Kormoranów\, Orla\, Puszczyka\, Sowia\, Skrajna\, Wilgi – Metale i tworzywa sztuczne
END:VEVENT
BEGIN:VEVENT
DTSTART:20261028T060000Z
DTEND:20261028T190000Z
DTSTAMP:20260424T193815Z
UID:69ebc6a77fbe6
CATEGORIES:Odpady segregowane -tworzywa sztuczne i metale
LOCATION:Bobrowiec z wyjątkiem ul. Bażancia, Bobrowiecka, Główna (55-71 oraz 80-80b), Kormoranów, Orla, Puszczyka, Sowia, Skrajna, Sójki, Wilgi Bobrowiec, Mazowieckie
ORGANIZER;CN=WGO Gminy Piaseczno:MAILTO:go@piaseczno.eu
DESCRIPTION: Odbiór odpadów 
URL;VALUE=URI:https://odpady.piaseczno.eu/harmonogram-odbioru-odpadow/odbior/bobrowiec-odpady-bio-ogrodowe/
SUMMARY:Bobrowiec z wyjątkiem ulic: Bażancia\, Bobrowiecka\, Główna (od nr 55 do 71 oraz od nr 80 do 80b)\, Kormoranów\, Orla\, Puszczyka\, Sowia\, Skrajna\, Wilgi – Metale i tworzywa sztuczne
END:VEVENT
BEGIN:VEVENT
DTSTART:20261114T060000Z
DTEND:20261114T190000Z
DTSTAMP:20260424T193815Z
UID:69ebc6a77fc00
CATEGORIES:Odpady segregowane -tworzywa sztuczne i metale
LOCATION:Bobrowiec z wyjątkiem ul. Bażancia, Bobrowiecka, Główna (55-71 oraz 80-80b), Kormoranów, Orla, Puszczyka, Sowia, Skrajna, Sójki, Wilgi Bobrowiec, Mazowieckie
ORGANIZER;CN=WGO Gminy Piaseczno:MAILTO:go@piaseczno.eu
DESCRIPTION: Odbiór odpadów 
URL;VALUE=URI:https://odpady.piaseczno.eu/harmonogram-odbioru-odpadow/odbior/bobrowiec-odpady-bio-ogrodowe/
SUMMARY:Bobrowiec z wyjątkiem ulic: Bażancia\, Bobrowiecka\, Główna (od nr 55 do 71 oraz od nr 80 do 80b)\, Kormoranów\, Orla\, Puszczyka\, Sowia\, Skrajna\, Wilgi – Metale i tworzywa sztuczne
END:VEVENT
BEGIN:VEVENT
DTSTART:20261125T060000Z
DTEND:20261125T190000Z
DTSTAMP:20260424T193815Z
UID:69ebc6a77fc1b
CATEGORIES:Odpady segregowane -tworzywa sztuczne i metale
LOCATION:Bobrowiec z wyjątkiem ul. Bażancia, Bobrowiecka, Główna (55-71 oraz 80-80b), Kormoranów, Orla, Puszczyka, Sowia, Skrajna, Sójki, Wilgi Bobrowiec, Mazowieckie
ORGANIZER;CN=WGO Gminy Piaseczno:MAILTO:go@piaseczno.eu
DESCRIPTION: Odbiór odpadów 
URL;VALUE=URI:https://odpady.piaseczno.eu/harmonogram-odbioru-odpadow/odbior/bobrowiec-odpady-bio-ogrodowe/
SUMMARY:Bobrowiec z wyjątkiem ulic: Bażancia\, Bobrowiecka\, Główna (od nr 55 do 71 oraz od nr 80 do 80b)\, Kormoranów\, Orla\, Puszczyka\, Sowia\, Skrajna\, Wilgi – Metale i tworzywa sztuczne
END:VEVENT
END:VCALENDAR
