BEGIN:VCALENDAR
VERSION:2.0
PRODID:-//DIGITAL FACTORY//EVENTS MAKER V1.6.12//EN
CALSCALE:GREGORIAN
METHOD:PUBLISH
BEGIN:VEVENT
DTSTART:20260119T060000Z
DTEND:20260119T190000Z
DTSTAMP:20260423T141347Z
UID:69ea291b61d2b
CATEGORIES:Odpady wielkogabarytowe
LOCATION:Baszkówka Baszkówka, Mazowieckie, PL
ORGANIZER;CN=WGO Gminy Piaseczno:MAILTO:go@piaseczno.eu
DESCRIPTION: Odbiór odpadów 
URL;VALUE=URI:https://odpady.piaseczno.eu/harmonogram-odbioru-odpadow/odbior/baszkowka-gloskow-z-wyjatkiem-ulic-abramowicza-radnych-od-nr-2-do-26-i-od-nr-1-do-21-szkolna-wspolna-runow-wolka-pracka-z-wyjatkiem-ulicy-zawadzkiej-odpady-wielkogabarytowe/
SUMMARY:Baszkówka\, Głosków z wyjątkiem ulic: Abramowicza\, Radnych (od nr 2 do 26 i od nr 1 do 21) Szkolna\, Wspólna\, Runów\, Wólka Pracka z wyjątkiem ulicy Zawadzkiej - odpady wielkogabarytowe
END:VEVENT
BEGIN:VEVENT
DTSTART:20260413T060000Z
DTEND:20260413T190000Z
DTSTAMP:20260423T141347Z
UID:69ea291b61de9
CATEGORIES:Odpady wielkogabarytowe
LOCATION:Baszkówka Baszkówka, Mazowieckie, PL
ORGANIZER;CN=WGO Gminy Piaseczno:MAILTO:go@piaseczno.eu
DESCRIPTION: Odbiór odpadów 
URL;VALUE=URI:https://odpady.piaseczno.eu/harmonogram-odbioru-odpadow/odbior/baszkowka-gloskow-z-wyjatkiem-ulic-abramowicza-radnych-od-nr-2-do-26-i-od-nr-1-do-21-szkolna-wspolna-runow-wolka-pracka-z-wyjatkiem-ulicy-zawadzkiej-odpady-wielkogabarytowe/
SUMMARY:Baszkówka\, Głosków z wyjątkiem ulic: Abramowicza\, Radnych (od nr 2 do 26 i od nr 1 do 21) Szkolna\, Wspólna\, Runów\, Wólka Pracka z wyjątkiem ulicy Zawadzkiej - odpady wielkogabarytowe
END:VEVENT
BEGIN:VEVENT
DTSTART:20260706T060000Z
DTEND:20260706T190000Z
DTSTAMP:20260423T141347Z
UID:69ea291b61e1c
CATEGORIES:Odpady wielkogabarytowe
LOCATION:Baszkówka Baszkówka, Mazowieckie, PL
ORGANIZER;CN=WGO Gminy Piaseczno:MAILTO:go@piaseczno.eu
DESCRIPTION: Odbiór odpadów 
URL;VALUE=URI:https://odpady.piaseczno.eu/harmonogram-odbioru-odpadow/odbior/baszkowka-gloskow-z-wyjatkiem-ulic-abramowicza-radnych-od-nr-2-do-26-i-od-nr-1-do-21-szkolna-wspolna-runow-wolka-pracka-z-wyjatkiem-ulicy-zawadzkiej-odpady-wielkogabarytowe/
SUMMARY:Baszkówka\, Głosków z wyjątkiem ulic: Abramowicza\, Radnych (od nr 2 do 26 i od nr 1 do 21) Szkolna\, Wspólna\, Runów\, Wólka Pracka z wyjątkiem ulicy Zawadzkiej - odpady wielkogabarytowe
END:VEVENT
BEGIN:VEVENT
DTSTART:20260928T060000Z
DTEND:20260928T190000Z
DTSTAMP:20260423T141347Z
UID:69ea291b61e40
CATEGORIES:Odpady wielkogabarytowe
LOCATION:Baszkówka Baszkówka, Mazowieckie, PL
ORGANIZER;CN=WGO Gminy Piaseczno:MAILTO:go@piaseczno.eu
DESCRIPTION: Odbiór odpadów 
URL;VALUE=URI:https://odpady.piaseczno.eu/harmonogram-odbioru-odpadow/odbior/baszkowka-gloskow-z-wyjatkiem-ulic-abramowicza-radnych-od-nr-2-do-26-i-od-nr-1-do-21-szkolna-wspolna-runow-wolka-pracka-z-wyjatkiem-ulicy-zawadzkiej-odpady-wielkogabarytowe/
SUMMARY:Baszkówka\, Głosków z wyjątkiem ulic: Abramowicza\, Radnych (od nr 2 do 26 i od nr 1 do 21) Szkolna\, Wspólna\, Runów\, Wólka Pracka z wyjątkiem ulicy Zawadzkiej - odpady wielkogabarytowe
END:VEVENT
END:VCALENDAR
