BEGIN:VCALENDAR
VERSION:2.0
PRODID:-//DIGITAL FACTORY//EVENTS MAKER V1.6.12//EN
CALSCALE:GREGORIAN
METHOD:PUBLISH
BEGIN:VEVENT
DTSTART:20260113T060000Z
DTEND:20260113T190000Z
DTSTAMP:20260423T160109Z
UID:69ea4245d7ec9
CATEGORIES:Odbiór choinek
LOCATION:Baszkówka Baszkówka, Mazowieckie, PL
DESCRIPTION: Odbiór odpadów 
URL;VALUE=URI:https://odpady.piaseczno.eu/harmonogram-odbioru-odpadow/odbior/baszkowka-gloskow-z-wyjatkiem-ulic-abramowicza-radnych-od-nr-2-do-26-i-od-nr-1-do-21-szkolna-wspolna-runow-wolka-pracka-z-wyjatkiem-ulicy-zawadzkiej-choinki/
SUMMARY:Baszkówka\, Głosków z wyjątkiem ulic: Abramowicza\, Radnych (od nr 2 do 26 i od nr 1 do 21) Szkolna\, Wspólna\, Runów\, Wólka Pracka z wyjątkiem ulicy Zawadzkiej - choinki
END:VEVENT
BEGIN:VEVENT
DTSTART:20260210T060000Z
DTEND:20260210T190000Z
DTSTAMP:20260423T160109Z
UID:69ea4245d7f58
CATEGORIES:Odbiór choinek
LOCATION:Baszkówka Baszkówka, Mazowieckie, PL
DESCRIPTION: Odbiór odpadów 
URL;VALUE=URI:https://odpady.piaseczno.eu/harmonogram-odbioru-odpadow/odbior/baszkowka-gloskow-z-wyjatkiem-ulic-abramowicza-radnych-od-nr-2-do-26-i-od-nr-1-do-21-szkolna-wspolna-runow-wolka-pracka-z-wyjatkiem-ulicy-zawadzkiej-choinki/
SUMMARY:Baszkówka\, Głosków z wyjątkiem ulic: Abramowicza\, Radnych (od nr 2 do 26 i od nr 1 do 21) Szkolna\, Wspólna\, Runów\, Wólka Pracka z wyjątkiem ulicy Zawadzkiej - choinki
END:VEVENT
END:VCALENDAR
