BEGIN:VCALENDAR
VERSION:2.0
PRODID:-//DIGITAL FACTORY//EVENTS MAKER V1.6.12//EN
CALSCALE:GREGORIAN
METHOD:PUBLISH
BEGIN:VEVENT
DTSTART:20251127T060000Z
DTEND:20251127T190000Z
DTSTAMP:20260420T123104Z
UID:69e61c888b644
CATEGORIES:Odpady zmieszane
LOCATION:Baszkówka Baszkówka, Mazowieckie, PL
ORGANIZER;CN=WGO Gminy Piaseczno:MAILTO:go@piaseczno.eu
DESCRIPTION: Odbiór odpadów 
URL;VALUE=URI:https://odpady.piaseczno.eu/harmonogram-odbioru-odpadow/odbior/baszkowka-gloskow-wolka-pracka-runow-tylko-ulice-wypoczynkowa-i-runowska-golkow-tylko-ul-zielona/
SUMMARY:Baszkówka\, Głosków z wyjątkiem ulic: Abramowicza\, Radnych (od nr 2 do 26 i od nr 1 do 21) Szkolna\, Wspólna\, Runów\, Wólka Pracka z wyjątkiem ulicy Zawadzkiej - odpady zmieszane
END:VEVENT
BEGIN:VEVENT
DTSTART:20251211T060000Z
DTEND:20251211T190000Z
DTSTAMP:20260420T123104Z
UID:69e61c888b6db
CATEGORIES:Odpady zmieszane
LOCATION:Baszkówka Baszkówka, Mazowieckie, PL
ORGANIZER;CN=WGO Gminy Piaseczno:MAILTO:go@piaseczno.eu
DESCRIPTION: Odbiór odpadów 
URL;VALUE=URI:https://odpady.piaseczno.eu/harmonogram-odbioru-odpadow/odbior/baszkowka-gloskow-wolka-pracka-runow-tylko-ulice-wypoczynkowa-i-runowska-golkow-tylko-ul-zielona/
SUMMARY:Baszkówka\, Głosków z wyjątkiem ulic: Abramowicza\, Radnych (od nr 2 do 26 i od nr 1 do 21) Szkolna\, Wspólna\, Runów\, Wólka Pracka z wyjątkiem ulicy Zawadzkiej - odpady zmieszane
END:VEVENT
BEGIN:VEVENT
DTSTART:20251223T060000Z
DTEND:20251223T190000Z
DTSTAMP:20260420T123104Z
UID:69e61c888b704
CATEGORIES:Odpady zmieszane
LOCATION:Baszkówka Baszkówka, Mazowieckie, PL
ORGANIZER;CN=WGO Gminy Piaseczno:MAILTO:go@piaseczno.eu
DESCRIPTION: Odbiór odpadów 
URL;VALUE=URI:https://odpady.piaseczno.eu/harmonogram-odbioru-odpadow/odbior/baszkowka-gloskow-wolka-pracka-runow-tylko-ulice-wypoczynkowa-i-runowska-golkow-tylko-ul-zielona/
SUMMARY:Baszkówka\, Głosków z wyjątkiem ulic: Abramowicza\, Radnych (od nr 2 do 26 i od nr 1 do 21) Szkolna\, Wspólna\, Runów\, Wólka Pracka z wyjątkiem ulicy Zawadzkiej - odpady zmieszane
END:VEVENT
BEGIN:VEVENT
DTSTART:20260108T060000Z
DTEND:20260108T190000Z
DTSTAMP:20260420T123104Z
UID:69e61c888b725
CATEGORIES:Odpady zmieszane
LOCATION:Baszkówka Baszkówka, Mazowieckie, PL
ORGANIZER;CN=WGO Gminy Piaseczno:MAILTO:go@piaseczno.eu
DESCRIPTION: Odbiór odpadów 
URL;VALUE=URI:https://odpady.piaseczno.eu/harmonogram-odbioru-odpadow/odbior/baszkowka-gloskow-wolka-pracka-runow-tylko-ulice-wypoczynkowa-i-runowska-golkow-tylko-ul-zielona/
SUMMARY:Baszkówka\, Głosków z wyjątkiem ulic: Abramowicza\, Radnych (od nr 2 do 26 i od nr 1 do 21) Szkolna\, Wspólna\, Runów\, Wólka Pracka z wyjątkiem ulicy Zawadzkiej - odpady zmieszane
END:VEVENT
BEGIN:VEVENT
DTSTART:20260122T060000Z
DTEND:20260122T190000Z
DTSTAMP:20260420T123104Z
UID:69e61c888b743
CATEGORIES:Odpady zmieszane
LOCATION:Baszkówka Baszkówka, Mazowieckie, PL
ORGANIZER;CN=WGO Gminy Piaseczno:MAILTO:go@piaseczno.eu
DESCRIPTION: Odbiór odpadów 
URL;VALUE=URI:https://odpady.piaseczno.eu/harmonogram-odbioru-odpadow/odbior/baszkowka-gloskow-wolka-pracka-runow-tylko-ulice-wypoczynkowa-i-runowska-golkow-tylko-ul-zielona/
SUMMARY:Baszkówka\, Głosków z wyjątkiem ulic: Abramowicza\, Radnych (od nr 2 do 26 i od nr 1 do 21) Szkolna\, Wspólna\, Runów\, Wólka Pracka z wyjątkiem ulicy Zawadzkiej - odpady zmieszane
END:VEVENT
BEGIN:VEVENT
DTSTART:20260205T060000Z
DTEND:20260205T190000Z
DTSTAMP:20260420T123104Z
UID:69e61c888b75f
CATEGORIES:Odpady zmieszane
LOCATION:Baszkówka Baszkówka, Mazowieckie, PL
ORGANIZER;CN=WGO Gminy Piaseczno:MAILTO:go@piaseczno.eu
DESCRIPTION: Odbiór odpadów 
URL;VALUE=URI:https://odpady.piaseczno.eu/harmonogram-odbioru-odpadow/odbior/baszkowka-gloskow-wolka-pracka-runow-tylko-ulice-wypoczynkowa-i-runowska-golkow-tylko-ul-zielona/
SUMMARY:Baszkówka\, Głosków z wyjątkiem ulic: Abramowicza\, Radnych (od nr 2 do 26 i od nr 1 do 21) Szkolna\, Wspólna\, Runów\, Wólka Pracka z wyjątkiem ulicy Zawadzkiej - odpady zmieszane
END:VEVENT
BEGIN:VEVENT
DTSTART:20260219T060000Z
DTEND:20260219T190000Z
DTSTAMP:20260420T123104Z
UID:69e61c888b77b
CATEGORIES:Odpady zmieszane
LOCATION:Baszkówka Baszkówka, Mazowieckie, PL
ORGANIZER;CN=WGO Gminy Piaseczno:MAILTO:go@piaseczno.eu
DESCRIPTION: Odbiór odpadów 
URL;VALUE=URI:https://odpady.piaseczno.eu/harmonogram-odbioru-odpadow/odbior/baszkowka-gloskow-wolka-pracka-runow-tylko-ulice-wypoczynkowa-i-runowska-golkow-tylko-ul-zielona/
SUMMARY:Baszkówka\, Głosków z wyjątkiem ulic: Abramowicza\, Radnych (od nr 2 do 26 i od nr 1 do 21) Szkolna\, Wspólna\, Runów\, Wólka Pracka z wyjątkiem ulicy Zawadzkiej - odpady zmieszane
END:VEVENT
BEGIN:VEVENT
DTSTART:20260305T060000Z
DTEND:20260305T190000Z
DTSTAMP:20260420T123104Z
UID:69e61c888b7a2
CATEGORIES:Odpady zmieszane
LOCATION:Baszkówka Baszkówka, Mazowieckie, PL
ORGANIZER;CN=WGO Gminy Piaseczno:MAILTO:go@piaseczno.eu
DESCRIPTION: Odbiór odpadów 
URL;VALUE=URI:https://odpady.piaseczno.eu/harmonogram-odbioru-odpadow/odbior/baszkowka-gloskow-wolka-pracka-runow-tylko-ulice-wypoczynkowa-i-runowska-golkow-tylko-ul-zielona/
SUMMARY:Baszkówka\, Głosków z wyjątkiem ulic: Abramowicza\, Radnych (od nr 2 do 26 i od nr 1 do 21) Szkolna\, Wspólna\, Runów\, Wólka Pracka z wyjątkiem ulicy Zawadzkiej - odpady zmieszane
END:VEVENT
BEGIN:VEVENT
DTSTART:20260319T060000Z
DTEND:20260319T190000Z
DTSTAMP:20260420T123104Z
UID:69e61c888b7be
CATEGORIES:Odpady zmieszane
LOCATION:Baszkówka Baszkówka, Mazowieckie, PL
ORGANIZER;CN=WGO Gminy Piaseczno:MAILTO:go@piaseczno.eu
DESCRIPTION: Odbiór odpadów 
URL;VALUE=URI:https://odpady.piaseczno.eu/harmonogram-odbioru-odpadow/odbior/baszkowka-gloskow-wolka-pracka-runow-tylko-ulice-wypoczynkowa-i-runowska-golkow-tylko-ul-zielona/
SUMMARY:Baszkówka\, Głosków z wyjątkiem ulic: Abramowicza\, Radnych (od nr 2 do 26 i od nr 1 do 21) Szkolna\, Wspólna\, Runów\, Wólka Pracka z wyjątkiem ulicy Zawadzkiej - odpady zmieszane
END:VEVENT
BEGIN:VEVENT
DTSTART:20260402T060000Z
DTEND:20260402T190000Z
DTSTAMP:20260420T123104Z
UID:69e61c888b7d9
CATEGORIES:Odpady zmieszane
LOCATION:Baszkówka Baszkówka, Mazowieckie, PL
ORGANIZER;CN=WGO Gminy Piaseczno:MAILTO:go@piaseczno.eu
DESCRIPTION: Odbiór odpadów 
URL;VALUE=URI:https://odpady.piaseczno.eu/harmonogram-odbioru-odpadow/odbior/baszkowka-gloskow-wolka-pracka-runow-tylko-ulice-wypoczynkowa-i-runowska-golkow-tylko-ul-zielona/
SUMMARY:Baszkówka\, Głosków z wyjątkiem ulic: Abramowicza\, Radnych (od nr 2 do 26 i od nr 1 do 21) Szkolna\, Wspólna\, Runów\, Wólka Pracka z wyjątkiem ulicy Zawadzkiej - odpady zmieszane
END:VEVENT
BEGIN:VEVENT
DTSTART:20260416T060000Z
DTEND:20260416T190000Z
DTSTAMP:20260420T123104Z
UID:69e61c888b7f4
CATEGORIES:Odpady zmieszane
LOCATION:Baszkówka Baszkówka, Mazowieckie, PL
ORGANIZER;CN=WGO Gminy Piaseczno:MAILTO:go@piaseczno.eu
DESCRIPTION: Odbiór odpadów 
URL;VALUE=URI:https://odpady.piaseczno.eu/harmonogram-odbioru-odpadow/odbior/baszkowka-gloskow-wolka-pracka-runow-tylko-ulice-wypoczynkowa-i-runowska-golkow-tylko-ul-zielona/
SUMMARY:Baszkówka\, Głosków z wyjątkiem ulic: Abramowicza\, Radnych (od nr 2 do 26 i od nr 1 do 21) Szkolna\, Wspólna\, Runów\, Wólka Pracka z wyjątkiem ulicy Zawadzkiej - odpady zmieszane
END:VEVENT
BEGIN:VEVENT
DTSTART:20260430T060000Z
DTEND:20260430T190000Z
DTSTAMP:20260420T123104Z
UID:69e61c888b80e
CATEGORIES:Odpady zmieszane
LOCATION:Baszkówka Baszkówka, Mazowieckie, PL
ORGANIZER;CN=WGO Gminy Piaseczno:MAILTO:go@piaseczno.eu
DESCRIPTION: Odbiór odpadów 
URL;VALUE=URI:https://odpady.piaseczno.eu/harmonogram-odbioru-odpadow/odbior/baszkowka-gloskow-wolka-pracka-runow-tylko-ulice-wypoczynkowa-i-runowska-golkow-tylko-ul-zielona/
SUMMARY:Baszkówka\, Głosków z wyjątkiem ulic: Abramowicza\, Radnych (od nr 2 do 26 i od nr 1 do 21) Szkolna\, Wspólna\, Runów\, Wólka Pracka z wyjątkiem ulicy Zawadzkiej - odpady zmieszane
END:VEVENT
BEGIN:VEVENT
DTSTART:20260514T060000Z
DTEND:20260514T190000Z
DTSTAMP:20260420T123104Z
UID:69e61c888b829
CATEGORIES:Odpady zmieszane
LOCATION:Baszkówka Baszkówka, Mazowieckie, PL
ORGANIZER;CN=WGO Gminy Piaseczno:MAILTO:go@piaseczno.eu
DESCRIPTION: Odbiór odpadów 
URL;VALUE=URI:https://odpady.piaseczno.eu/harmonogram-odbioru-odpadow/odbior/baszkowka-gloskow-wolka-pracka-runow-tylko-ulice-wypoczynkowa-i-runowska-golkow-tylko-ul-zielona/
SUMMARY:Baszkówka\, Głosków z wyjątkiem ulic: Abramowicza\, Radnych (od nr 2 do 26 i od nr 1 do 21) Szkolna\, Wspólna\, Runów\, Wólka Pracka z wyjątkiem ulicy Zawadzkiej - odpady zmieszane
END:VEVENT
BEGIN:VEVENT
DTSTART:20260528T060000Z
DTEND:20260528T190000Z
DTSTAMP:20260420T123104Z
UID:69e61c888b84a
CATEGORIES:Odpady zmieszane
LOCATION:Baszkówka Baszkówka, Mazowieckie, PL
ORGANIZER;CN=WGO Gminy Piaseczno:MAILTO:go@piaseczno.eu
DESCRIPTION: Odbiór odpadów 
URL;VALUE=URI:https://odpady.piaseczno.eu/harmonogram-odbioru-odpadow/odbior/baszkowka-gloskow-wolka-pracka-runow-tylko-ulice-wypoczynkowa-i-runowska-golkow-tylko-ul-zielona/
SUMMARY:Baszkówka\, Głosków z wyjątkiem ulic: Abramowicza\, Radnych (od nr 2 do 26 i od nr 1 do 21) Szkolna\, Wspólna\, Runów\, Wólka Pracka z wyjątkiem ulicy Zawadzkiej - odpady zmieszane
END:VEVENT
BEGIN:VEVENT
DTSTART:20260606T060000Z
DTEND:20260606T190000Z
DTSTAMP:20260420T123104Z
UID:69e61c888b864
CATEGORIES:Odpady zmieszane
LOCATION:Baszkówka Baszkówka, Mazowieckie, PL
ORGANIZER;CN=WGO Gminy Piaseczno:MAILTO:go@piaseczno.eu
DESCRIPTION: Odbiór odpadów 
URL;VALUE=URI:https://odpady.piaseczno.eu/harmonogram-odbioru-odpadow/odbior/baszkowka-gloskow-wolka-pracka-runow-tylko-ulice-wypoczynkowa-i-runowska-golkow-tylko-ul-zielona/
SUMMARY:Baszkówka\, Głosków z wyjątkiem ulic: Abramowicza\, Radnych (od nr 2 do 26 i od nr 1 do 21) Szkolna\, Wspólna\, Runów\, Wólka Pracka z wyjątkiem ulicy Zawadzkiej - odpady zmieszane
END:VEVENT
BEGIN:VEVENT
DTSTART:20260611T060000Z
DTEND:20260611T190000Z
DTSTAMP:20260420T123104Z
UID:69e61c888b87e
CATEGORIES:Odpady zmieszane
LOCATION:Baszkówka Baszkówka, Mazowieckie, PL
ORGANIZER;CN=WGO Gminy Piaseczno:MAILTO:go@piaseczno.eu
DESCRIPTION: Odbiór odpadów 
URL;VALUE=URI:https://odpady.piaseczno.eu/harmonogram-odbioru-odpadow/odbior/baszkowka-gloskow-wolka-pracka-runow-tylko-ulice-wypoczynkowa-i-runowska-golkow-tylko-ul-zielona/
SUMMARY:Baszkówka\, Głosków z wyjątkiem ulic: Abramowicza\, Radnych (od nr 2 do 26 i od nr 1 do 21) Szkolna\, Wspólna\, Runów\, Wólka Pracka z wyjątkiem ulicy Zawadzkiej - odpady zmieszane
END:VEVENT
BEGIN:VEVENT
DTSTART:20260618T060000Z
DTEND:20260618T190000Z
DTSTAMP:20260420T123104Z
UID:69e61c888b899
CATEGORIES:Odpady zmieszane
LOCATION:Baszkówka Baszkówka, Mazowieckie, PL
ORGANIZER;CN=WGO Gminy Piaseczno:MAILTO:go@piaseczno.eu
DESCRIPTION: Odbiór odpadów 
URL;VALUE=URI:https://odpady.piaseczno.eu/harmonogram-odbioru-odpadow/odbior/baszkowka-gloskow-wolka-pracka-runow-tylko-ulice-wypoczynkowa-i-runowska-golkow-tylko-ul-zielona/
SUMMARY:Baszkówka\, Głosków z wyjątkiem ulic: Abramowicza\, Radnych (od nr 2 do 26 i od nr 1 do 21) Szkolna\, Wspólna\, Runów\, Wólka Pracka z wyjątkiem ulicy Zawadzkiej - odpady zmieszane
END:VEVENT
BEGIN:VEVENT
DTSTART:20260625T060000Z
DTEND:20260625T190000Z
DTSTAMP:20260420T123104Z
UID:69e61c888b8b3
CATEGORIES:Odpady zmieszane
LOCATION:Baszkówka Baszkówka, Mazowieckie, PL
ORGANIZER;CN=WGO Gminy Piaseczno:MAILTO:go@piaseczno.eu
DESCRIPTION: Odbiór odpadów 
URL;VALUE=URI:https://odpady.piaseczno.eu/harmonogram-odbioru-odpadow/odbior/baszkowka-gloskow-wolka-pracka-runow-tylko-ulice-wypoczynkowa-i-runowska-golkow-tylko-ul-zielona/
SUMMARY:Baszkówka\, Głosków z wyjątkiem ulic: Abramowicza\, Radnych (od nr 2 do 26 i od nr 1 do 21) Szkolna\, Wspólna\, Runów\, Wólka Pracka z wyjątkiem ulicy Zawadzkiej - odpady zmieszane
END:VEVENT
BEGIN:VEVENT
DTSTART:20260702T060000Z
DTEND:20260702T190000Z
DTSTAMP:20260420T123104Z
UID:69e61c888b8cd
CATEGORIES:Odpady zmieszane
LOCATION:Baszkówka Baszkówka, Mazowieckie, PL
ORGANIZER;CN=WGO Gminy Piaseczno:MAILTO:go@piaseczno.eu
DESCRIPTION: Odbiór odpadów 
URL;VALUE=URI:https://odpady.piaseczno.eu/harmonogram-odbioru-odpadow/odbior/baszkowka-gloskow-wolka-pracka-runow-tylko-ulice-wypoczynkowa-i-runowska-golkow-tylko-ul-zielona/
SUMMARY:Baszkówka\, Głosków z wyjątkiem ulic: Abramowicza\, Radnych (od nr 2 do 26 i od nr 1 do 21) Szkolna\, Wspólna\, Runów\, Wólka Pracka z wyjątkiem ulicy Zawadzkiej - odpady zmieszane
END:VEVENT
BEGIN:VEVENT
DTSTART:20260709T060000Z
DTEND:20260709T190000Z
DTSTAMP:20260420T123104Z
UID:69e61c888b8eb
CATEGORIES:Odpady zmieszane
LOCATION:Baszkówka Baszkówka, Mazowieckie, PL
ORGANIZER;CN=WGO Gminy Piaseczno:MAILTO:go@piaseczno.eu
DESCRIPTION: Odbiór odpadów 
URL;VALUE=URI:https://odpady.piaseczno.eu/harmonogram-odbioru-odpadow/odbior/baszkowka-gloskow-wolka-pracka-runow-tylko-ulice-wypoczynkowa-i-runowska-golkow-tylko-ul-zielona/
SUMMARY:Baszkówka\, Głosków z wyjątkiem ulic: Abramowicza\, Radnych (od nr 2 do 26 i od nr 1 do 21) Szkolna\, Wspólna\, Runów\, Wólka Pracka z wyjątkiem ulicy Zawadzkiej - odpady zmieszane
END:VEVENT
BEGIN:VEVENT
DTSTART:20260716T060000Z
DTEND:20260716T190000Z
DTSTAMP:20260420T123104Z
UID:69e61c888b905
CATEGORIES:Odpady zmieszane
LOCATION:Baszkówka Baszkówka, Mazowieckie, PL
ORGANIZER;CN=WGO Gminy Piaseczno:MAILTO:go@piaseczno.eu
DESCRIPTION: Odbiór odpadów 
URL;VALUE=URI:https://odpady.piaseczno.eu/harmonogram-odbioru-odpadow/odbior/baszkowka-gloskow-wolka-pracka-runow-tylko-ulice-wypoczynkowa-i-runowska-golkow-tylko-ul-zielona/
SUMMARY:Baszkówka\, Głosków z wyjątkiem ulic: Abramowicza\, Radnych (od nr 2 do 26 i od nr 1 do 21) Szkolna\, Wspólna\, Runów\, Wólka Pracka z wyjątkiem ulicy Zawadzkiej - odpady zmieszane
END:VEVENT
BEGIN:VEVENT
DTSTART:20260723T060000Z
DTEND:20260723T190000Z
DTSTAMP:20260420T123104Z
UID:69e61c888b91f
CATEGORIES:Odpady zmieszane
LOCATION:Baszkówka Baszkówka, Mazowieckie, PL
ORGANIZER;CN=WGO Gminy Piaseczno:MAILTO:go@piaseczno.eu
DESCRIPTION: Odbiór odpadów 
URL;VALUE=URI:https://odpady.piaseczno.eu/harmonogram-odbioru-odpadow/odbior/baszkowka-gloskow-wolka-pracka-runow-tylko-ulice-wypoczynkowa-i-runowska-golkow-tylko-ul-zielona/
SUMMARY:Baszkówka\, Głosków z wyjątkiem ulic: Abramowicza\, Radnych (od nr 2 do 26 i od nr 1 do 21) Szkolna\, Wspólna\, Runów\, Wólka Pracka z wyjątkiem ulicy Zawadzkiej - odpady zmieszane
END:VEVENT
BEGIN:VEVENT
DTSTART:20260730T060000Z
DTEND:20260730T190000Z
DTSTAMP:20260420T123104Z
UID:69e61c888b939
CATEGORIES:Odpady zmieszane
LOCATION:Baszkówka Baszkówka, Mazowieckie, PL
ORGANIZER;CN=WGO Gminy Piaseczno:MAILTO:go@piaseczno.eu
DESCRIPTION: Odbiór odpadów 
URL;VALUE=URI:https://odpady.piaseczno.eu/harmonogram-odbioru-odpadow/odbior/baszkowka-gloskow-wolka-pracka-runow-tylko-ulice-wypoczynkowa-i-runowska-golkow-tylko-ul-zielona/
SUMMARY:Baszkówka\, Głosków z wyjątkiem ulic: Abramowicza\, Radnych (od nr 2 do 26 i od nr 1 do 21) Szkolna\, Wspólna\, Runów\, Wólka Pracka z wyjątkiem ulicy Zawadzkiej - odpady zmieszane
END:VEVENT
BEGIN:VEVENT
DTSTART:20260806T060000Z
DTEND:20260806T190000Z
DTSTAMP:20260420T123104Z
UID:69e61c888b953
CATEGORIES:Odpady zmieszane
LOCATION:Baszkówka Baszkówka, Mazowieckie, PL
ORGANIZER;CN=WGO Gminy Piaseczno:MAILTO:go@piaseczno.eu
DESCRIPTION: Odbiór odpadów 
URL;VALUE=URI:https://odpady.piaseczno.eu/harmonogram-odbioru-odpadow/odbior/baszkowka-gloskow-wolka-pracka-runow-tylko-ulice-wypoczynkowa-i-runowska-golkow-tylko-ul-zielona/
SUMMARY:Baszkówka\, Głosków z wyjątkiem ulic: Abramowicza\, Radnych (od nr 2 do 26 i od nr 1 do 21) Szkolna\, Wspólna\, Runów\, Wólka Pracka z wyjątkiem ulicy Zawadzkiej - odpady zmieszane
END:VEVENT
BEGIN:VEVENT
DTSTART:20260813T060000Z
DTEND:20260813T190000Z
DTSTAMP:20260420T123104Z
UID:69e61c888b96e
CATEGORIES:Odpady zmieszane
LOCATION:Baszkówka Baszkówka, Mazowieckie, PL
ORGANIZER;CN=WGO Gminy Piaseczno:MAILTO:go@piaseczno.eu
DESCRIPTION: Odbiór odpadów 
URL;VALUE=URI:https://odpady.piaseczno.eu/harmonogram-odbioru-odpadow/odbior/baszkowka-gloskow-wolka-pracka-runow-tylko-ulice-wypoczynkowa-i-runowska-golkow-tylko-ul-zielona/
SUMMARY:Baszkówka\, Głosków z wyjątkiem ulic: Abramowicza\, Radnych (od nr 2 do 26 i od nr 1 do 21) Szkolna\, Wspólna\, Runów\, Wólka Pracka z wyjątkiem ulicy Zawadzkiej - odpady zmieszane
END:VEVENT
BEGIN:VEVENT
DTSTART:20260820T060000Z
DTEND:20260820T190000Z
DTSTAMP:20260420T123104Z
UID:69e61c888b98c
CATEGORIES:Odpady zmieszane
LOCATION:Baszkówka Baszkówka, Mazowieckie, PL
ORGANIZER;CN=WGO Gminy Piaseczno:MAILTO:go@piaseczno.eu
DESCRIPTION: Odbiór odpadów 
URL;VALUE=URI:https://odpady.piaseczno.eu/harmonogram-odbioru-odpadow/odbior/baszkowka-gloskow-wolka-pracka-runow-tylko-ulice-wypoczynkowa-i-runowska-golkow-tylko-ul-zielona/
SUMMARY:Baszkówka\, Głosków z wyjątkiem ulic: Abramowicza\, Radnych (od nr 2 do 26 i od nr 1 do 21) Szkolna\, Wspólna\, Runów\, Wólka Pracka z wyjątkiem ulicy Zawadzkiej - odpady zmieszane
END:VEVENT
BEGIN:VEVENT
DTSTART:20260827T060000Z
DTEND:20260827T190000Z
DTSTAMP:20260420T123104Z
UID:69e61c888b9a7
CATEGORIES:Odpady zmieszane
LOCATION:Baszkówka Baszkówka, Mazowieckie, PL
ORGANIZER;CN=WGO Gminy Piaseczno:MAILTO:go@piaseczno.eu
DESCRIPTION: Odbiór odpadów 
URL;VALUE=URI:https://odpady.piaseczno.eu/harmonogram-odbioru-odpadow/odbior/baszkowka-gloskow-wolka-pracka-runow-tylko-ulice-wypoczynkowa-i-runowska-golkow-tylko-ul-zielona/
SUMMARY:Baszkówka\, Głosków z wyjątkiem ulic: Abramowicza\, Radnych (od nr 2 do 26 i od nr 1 do 21) Szkolna\, Wspólna\, Runów\, Wólka Pracka z wyjątkiem ulicy Zawadzkiej - odpady zmieszane
END:VEVENT
BEGIN:VEVENT
DTSTART:20260903T060000Z
DTEND:20260903T190000Z
DTSTAMP:20260420T123104Z
UID:69e61c888b9c1
CATEGORIES:Odpady zmieszane
LOCATION:Baszkówka Baszkówka, Mazowieckie, PL
ORGANIZER;CN=WGO Gminy Piaseczno:MAILTO:go@piaseczno.eu
DESCRIPTION: Odbiór odpadów 
URL;VALUE=URI:https://odpady.piaseczno.eu/harmonogram-odbioru-odpadow/odbior/baszkowka-gloskow-wolka-pracka-runow-tylko-ulice-wypoczynkowa-i-runowska-golkow-tylko-ul-zielona/
SUMMARY:Baszkówka\, Głosków z wyjątkiem ulic: Abramowicza\, Radnych (od nr 2 do 26 i od nr 1 do 21) Szkolna\, Wspólna\, Runów\, Wólka Pracka z wyjątkiem ulicy Zawadzkiej - odpady zmieszane
END:VEVENT
BEGIN:VEVENT
DTSTART:20260917T060000Z
DTEND:20260917T190000Z
DTSTAMP:20260420T123104Z
UID:69e61c888b9db
CATEGORIES:Odpady zmieszane
LOCATION:Baszkówka Baszkówka, Mazowieckie, PL
ORGANIZER;CN=WGO Gminy Piaseczno:MAILTO:go@piaseczno.eu
DESCRIPTION: Odbiór odpadów 
URL;VALUE=URI:https://odpady.piaseczno.eu/harmonogram-odbioru-odpadow/odbior/baszkowka-gloskow-wolka-pracka-runow-tylko-ulice-wypoczynkowa-i-runowska-golkow-tylko-ul-zielona/
SUMMARY:Baszkówka\, Głosków z wyjątkiem ulic: Abramowicza\, Radnych (od nr 2 do 26 i od nr 1 do 21) Szkolna\, Wspólna\, Runów\, Wólka Pracka z wyjątkiem ulicy Zawadzkiej - odpady zmieszane
END:VEVENT
BEGIN:VEVENT
DTSTART:20261001T060000Z
DTEND:20261001T190000Z
DTSTAMP:20260420T123104Z
UID:69e61c888b9f5
CATEGORIES:Odpady zmieszane
LOCATION:Baszkówka Baszkówka, Mazowieckie, PL
ORGANIZER;CN=WGO Gminy Piaseczno:MAILTO:go@piaseczno.eu
DESCRIPTION: Odbiór odpadów 
URL;VALUE=URI:https://odpady.piaseczno.eu/harmonogram-odbioru-odpadow/odbior/baszkowka-gloskow-wolka-pracka-runow-tylko-ulice-wypoczynkowa-i-runowska-golkow-tylko-ul-zielona/
SUMMARY:Baszkówka\, Głosków z wyjątkiem ulic: Abramowicza\, Radnych (od nr 2 do 26 i od nr 1 do 21) Szkolna\, Wspólna\, Runów\, Wólka Pracka z wyjątkiem ulicy Zawadzkiej - odpady zmieszane
END:VEVENT
BEGIN:VEVENT
DTSTART:20261015T060000Z
DTEND:20261015T190000Z
DTSTAMP:20260420T123104Z
UID:69e61c888ba0f
CATEGORIES:Odpady zmieszane
LOCATION:Baszkówka Baszkówka, Mazowieckie, PL
ORGANIZER;CN=WGO Gminy Piaseczno:MAILTO:go@piaseczno.eu
DESCRIPTION: Odbiór odpadów 
URL;VALUE=URI:https://odpady.piaseczno.eu/harmonogram-odbioru-odpadow/odbior/baszkowka-gloskow-wolka-pracka-runow-tylko-ulice-wypoczynkowa-i-runowska-golkow-tylko-ul-zielona/
SUMMARY:Baszkówka\, Głosków z wyjątkiem ulic: Abramowicza\, Radnych (od nr 2 do 26 i od nr 1 do 21) Szkolna\, Wspólna\, Runów\, Wólka Pracka z wyjątkiem ulicy Zawadzkiej - odpady zmieszane
END:VEVENT
BEGIN:VEVENT
DTSTART:20261029T060000Z
DTEND:20261029T190000Z
DTSTAMP:20260420T123104Z
UID:69e61c888ba2c
CATEGORIES:Odpady zmieszane
LOCATION:Baszkówka Baszkówka, Mazowieckie, PL
ORGANIZER;CN=WGO Gminy Piaseczno:MAILTO:go@piaseczno.eu
DESCRIPTION: Odbiór odpadów 
URL;VALUE=URI:https://odpady.piaseczno.eu/harmonogram-odbioru-odpadow/odbior/baszkowka-gloskow-wolka-pracka-runow-tylko-ulice-wypoczynkowa-i-runowska-golkow-tylko-ul-zielona/
SUMMARY:Baszkówka\, Głosków z wyjątkiem ulic: Abramowicza\, Radnych (od nr 2 do 26 i od nr 1 do 21) Szkolna\, Wspólna\, Runów\, Wólka Pracka z wyjątkiem ulicy Zawadzkiej - odpady zmieszane
END:VEVENT
BEGIN:VEVENT
DTSTART:20261112T060000Z
DTEND:20261112T190000Z
DTSTAMP:20260420T123104Z
UID:69e61c888ba47
CATEGORIES:Odpady zmieszane
LOCATION:Baszkówka Baszkówka, Mazowieckie, PL
ORGANIZER;CN=WGO Gminy Piaseczno:MAILTO:go@piaseczno.eu
DESCRIPTION: Odbiór odpadów 
URL;VALUE=URI:https://odpady.piaseczno.eu/harmonogram-odbioru-odpadow/odbior/baszkowka-gloskow-wolka-pracka-runow-tylko-ulice-wypoczynkowa-i-runowska-golkow-tylko-ul-zielona/
SUMMARY:Baszkówka\, Głosków z wyjątkiem ulic: Abramowicza\, Radnych (od nr 2 do 26 i od nr 1 do 21) Szkolna\, Wspólna\, Runów\, Wólka Pracka z wyjątkiem ulicy Zawadzkiej - odpady zmieszane
END:VEVENT
BEGIN:VEVENT
DTSTART:20261126T060000Z
DTEND:20261126T190000Z
DTSTAMP:20260420T123104Z
UID:69e61c888ba93
CATEGORIES:Odpady zmieszane
LOCATION:Baszkówka Baszkówka, Mazowieckie, PL
ORGANIZER;CN=WGO Gminy Piaseczno:MAILTO:go@piaseczno.eu
DESCRIPTION: Odbiór odpadów 
URL;VALUE=URI:https://odpady.piaseczno.eu/harmonogram-odbioru-odpadow/odbior/baszkowka-gloskow-wolka-pracka-runow-tylko-ulice-wypoczynkowa-i-runowska-golkow-tylko-ul-zielona/
SUMMARY:Baszkówka\, Głosków z wyjątkiem ulic: Abramowicza\, Radnych (od nr 2 do 26 i od nr 1 do 21) Szkolna\, Wspólna\, Runów\, Wólka Pracka z wyjątkiem ulicy Zawadzkiej - odpady zmieszane
END:VEVENT
END:VCALENDAR
