BEGIN:VCALENDAR
VERSION:2.0
PRODID:-//DIGITAL FACTORY//EVENTS MAKER V1.6.12//EN
CALSCALE:GREGORIAN
METHOD:PUBLISH
BEGIN:VEVENT
DTSTART:20251114T060000Z
DTEND:20251114T190000Z
DTSTAMP:20260425T235046Z
UID:69ed535675e44
CATEGORIES:Odpady zmieszane
LOCATION:Bąkówka Bąkówka, Mazowieckie
ORGANIZER;CN=WGO Gminy Piaseczno:MAILTO:go@piaseczno.eu
DESCRIPTION: Odbiór odpadów 
URL;VALUE=URI:https://odpady.piaseczno.eu/harmonogram-odbioru-odpadow/odbior/bakowka-gloskow-letnisko-gloskow-tylko-ulice-abramowicza-radnych-od-nr-2-do-26-i-od-1-do-21-szkolna-wspolna-golkow-tylko-ulice-ceramiczna-ceglana-czterolistnej-koniczyny-duzego-stawu-gol/
SUMMARY:Bąkówka\; Głosków Letnisko\; Głosków tylko ulice: Abramowicza\, Radnych (od nr 2 do 26 i od 1 do 21)\, Szkolna\, Wspólna\; Gołków tylko ulice: Ceramiczna\, Ceglana\, Czterolistnej Koniczyny\, Dużego Stawu\, Gołkowska (od nr 56a do 128a i od nr 43 do nr 113)\, Małego Stawu\, Zielona
END:VEVENT
BEGIN:VEVENT
DTSTART:20251128T060000Z
DTEND:20251128T190000Z
DTSTAMP:20260425T235046Z
UID:69ed535675efe
CATEGORIES:Odpady zmieszane
LOCATION:Bąkówka Bąkówka, Mazowieckie
ORGANIZER;CN=WGO Gminy Piaseczno:MAILTO:go@piaseczno.eu
DESCRIPTION: Odbiór odpadów 
URL;VALUE=URI:https://odpady.piaseczno.eu/harmonogram-odbioru-odpadow/odbior/bakowka-gloskow-letnisko-gloskow-tylko-ulice-abramowicza-radnych-od-nr-2-do-26-i-od-1-do-21-szkolna-wspolna-golkow-tylko-ulice-ceramiczna-ceglana-czterolistnej-koniczyny-duzego-stawu-gol/
SUMMARY:Bąkówka\; Głosków Letnisko\; Głosków tylko ulice: Abramowicza\, Radnych (od nr 2 do 26 i od 1 do 21)\, Szkolna\, Wspólna\; Gołków tylko ulice: Ceramiczna\, Ceglana\, Czterolistnej Koniczyny\, Dużego Stawu\, Gołkowska (od nr 56a do 128a i od nr 43 do nr 113)\, Małego Stawu\, Zielona
END:VEVENT
BEGIN:VEVENT
DTSTART:20251212T060000Z
DTEND:20251212T190000Z
DTSTAMP:20260425T235046Z
UID:69ed535675f3d
CATEGORIES:Odpady zmieszane
LOCATION:Bąkówka Bąkówka, Mazowieckie
ORGANIZER;CN=WGO Gminy Piaseczno:MAILTO:go@piaseczno.eu
DESCRIPTION: Odbiór odpadów 
URL;VALUE=URI:https://odpady.piaseczno.eu/harmonogram-odbioru-odpadow/odbior/bakowka-gloskow-letnisko-gloskow-tylko-ulice-abramowicza-radnych-od-nr-2-do-26-i-od-1-do-21-szkolna-wspolna-golkow-tylko-ulice-ceramiczna-ceglana-czterolistnej-koniczyny-duzego-stawu-gol/
SUMMARY:Bąkówka\; Głosków Letnisko\; Głosków tylko ulice: Abramowicza\, Radnych (od nr 2 do 26 i od 1 do 21)\, Szkolna\, Wspólna\; Gołków tylko ulice: Ceramiczna\, Ceglana\, Czterolistnej Koniczyny\, Dużego Stawu\, Gołkowska (od nr 56a do 128a i od nr 43 do nr 113)\, Małego Stawu\, Zielona
END:VEVENT
BEGIN:VEVENT
DTSTART:20251227T060000Z
DTEND:20251227T190000Z
DTSTAMP:20260425T235046Z
UID:69ed535675f6e
CATEGORIES:Odpady zmieszane
LOCATION:Bąkówka Bąkówka, Mazowieckie
ORGANIZER;CN=WGO Gminy Piaseczno:MAILTO:go@piaseczno.eu
DESCRIPTION: Odbiór odpadów 
URL;VALUE=URI:https://odpady.piaseczno.eu/harmonogram-odbioru-odpadow/odbior/bakowka-gloskow-letnisko-gloskow-tylko-ulice-abramowicza-radnych-od-nr-2-do-26-i-od-1-do-21-szkolna-wspolna-golkow-tylko-ulice-ceramiczna-ceglana-czterolistnej-koniczyny-duzego-stawu-gol/
SUMMARY:Bąkówka\; Głosków Letnisko\; Głosków tylko ulice: Abramowicza\, Radnych (od nr 2 do 26 i od 1 do 21)\, Szkolna\, Wspólna\; Gołków tylko ulice: Ceramiczna\, Ceglana\, Czterolistnej Koniczyny\, Dużego Stawu\, Gołkowska (od nr 56a do 128a i od nr 43 do nr 113)\, Małego Stawu\, Zielona
END:VEVENT
BEGIN:VEVENT
DTSTART:20260109T060000Z
DTEND:20260109T190000Z
DTSTAMP:20260425T235046Z
UID:69ed535675f8f
CATEGORIES:Odpady zmieszane
LOCATION:Bąkówka Bąkówka, Mazowieckie
ORGANIZER;CN=WGO Gminy Piaseczno:MAILTO:go@piaseczno.eu
DESCRIPTION: Odbiór odpadów 
URL;VALUE=URI:https://odpady.piaseczno.eu/harmonogram-odbioru-odpadow/odbior/bakowka-gloskow-letnisko-gloskow-tylko-ulice-abramowicza-radnych-od-nr-2-do-26-i-od-1-do-21-szkolna-wspolna-golkow-tylko-ulice-ceramiczna-ceglana-czterolistnej-koniczyny-duzego-stawu-gol/
SUMMARY:Bąkówka\; Głosków Letnisko\; Głosków tylko ulice: Abramowicza\, Radnych (od nr 2 do 26 i od 1 do 21)\, Szkolna\, Wspólna\; Gołków tylko ulice: Ceramiczna\, Ceglana\, Czterolistnej Koniczyny\, Dużego Stawu\, Gołkowska (od nr 56a do 128a i od nr 43 do nr 113)\, Małego Stawu\, Zielona
END:VEVENT
BEGIN:VEVENT
DTSTART:20260123T060000Z
DTEND:20260123T190000Z
DTSTAMP:20260425T235046Z
UID:69ed535675fc4
CATEGORIES:Odpady zmieszane
LOCATION:Bąkówka Bąkówka, Mazowieckie
ORGANIZER;CN=WGO Gminy Piaseczno:MAILTO:go@piaseczno.eu
DESCRIPTION: Odbiór odpadów 
URL;VALUE=URI:https://odpady.piaseczno.eu/harmonogram-odbioru-odpadow/odbior/bakowka-gloskow-letnisko-gloskow-tylko-ulice-abramowicza-radnych-od-nr-2-do-26-i-od-1-do-21-szkolna-wspolna-golkow-tylko-ulice-ceramiczna-ceglana-czterolistnej-koniczyny-duzego-stawu-gol/
SUMMARY:Bąkówka\; Głosków Letnisko\; Głosków tylko ulice: Abramowicza\, Radnych (od nr 2 do 26 i od 1 do 21)\, Szkolna\, Wspólna\; Gołków tylko ulice: Ceramiczna\, Ceglana\, Czterolistnej Koniczyny\, Dużego Stawu\, Gołkowska (od nr 56a do 128a i od nr 43 do nr 113)\, Małego Stawu\, Zielona
END:VEVENT
BEGIN:VEVENT
DTSTART:20260206T060000Z
DTEND:20260206T190000Z
DTSTAMP:20260425T235046Z
UID:69ed535675ff2
CATEGORIES:Odpady zmieszane
LOCATION:Bąkówka Bąkówka, Mazowieckie
ORGANIZER;CN=WGO Gminy Piaseczno:MAILTO:go@piaseczno.eu
DESCRIPTION: Odbiór odpadów 
URL;VALUE=URI:https://odpady.piaseczno.eu/harmonogram-odbioru-odpadow/odbior/bakowka-gloskow-letnisko-gloskow-tylko-ulice-abramowicza-radnych-od-nr-2-do-26-i-od-1-do-21-szkolna-wspolna-golkow-tylko-ulice-ceramiczna-ceglana-czterolistnej-koniczyny-duzego-stawu-gol/
SUMMARY:Bąkówka\; Głosków Letnisko\; Głosków tylko ulice: Abramowicza\, Radnych (od nr 2 do 26 i od 1 do 21)\, Szkolna\, Wspólna\; Gołków tylko ulice: Ceramiczna\, Ceglana\, Czterolistnej Koniczyny\, Dużego Stawu\, Gołkowska (od nr 56a do 128a i od nr 43 do nr 113)\, Małego Stawu\, Zielona
END:VEVENT
BEGIN:VEVENT
DTSTART:20260220T060000Z
DTEND:20260220T190000Z
DTSTAMP:20260425T235046Z
UID:69ed535676010
CATEGORIES:Odpady zmieszane
LOCATION:Bąkówka Bąkówka, Mazowieckie
ORGANIZER;CN=WGO Gminy Piaseczno:MAILTO:go@piaseczno.eu
DESCRIPTION: Odbiór odpadów 
URL;VALUE=URI:https://odpady.piaseczno.eu/harmonogram-odbioru-odpadow/odbior/bakowka-gloskow-letnisko-gloskow-tylko-ulice-abramowicza-radnych-od-nr-2-do-26-i-od-1-do-21-szkolna-wspolna-golkow-tylko-ulice-ceramiczna-ceglana-czterolistnej-koniczyny-duzego-stawu-gol/
SUMMARY:Bąkówka\; Głosków Letnisko\; Głosków tylko ulice: Abramowicza\, Radnych (od nr 2 do 26 i od 1 do 21)\, Szkolna\, Wspólna\; Gołków tylko ulice: Ceramiczna\, Ceglana\, Czterolistnej Koniczyny\, Dużego Stawu\, Gołkowska (od nr 56a do 128a i od nr 43 do nr 113)\, Małego Stawu\, Zielona
END:VEVENT
BEGIN:VEVENT
DTSTART:20260306T060000Z
DTEND:20260306T190000Z
DTSTAMP:20260425T235046Z
UID:69ed535676035
CATEGORIES:Odpady zmieszane
LOCATION:Bąkówka Bąkówka, Mazowieckie
ORGANIZER;CN=WGO Gminy Piaseczno:MAILTO:go@piaseczno.eu
DESCRIPTION: Odbiór odpadów 
URL;VALUE=URI:https://odpady.piaseczno.eu/harmonogram-odbioru-odpadow/odbior/bakowka-gloskow-letnisko-gloskow-tylko-ulice-abramowicza-radnych-od-nr-2-do-26-i-od-1-do-21-szkolna-wspolna-golkow-tylko-ulice-ceramiczna-ceglana-czterolistnej-koniczyny-duzego-stawu-gol/
SUMMARY:Bąkówka\; Głosków Letnisko\; Głosków tylko ulice: Abramowicza\, Radnych (od nr 2 do 26 i od 1 do 21)\, Szkolna\, Wspólna\; Gołków tylko ulice: Ceramiczna\, Ceglana\, Czterolistnej Koniczyny\, Dużego Stawu\, Gołkowska (od nr 56a do 128a i od nr 43 do nr 113)\, Małego Stawu\, Zielona
END:VEVENT
BEGIN:VEVENT
DTSTART:20260320T060000Z
DTEND:20260320T190000Z
DTSTAMP:20260425T235046Z
UID:69ed53567607b
CATEGORIES:Odpady zmieszane
LOCATION:Bąkówka Bąkówka, Mazowieckie
ORGANIZER;CN=WGO Gminy Piaseczno:MAILTO:go@piaseczno.eu
DESCRIPTION: Odbiór odpadów 
URL;VALUE=URI:https://odpady.piaseczno.eu/harmonogram-odbioru-odpadow/odbior/bakowka-gloskow-letnisko-gloskow-tylko-ulice-abramowicza-radnych-od-nr-2-do-26-i-od-1-do-21-szkolna-wspolna-golkow-tylko-ulice-ceramiczna-ceglana-czterolistnej-koniczyny-duzego-stawu-gol/
SUMMARY:Bąkówka\; Głosków Letnisko\; Głosków tylko ulice: Abramowicza\, Radnych (od nr 2 do 26 i od 1 do 21)\, Szkolna\, Wspólna\; Gołków tylko ulice: Ceramiczna\, Ceglana\, Czterolistnej Koniczyny\, Dużego Stawu\, Gołkowska (od nr 56a do 128a i od nr 43 do nr 113)\, Małego Stawu\, Zielona
END:VEVENT
BEGIN:VEVENT
DTSTART:20260403T060000Z
DTEND:20260403T190000Z
DTSTAMP:20260425T235046Z
UID:69ed5356760af
CATEGORIES:Odpady zmieszane
LOCATION:Bąkówka Bąkówka, Mazowieckie
ORGANIZER;CN=WGO Gminy Piaseczno:MAILTO:go@piaseczno.eu
DESCRIPTION: Odbiór odpadów 
URL;VALUE=URI:https://odpady.piaseczno.eu/harmonogram-odbioru-odpadow/odbior/bakowka-gloskow-letnisko-gloskow-tylko-ulice-abramowicza-radnych-od-nr-2-do-26-i-od-1-do-21-szkolna-wspolna-golkow-tylko-ulice-ceramiczna-ceglana-czterolistnej-koniczyny-duzego-stawu-gol/
SUMMARY:Bąkówka\; Głosków Letnisko\; Głosków tylko ulice: Abramowicza\, Radnych (od nr 2 do 26 i od 1 do 21)\, Szkolna\, Wspólna\; Gołków tylko ulice: Ceramiczna\, Ceglana\, Czterolistnej Koniczyny\, Dużego Stawu\, Gołkowska (od nr 56a do 128a i od nr 43 do nr 113)\, Małego Stawu\, Zielona
END:VEVENT
BEGIN:VEVENT
DTSTART:20260417T060000Z
DTEND:20260417T190000Z
DTSTAMP:20260425T235046Z
UID:69ed5356760dc
CATEGORIES:Odpady zmieszane
LOCATION:Bąkówka Bąkówka, Mazowieckie
ORGANIZER;CN=WGO Gminy Piaseczno:MAILTO:go@piaseczno.eu
DESCRIPTION: Odbiór odpadów 
URL;VALUE=URI:https://odpady.piaseczno.eu/harmonogram-odbioru-odpadow/odbior/bakowka-gloskow-letnisko-gloskow-tylko-ulice-abramowicza-radnych-od-nr-2-do-26-i-od-1-do-21-szkolna-wspolna-golkow-tylko-ulice-ceramiczna-ceglana-czterolistnej-koniczyny-duzego-stawu-gol/
SUMMARY:Bąkówka\; Głosków Letnisko\; Głosków tylko ulice: Abramowicza\, Radnych (od nr 2 do 26 i od 1 do 21)\, Szkolna\, Wspólna\; Gołków tylko ulice: Ceramiczna\, Ceglana\, Czterolistnej Koniczyny\, Dużego Stawu\, Gołkowska (od nr 56a do 128a i od nr 43 do nr 113)\, Małego Stawu\, Zielona
END:VEVENT
BEGIN:VEVENT
DTSTART:20260504T060000Z
DTEND:20260504T190000Z
DTSTAMP:20260425T235046Z
UID:69ed5356760f9
CATEGORIES:Odpady zmieszane
LOCATION:Bąkówka Bąkówka, Mazowieckie
ORGANIZER;CN=WGO Gminy Piaseczno:MAILTO:go@piaseczno.eu
DESCRIPTION: Odbiór odpadów 
URL;VALUE=URI:https://odpady.piaseczno.eu/harmonogram-odbioru-odpadow/odbior/bakowka-gloskow-letnisko-gloskow-tylko-ulice-abramowicza-radnych-od-nr-2-do-26-i-od-1-do-21-szkolna-wspolna-golkow-tylko-ulice-ceramiczna-ceglana-czterolistnej-koniczyny-duzego-stawu-gol/
SUMMARY:Bąkówka\; Głosków Letnisko\; Głosków tylko ulice: Abramowicza\, Radnych (od nr 2 do 26 i od 1 do 21)\, Szkolna\, Wspólna\; Gołków tylko ulice: Ceramiczna\, Ceglana\, Czterolistnej Koniczyny\, Dużego Stawu\, Gołkowska (od nr 56a do 128a i od nr 43 do nr 113)\, Małego Stawu\, Zielona
END:VEVENT
BEGIN:VEVENT
DTSTART:20260515T060000Z
DTEND:20260515T190000Z
DTSTAMP:20260425T235046Z
UID:69ed535676115
CATEGORIES:Odpady zmieszane
LOCATION:Bąkówka Bąkówka, Mazowieckie
ORGANIZER;CN=WGO Gminy Piaseczno:MAILTO:go@piaseczno.eu
DESCRIPTION: Odbiór odpadów 
URL;VALUE=URI:https://odpady.piaseczno.eu/harmonogram-odbioru-odpadow/odbior/bakowka-gloskow-letnisko-gloskow-tylko-ulice-abramowicza-radnych-od-nr-2-do-26-i-od-1-do-21-szkolna-wspolna-golkow-tylko-ulice-ceramiczna-ceglana-czterolistnej-koniczyny-duzego-stawu-gol/
SUMMARY:Bąkówka\; Głosków Letnisko\; Głosków tylko ulice: Abramowicza\, Radnych (od nr 2 do 26 i od 1 do 21)\, Szkolna\, Wspólna\; Gołków tylko ulice: Ceramiczna\, Ceglana\, Czterolistnej Koniczyny\, Dużego Stawu\, Gołkowska (od nr 56a do 128a i od nr 43 do nr 113)\, Małego Stawu\, Zielona
END:VEVENT
BEGIN:VEVENT
DTSTART:20260529T060000Z
DTEND:20260529T190000Z
DTSTAMP:20260425T235046Z
UID:69ed535676131
CATEGORIES:Odpady zmieszane
LOCATION:Bąkówka Bąkówka, Mazowieckie
ORGANIZER;CN=WGO Gminy Piaseczno:MAILTO:go@piaseczno.eu
DESCRIPTION: Odbiór odpadów 
URL;VALUE=URI:https://odpady.piaseczno.eu/harmonogram-odbioru-odpadow/odbior/bakowka-gloskow-letnisko-gloskow-tylko-ulice-abramowicza-radnych-od-nr-2-do-26-i-od-1-do-21-szkolna-wspolna-golkow-tylko-ulice-ceramiczna-ceglana-czterolistnej-koniczyny-duzego-stawu-gol/
SUMMARY:Bąkówka\; Głosków Letnisko\; Głosków tylko ulice: Abramowicza\, Radnych (od nr 2 do 26 i od 1 do 21)\, Szkolna\, Wspólna\; Gołków tylko ulice: Ceramiczna\, Ceglana\, Czterolistnej Koniczyny\, Dużego Stawu\, Gołkowska (od nr 56a do 128a i od nr 43 do nr 113)\, Małego Stawu\, Zielona
END:VEVENT
BEGIN:VEVENT
DTSTART:20260605T060000Z
DTEND:20260605T190000Z
DTSTAMP:20260425T235046Z
UID:69ed53567615f
CATEGORIES:Odpady zmieszane
LOCATION:Bąkówka Bąkówka, Mazowieckie
ORGANIZER;CN=WGO Gminy Piaseczno:MAILTO:go@piaseczno.eu
DESCRIPTION: Odbiór odpadów 
URL;VALUE=URI:https://odpady.piaseczno.eu/harmonogram-odbioru-odpadow/odbior/bakowka-gloskow-letnisko-gloskow-tylko-ulice-abramowicza-radnych-od-nr-2-do-26-i-od-1-do-21-szkolna-wspolna-golkow-tylko-ulice-ceramiczna-ceglana-czterolistnej-koniczyny-duzego-stawu-gol/
SUMMARY:Bąkówka\; Głosków Letnisko\; Głosków tylko ulice: Abramowicza\, Radnych (od nr 2 do 26 i od 1 do 21)\, Szkolna\, Wspólna\; Gołków tylko ulice: Ceramiczna\, Ceglana\, Czterolistnej Koniczyny\, Dużego Stawu\, Gołkowska (od nr 56a do 128a i od nr 43 do nr 113)\, Małego Stawu\, Zielona
END:VEVENT
BEGIN:VEVENT
DTSTART:20260612T060000Z
DTEND:20260612T190000Z
DTSTAMP:20260425T235046Z
UID:69ed53567617e
CATEGORIES:Odpady zmieszane
LOCATION:Bąkówka Bąkówka, Mazowieckie
ORGANIZER;CN=WGO Gminy Piaseczno:MAILTO:go@piaseczno.eu
DESCRIPTION: Odbiór odpadów 
URL;VALUE=URI:https://odpady.piaseczno.eu/harmonogram-odbioru-odpadow/odbior/bakowka-gloskow-letnisko-gloskow-tylko-ulice-abramowicza-radnych-od-nr-2-do-26-i-od-1-do-21-szkolna-wspolna-golkow-tylko-ulice-ceramiczna-ceglana-czterolistnej-koniczyny-duzego-stawu-gol/
SUMMARY:Bąkówka\; Głosków Letnisko\; Głosków tylko ulice: Abramowicza\, Radnych (od nr 2 do 26 i od 1 do 21)\, Szkolna\, Wspólna\; Gołków tylko ulice: Ceramiczna\, Ceglana\, Czterolistnej Koniczyny\, Dużego Stawu\, Gołkowska (od nr 56a do 128a i od nr 43 do nr 113)\, Małego Stawu\, Zielona
END:VEVENT
BEGIN:VEVENT
DTSTART:20260619T060000Z
DTEND:20260619T190000Z
DTSTAMP:20260425T235046Z
UID:69ed53567619b
CATEGORIES:Odpady zmieszane
LOCATION:Bąkówka Bąkówka, Mazowieckie
ORGANIZER;CN=WGO Gminy Piaseczno:MAILTO:go@piaseczno.eu
DESCRIPTION: Odbiór odpadów 
URL;VALUE=URI:https://odpady.piaseczno.eu/harmonogram-odbioru-odpadow/odbior/bakowka-gloskow-letnisko-gloskow-tylko-ulice-abramowicza-radnych-od-nr-2-do-26-i-od-1-do-21-szkolna-wspolna-golkow-tylko-ulice-ceramiczna-ceglana-czterolistnej-koniczyny-duzego-stawu-gol/
SUMMARY:Bąkówka\; Głosków Letnisko\; Głosków tylko ulice: Abramowicza\, Radnych (od nr 2 do 26 i od 1 do 21)\, Szkolna\, Wspólna\; Gołków tylko ulice: Ceramiczna\, Ceglana\, Czterolistnej Koniczyny\, Dużego Stawu\, Gołkowska (od nr 56a do 128a i od nr 43 do nr 113)\, Małego Stawu\, Zielona
END:VEVENT
BEGIN:VEVENT
DTSTART:20260626T060000Z
DTEND:20260626T190000Z
DTSTAMP:20260425T235046Z
UID:69ed5356761b7
CATEGORIES:Odpady zmieszane
LOCATION:Bąkówka Bąkówka, Mazowieckie
ORGANIZER;CN=WGO Gminy Piaseczno:MAILTO:go@piaseczno.eu
DESCRIPTION: Odbiór odpadów 
URL;VALUE=URI:https://odpady.piaseczno.eu/harmonogram-odbioru-odpadow/odbior/bakowka-gloskow-letnisko-gloskow-tylko-ulice-abramowicza-radnych-od-nr-2-do-26-i-od-1-do-21-szkolna-wspolna-golkow-tylko-ulice-ceramiczna-ceglana-czterolistnej-koniczyny-duzego-stawu-gol/
SUMMARY:Bąkówka\; Głosków Letnisko\; Głosków tylko ulice: Abramowicza\, Radnych (od nr 2 do 26 i od 1 do 21)\, Szkolna\, Wspólna\; Gołków tylko ulice: Ceramiczna\, Ceglana\, Czterolistnej Koniczyny\, Dużego Stawu\, Gołkowska (od nr 56a do 128a i od nr 43 do nr 113)\, Małego Stawu\, Zielona
END:VEVENT
BEGIN:VEVENT
DTSTART:20260703T060000Z
DTEND:20260703T190000Z
DTSTAMP:20260425T235046Z
UID:69ed5356761d4
CATEGORIES:Odpady zmieszane
LOCATION:Bąkówka Bąkówka, Mazowieckie
ORGANIZER;CN=WGO Gminy Piaseczno:MAILTO:go@piaseczno.eu
DESCRIPTION: Odbiór odpadów 
URL;VALUE=URI:https://odpady.piaseczno.eu/harmonogram-odbioru-odpadow/odbior/bakowka-gloskow-letnisko-gloskow-tylko-ulice-abramowicza-radnych-od-nr-2-do-26-i-od-1-do-21-szkolna-wspolna-golkow-tylko-ulice-ceramiczna-ceglana-czterolistnej-koniczyny-duzego-stawu-gol/
SUMMARY:Bąkówka\; Głosków Letnisko\; Głosków tylko ulice: Abramowicza\, Radnych (od nr 2 do 26 i od 1 do 21)\, Szkolna\, Wspólna\; Gołków tylko ulice: Ceramiczna\, Ceglana\, Czterolistnej Koniczyny\, Dużego Stawu\, Gołkowska (od nr 56a do 128a i od nr 43 do nr 113)\, Małego Stawu\, Zielona
END:VEVENT
BEGIN:VEVENT
DTSTART:20260710T060000Z
DTEND:20260710T190000Z
DTSTAMP:20260425T235046Z
UID:69ed535676202
CATEGORIES:Odpady zmieszane
LOCATION:Bąkówka Bąkówka, Mazowieckie
ORGANIZER;CN=WGO Gminy Piaseczno:MAILTO:go@piaseczno.eu
DESCRIPTION: Odbiór odpadów 
URL;VALUE=URI:https://odpady.piaseczno.eu/harmonogram-odbioru-odpadow/odbior/bakowka-gloskow-letnisko-gloskow-tylko-ulice-abramowicza-radnych-od-nr-2-do-26-i-od-1-do-21-szkolna-wspolna-golkow-tylko-ulice-ceramiczna-ceglana-czterolistnej-koniczyny-duzego-stawu-gol/
SUMMARY:Bąkówka\; Głosków Letnisko\; Głosków tylko ulice: Abramowicza\, Radnych (od nr 2 do 26 i od 1 do 21)\, Szkolna\, Wspólna\; Gołków tylko ulice: Ceramiczna\, Ceglana\, Czterolistnej Koniczyny\, Dużego Stawu\, Gołkowska (od nr 56a do 128a i od nr 43 do nr 113)\, Małego Stawu\, Zielona
END:VEVENT
BEGIN:VEVENT
DTSTART:20260717T060000Z
DTEND:20260717T190000Z
DTSTAMP:20260425T235046Z
UID:69ed53567621f
CATEGORIES:Odpady zmieszane
LOCATION:Bąkówka Bąkówka, Mazowieckie
ORGANIZER;CN=WGO Gminy Piaseczno:MAILTO:go@piaseczno.eu
DESCRIPTION: Odbiór odpadów 
URL;VALUE=URI:https://odpady.piaseczno.eu/harmonogram-odbioru-odpadow/odbior/bakowka-gloskow-letnisko-gloskow-tylko-ulice-abramowicza-radnych-od-nr-2-do-26-i-od-1-do-21-szkolna-wspolna-golkow-tylko-ulice-ceramiczna-ceglana-czterolistnej-koniczyny-duzego-stawu-gol/
SUMMARY:Bąkówka\; Głosków Letnisko\; Głosków tylko ulice: Abramowicza\, Radnych (od nr 2 do 26 i od 1 do 21)\, Szkolna\, Wspólna\; Gołków tylko ulice: Ceramiczna\, Ceglana\, Czterolistnej Koniczyny\, Dużego Stawu\, Gołkowska (od nr 56a do 128a i od nr 43 do nr 113)\, Małego Stawu\, Zielona
END:VEVENT
BEGIN:VEVENT
DTSTART:20260724T060000Z
DTEND:20260724T190000Z
DTSTAMP:20260425T235046Z
UID:69ed53567623b
CATEGORIES:Odpady zmieszane
LOCATION:Bąkówka Bąkówka, Mazowieckie
ORGANIZER;CN=WGO Gminy Piaseczno:MAILTO:go@piaseczno.eu
DESCRIPTION: Odbiór odpadów 
URL;VALUE=URI:https://odpady.piaseczno.eu/harmonogram-odbioru-odpadow/odbior/bakowka-gloskow-letnisko-gloskow-tylko-ulice-abramowicza-radnych-od-nr-2-do-26-i-od-1-do-21-szkolna-wspolna-golkow-tylko-ulice-ceramiczna-ceglana-czterolistnej-koniczyny-duzego-stawu-gol/
SUMMARY:Bąkówka\; Głosków Letnisko\; Głosków tylko ulice: Abramowicza\, Radnych (od nr 2 do 26 i od 1 do 21)\, Szkolna\, Wspólna\; Gołków tylko ulice: Ceramiczna\, Ceglana\, Czterolistnej Koniczyny\, Dużego Stawu\, Gołkowska (od nr 56a do 128a i od nr 43 do nr 113)\, Małego Stawu\, Zielona
END:VEVENT
BEGIN:VEVENT
DTSTART:20260731T060000Z
DTEND:20260731T190000Z
DTSTAMP:20260425T235046Z
UID:69ed535676257
CATEGORIES:Odpady zmieszane
LOCATION:Bąkówka Bąkówka, Mazowieckie
ORGANIZER;CN=WGO Gminy Piaseczno:MAILTO:go@piaseczno.eu
DESCRIPTION: Odbiór odpadów 
URL;VALUE=URI:https://odpady.piaseczno.eu/harmonogram-odbioru-odpadow/odbior/bakowka-gloskow-letnisko-gloskow-tylko-ulice-abramowicza-radnych-od-nr-2-do-26-i-od-1-do-21-szkolna-wspolna-golkow-tylko-ulice-ceramiczna-ceglana-czterolistnej-koniczyny-duzego-stawu-gol/
SUMMARY:Bąkówka\; Głosków Letnisko\; Głosków tylko ulice: Abramowicza\, Radnych (od nr 2 do 26 i od 1 do 21)\, Szkolna\, Wspólna\; Gołków tylko ulice: Ceramiczna\, Ceglana\, Czterolistnej Koniczyny\, Dużego Stawu\, Gołkowska (od nr 56a do 128a i od nr 43 do nr 113)\, Małego Stawu\, Zielona
END:VEVENT
BEGIN:VEVENT
DTSTART:20260807T060000Z
DTEND:20260807T190000Z
DTSTAMP:20260425T235046Z
UID:69ed535676276
CATEGORIES:Odpady zmieszane
LOCATION:Bąkówka Bąkówka, Mazowieckie
ORGANIZER;CN=WGO Gminy Piaseczno:MAILTO:go@piaseczno.eu
DESCRIPTION: Odbiór odpadów 
URL;VALUE=URI:https://odpady.piaseczno.eu/harmonogram-odbioru-odpadow/odbior/bakowka-gloskow-letnisko-gloskow-tylko-ulice-abramowicza-radnych-od-nr-2-do-26-i-od-1-do-21-szkolna-wspolna-golkow-tylko-ulice-ceramiczna-ceglana-czterolistnej-koniczyny-duzego-stawu-gol/
SUMMARY:Bąkówka\; Głosków Letnisko\; Głosków tylko ulice: Abramowicza\, Radnych (od nr 2 do 26 i od 1 do 21)\, Szkolna\, Wspólna\; Gołków tylko ulice: Ceramiczna\, Ceglana\, Czterolistnej Koniczyny\, Dużego Stawu\, Gołkowska (od nr 56a do 128a i od nr 43 do nr 113)\, Małego Stawu\, Zielona
END:VEVENT
BEGIN:VEVENT
DTSTART:20260814T060000Z
DTEND:20260814T190000Z
DTSTAMP:20260425T235046Z
UID:69ed535676293
CATEGORIES:Odpady zmieszane
LOCATION:Bąkówka Bąkówka, Mazowieckie
ORGANIZER;CN=WGO Gminy Piaseczno:MAILTO:go@piaseczno.eu
DESCRIPTION: Odbiór odpadów 
URL;VALUE=URI:https://odpady.piaseczno.eu/harmonogram-odbioru-odpadow/odbior/bakowka-gloskow-letnisko-gloskow-tylko-ulice-abramowicza-radnych-od-nr-2-do-26-i-od-1-do-21-szkolna-wspolna-golkow-tylko-ulice-ceramiczna-ceglana-czterolistnej-koniczyny-duzego-stawu-gol/
SUMMARY:Bąkówka\; Głosków Letnisko\; Głosków tylko ulice: Abramowicza\, Radnych (od nr 2 do 26 i od 1 do 21)\, Szkolna\, Wspólna\; Gołków tylko ulice: Ceramiczna\, Ceglana\, Czterolistnej Koniczyny\, Dużego Stawu\, Gołkowska (od nr 56a do 128a i od nr 43 do nr 113)\, Małego Stawu\, Zielona
END:VEVENT
BEGIN:VEVENT
DTSTART:20260821T060000Z
DTEND:20260821T190000Z
DTSTAMP:20260425T235046Z
UID:69ed5356762af
CATEGORIES:Odpady zmieszane
LOCATION:Bąkówka Bąkówka, Mazowieckie
ORGANIZER;CN=WGO Gminy Piaseczno:MAILTO:go@piaseczno.eu
DESCRIPTION: Odbiór odpadów 
URL;VALUE=URI:https://odpady.piaseczno.eu/harmonogram-odbioru-odpadow/odbior/bakowka-gloskow-letnisko-gloskow-tylko-ulice-abramowicza-radnych-od-nr-2-do-26-i-od-1-do-21-szkolna-wspolna-golkow-tylko-ulice-ceramiczna-ceglana-czterolistnej-koniczyny-duzego-stawu-gol/
SUMMARY:Bąkówka\; Głosków Letnisko\; Głosków tylko ulice: Abramowicza\, Radnych (od nr 2 do 26 i od 1 do 21)\, Szkolna\, Wspólna\; Gołków tylko ulice: Ceramiczna\, Ceglana\, Czterolistnej Koniczyny\, Dużego Stawu\, Gołkowska (od nr 56a do 128a i od nr 43 do nr 113)\, Małego Stawu\, Zielona
END:VEVENT
BEGIN:VEVENT
DTSTART:20260828T060000Z
DTEND:20260828T190000Z
DTSTAMP:20260425T235046Z
UID:69ed5356762cb
CATEGORIES:Odpady zmieszane
LOCATION:Bąkówka Bąkówka, Mazowieckie
ORGANIZER;CN=WGO Gminy Piaseczno:MAILTO:go@piaseczno.eu
DESCRIPTION: Odbiór odpadów 
URL;VALUE=URI:https://odpady.piaseczno.eu/harmonogram-odbioru-odpadow/odbior/bakowka-gloskow-letnisko-gloskow-tylko-ulice-abramowicza-radnych-od-nr-2-do-26-i-od-1-do-21-szkolna-wspolna-golkow-tylko-ulice-ceramiczna-ceglana-czterolistnej-koniczyny-duzego-stawu-gol/
SUMMARY:Bąkówka\; Głosków Letnisko\; Głosków tylko ulice: Abramowicza\, Radnych (od nr 2 do 26 i od 1 do 21)\, Szkolna\, Wspólna\; Gołków tylko ulice: Ceramiczna\, Ceglana\, Czterolistnej Koniczyny\, Dużego Stawu\, Gołkowska (od nr 56a do 128a i od nr 43 do nr 113)\, Małego Stawu\, Zielona
END:VEVENT
BEGIN:VEVENT
DTSTART:20260904T060000Z
DTEND:20260904T190000Z
DTSTAMP:20260425T235046Z
UID:69ed5356762e7
CATEGORIES:Odpady zmieszane
LOCATION:Bąkówka Bąkówka, Mazowieckie
ORGANIZER;CN=WGO Gminy Piaseczno:MAILTO:go@piaseczno.eu
DESCRIPTION: Odbiór odpadów 
URL;VALUE=URI:https://odpady.piaseczno.eu/harmonogram-odbioru-odpadow/odbior/bakowka-gloskow-letnisko-gloskow-tylko-ulice-abramowicza-radnych-od-nr-2-do-26-i-od-1-do-21-szkolna-wspolna-golkow-tylko-ulice-ceramiczna-ceglana-czterolistnej-koniczyny-duzego-stawu-gol/
SUMMARY:Bąkówka\; Głosków Letnisko\; Głosków tylko ulice: Abramowicza\, Radnych (od nr 2 do 26 i od 1 do 21)\, Szkolna\, Wspólna\; Gołków tylko ulice: Ceramiczna\, Ceglana\, Czterolistnej Koniczyny\, Dużego Stawu\, Gołkowska (od nr 56a do 128a i od nr 43 do nr 113)\, Małego Stawu\, Zielona
END:VEVENT
BEGIN:VEVENT
DTSTART:20260918T060000Z
DTEND:20260918T190000Z
DTSTAMP:20260425T235046Z
UID:69ed535676306
CATEGORIES:Odpady zmieszane
LOCATION:Bąkówka Bąkówka, Mazowieckie
ORGANIZER;CN=WGO Gminy Piaseczno:MAILTO:go@piaseczno.eu
DESCRIPTION: Odbiór odpadów 
URL;VALUE=URI:https://odpady.piaseczno.eu/harmonogram-odbioru-odpadow/odbior/bakowka-gloskow-letnisko-gloskow-tylko-ulice-abramowicza-radnych-od-nr-2-do-26-i-od-1-do-21-szkolna-wspolna-golkow-tylko-ulice-ceramiczna-ceglana-czterolistnej-koniczyny-duzego-stawu-gol/
SUMMARY:Bąkówka\; Głosków Letnisko\; Głosków tylko ulice: Abramowicza\, Radnych (od nr 2 do 26 i od 1 do 21)\, Szkolna\, Wspólna\; Gołków tylko ulice: Ceramiczna\, Ceglana\, Czterolistnej Koniczyny\, Dużego Stawu\, Gołkowska (od nr 56a do 128a i od nr 43 do nr 113)\, Małego Stawu\, Zielona
END:VEVENT
BEGIN:VEVENT
DTSTART:20261002T060000Z
DTEND:20261002T190000Z
DTSTAMP:20260425T235046Z
UID:69ed535676322
CATEGORIES:Odpady zmieszane
LOCATION:Bąkówka Bąkówka, Mazowieckie
ORGANIZER;CN=WGO Gminy Piaseczno:MAILTO:go@piaseczno.eu
DESCRIPTION: Odbiór odpadów 
URL;VALUE=URI:https://odpady.piaseczno.eu/harmonogram-odbioru-odpadow/odbior/bakowka-gloskow-letnisko-gloskow-tylko-ulice-abramowicza-radnych-od-nr-2-do-26-i-od-1-do-21-szkolna-wspolna-golkow-tylko-ulice-ceramiczna-ceglana-czterolistnej-koniczyny-duzego-stawu-gol/
SUMMARY:Bąkówka\; Głosków Letnisko\; Głosków tylko ulice: Abramowicza\, Radnych (od nr 2 do 26 i od 1 do 21)\, Szkolna\, Wspólna\; Gołków tylko ulice: Ceramiczna\, Ceglana\, Czterolistnej Koniczyny\, Dużego Stawu\, Gołkowska (od nr 56a do 128a i od nr 43 do nr 113)\, Małego Stawu\, Zielona
END:VEVENT
BEGIN:VEVENT
DTSTART:20261016T060000Z
DTEND:20261016T190000Z
DTSTAMP:20260425T235046Z
UID:69ed53567633e
CATEGORIES:Odpady zmieszane
LOCATION:Bąkówka Bąkówka, Mazowieckie
ORGANIZER;CN=WGO Gminy Piaseczno:MAILTO:go@piaseczno.eu
DESCRIPTION: Odbiór odpadów 
URL;VALUE=URI:https://odpady.piaseczno.eu/harmonogram-odbioru-odpadow/odbior/bakowka-gloskow-letnisko-gloskow-tylko-ulice-abramowicza-radnych-od-nr-2-do-26-i-od-1-do-21-szkolna-wspolna-golkow-tylko-ulice-ceramiczna-ceglana-czterolistnej-koniczyny-duzego-stawu-gol/
SUMMARY:Bąkówka\; Głosków Letnisko\; Głosków tylko ulice: Abramowicza\, Radnych (od nr 2 do 26 i od 1 do 21)\, Szkolna\, Wspólna\; Gołków tylko ulice: Ceramiczna\, Ceglana\, Czterolistnej Koniczyny\, Dużego Stawu\, Gołkowska (od nr 56a do 128a i od nr 43 do nr 113)\, Małego Stawu\, Zielona
END:VEVENT
BEGIN:VEVENT
DTSTART:20261030T060000Z
DTEND:20261030T190000Z
DTSTAMP:20260425T235046Z
UID:69ed53567635b
CATEGORIES:Odpady zmieszane
LOCATION:Bąkówka Bąkówka, Mazowieckie
ORGANIZER;CN=WGO Gminy Piaseczno:MAILTO:go@piaseczno.eu
DESCRIPTION: Odbiór odpadów 
URL;VALUE=URI:https://odpady.piaseczno.eu/harmonogram-odbioru-odpadow/odbior/bakowka-gloskow-letnisko-gloskow-tylko-ulice-abramowicza-radnych-od-nr-2-do-26-i-od-1-do-21-szkolna-wspolna-golkow-tylko-ulice-ceramiczna-ceglana-czterolistnej-koniczyny-duzego-stawu-gol/
SUMMARY:Bąkówka\; Głosków Letnisko\; Głosków tylko ulice: Abramowicza\, Radnych (od nr 2 do 26 i od 1 do 21)\, Szkolna\, Wspólna\; Gołków tylko ulice: Ceramiczna\, Ceglana\, Czterolistnej Koniczyny\, Dużego Stawu\, Gołkowska (od nr 56a do 128a i od nr 43 do nr 113)\, Małego Stawu\, Zielona
END:VEVENT
BEGIN:VEVENT
DTSTART:20261113T060000Z
DTEND:20261113T190000Z
DTSTAMP:20260425T235046Z
UID:69ed535676376
CATEGORIES:Odpady zmieszane
LOCATION:Bąkówka Bąkówka, Mazowieckie
ORGANIZER;CN=WGO Gminy Piaseczno:MAILTO:go@piaseczno.eu
DESCRIPTION: Odbiór odpadów 
URL;VALUE=URI:https://odpady.piaseczno.eu/harmonogram-odbioru-odpadow/odbior/bakowka-gloskow-letnisko-gloskow-tylko-ulice-abramowicza-radnych-od-nr-2-do-26-i-od-1-do-21-szkolna-wspolna-golkow-tylko-ulice-ceramiczna-ceglana-czterolistnej-koniczyny-duzego-stawu-gol/
SUMMARY:Bąkówka\; Głosków Letnisko\; Głosków tylko ulice: Abramowicza\, Radnych (od nr 2 do 26 i od 1 do 21)\, Szkolna\, Wspólna\; Gołków tylko ulice: Ceramiczna\, Ceglana\, Czterolistnej Koniczyny\, Dużego Stawu\, Gołkowska (od nr 56a do 128a i od nr 43 do nr 113)\, Małego Stawu\, Zielona
END:VEVENT
BEGIN:VEVENT
DTSTART:20261127T060000Z
DTEND:20261127T190000Z
DTSTAMP:20260425T235046Z
UID:69ed535676397
CATEGORIES:Odpady zmieszane
LOCATION:Bąkówka Bąkówka, Mazowieckie
ORGANIZER;CN=WGO Gminy Piaseczno:MAILTO:go@piaseczno.eu
DESCRIPTION: Odbiór odpadów 
URL;VALUE=URI:https://odpady.piaseczno.eu/harmonogram-odbioru-odpadow/odbior/bakowka-gloskow-letnisko-gloskow-tylko-ulice-abramowicza-radnych-od-nr-2-do-26-i-od-1-do-21-szkolna-wspolna-golkow-tylko-ulice-ceramiczna-ceglana-czterolistnej-koniczyny-duzego-stawu-gol/
SUMMARY:Bąkówka\; Głosków Letnisko\; Głosków tylko ulice: Abramowicza\, Radnych (od nr 2 do 26 i od 1 do 21)\, Szkolna\, Wspólna\; Gołków tylko ulice: Ceramiczna\, Ceglana\, Czterolistnej Koniczyny\, Dużego Stawu\, Gołkowska (od nr 56a do 128a i od nr 43 do nr 113)\, Małego Stawu\, Zielona
END:VEVENT
END:VCALENDAR
