BEGIN:VCALENDAR
VERSION:2.0
PRODID:-//DIGITAL FACTORY//EVENTS MAKER V1.6.12//EN
CALSCALE:GREGORIAN
METHOD:PUBLISH
BEGIN:VEVENT
DTSTART:20260112T060000Z
DTEND:20260112T190000Z
DTSTAMP:20260424T164728Z
UID:69eb9ea06565f
CATEGORIES:Odbiór choinek
LOCATION:Bąkówka Bąkówka, Mazowieckie
ORGANIZER;CN=WGO Gminy Piaseczno:MAILTO:go@piaseczno.eu
DESCRIPTION: Odbiór odpadów 
URL;VALUE=URI:https://odpady.piaseczno.eu/harmonogram-odbioru-odpadow/odbior/bakowka-gloskow-letnisko-gloskow-tylko-ulice-abramowicza-radnych-od-nr-2-do-26-i-od-1-do-21-szkolna-wspolna-golkow-tylko-ulice-ceramiczna-ceglana-czterolistnej-koniczyny-duzego-stawu-gol-5/
SUMMARY:Bąkówka\, Głosków Letnisko\, Głosków tylko ulice: Abramowicza\, Radnych (od nr 2 do 26 i od 1 do 21)\, Szkolna\, Wspólna\, Gołków tylko ulice: Ceramiczna\, Ceglana\, Czterolistnej Koniczyny\, Dużego Stawu\, Gołkowska (od nr 56a do 128a i od nr 43 do nr 113)\, Małego Stawu\, Zielona - choinki
END:VEVENT
BEGIN:VEVENT
DTSTART:20260209T060000Z
DTEND:20260209T190000Z
DTSTAMP:20260424T164728Z
UID:69eb9ea0656ce
CATEGORIES:Odbiór choinek
LOCATION:Bąkówka Bąkówka, Mazowieckie
ORGANIZER;CN=WGO Gminy Piaseczno:MAILTO:go@piaseczno.eu
DESCRIPTION: Odbiór odpadów 
URL;VALUE=URI:https://odpady.piaseczno.eu/harmonogram-odbioru-odpadow/odbior/bakowka-gloskow-letnisko-gloskow-tylko-ulice-abramowicza-radnych-od-nr-2-do-26-i-od-1-do-21-szkolna-wspolna-golkow-tylko-ulice-ceramiczna-ceglana-czterolistnej-koniczyny-duzego-stawu-gol-5/
SUMMARY:Bąkówka\, Głosków Letnisko\, Głosków tylko ulice: Abramowicza\, Radnych (od nr 2 do 26 i od 1 do 21)\, Szkolna\, Wspólna\, Gołków tylko ulice: Ceramiczna\, Ceglana\, Czterolistnej Koniczyny\, Dużego Stawu\, Gołkowska (od nr 56a do 128a i od nr 43 do nr 113)\, Małego Stawu\, Zielona - choinki
END:VEVENT
END:VCALENDAR
