BEGIN:VCALENDAR
VERSION:2.0
PRODID:-//DIGITAL FACTORY//EVENTS MAKER V1.6.12//EN
CALSCALE:GREGORIAN
METHOD:PUBLISH
BEGIN:VEVENT
DTSTART:20251120T060000Z
DTEND:20251120T190000Z
DTSTAMP:20260424T101024Z
UID:69eb419057b16
CATEGORIES:Odpady segregowane -tworzywa sztuczne i metale
LOCATION:Bąkówka Bąkówka, Mazowieckie
ORGANIZER;CN=WGO Gminy Piaseczno:MAILTO:go@piaseczno.eu
DESCRIPTION: Odbiór odpadów 
URL;VALUE=URI:https://odpady.piaseczno.eu/harmonogram-odbioru-odpadow/odbior/bakowka-gloskow-letnisko-2/
SUMMARY:Bąkówka\, Głosków Letnisko\, Głosków tylko ulice: Abramowicza\, Radnych (od nr 2 do 26 i od 1 do 21)\, Szkolna\, Wspólna\; Gołków tylko ulice: Ceramiczna\, Ceglana\, Czterolistnej Koniczyny\, Dużego Stawu\, Gołkowska (od nr 56a do 128a i od nr 43 do nr 113)\, Małego Stawu\, Zielona - metale i tworzywa sztuczne
END:VEVENT
BEGIN:VEVENT
DTSTART:20251204T060000Z
DTEND:20251204T190000Z
DTSTAMP:20260424T101024Z
UID:69eb419057bcf
CATEGORIES:Odpady segregowane -tworzywa sztuczne i metale
LOCATION:Bąkówka Bąkówka, Mazowieckie
ORGANIZER;CN=WGO Gminy Piaseczno:MAILTO:go@piaseczno.eu
DESCRIPTION: Odbiór odpadów 
URL;VALUE=URI:https://odpady.piaseczno.eu/harmonogram-odbioru-odpadow/odbior/bakowka-gloskow-letnisko-2/
SUMMARY:Bąkówka\, Głosków Letnisko\, Głosków tylko ulice: Abramowicza\, Radnych (od nr 2 do 26 i od 1 do 21)\, Szkolna\, Wspólna\; Gołków tylko ulice: Ceramiczna\, Ceglana\, Czterolistnej Koniczyny\, Dużego Stawu\, Gołkowska (od nr 56a do 128a i od nr 43 do nr 113)\, Małego Stawu\, Zielona - metale i tworzywa sztuczne
END:VEVENT
BEGIN:VEVENT
DTSTART:20251218T060000Z
DTEND:20251218T190000Z
DTSTAMP:20260424T101024Z
UID:69eb419057c01
CATEGORIES:Odpady segregowane -tworzywa sztuczne i metale
LOCATION:Bąkówka Bąkówka, Mazowieckie
ORGANIZER;CN=WGO Gminy Piaseczno:MAILTO:go@piaseczno.eu
DESCRIPTION: Odbiór odpadów 
URL;VALUE=URI:https://odpady.piaseczno.eu/harmonogram-odbioru-odpadow/odbior/bakowka-gloskow-letnisko-2/
SUMMARY:Bąkówka\, Głosków Letnisko\, Głosków tylko ulice: Abramowicza\, Radnych (od nr 2 do 26 i od 1 do 21)\, Szkolna\, Wspólna\; Gołków tylko ulice: Ceramiczna\, Ceglana\, Czterolistnej Koniczyny\, Dużego Stawu\, Gołkowska (od nr 56a do 128a i od nr 43 do nr 113)\, Małego Stawu\, Zielona - metale i tworzywa sztuczne
END:VEVENT
BEGIN:VEVENT
DTSTART:20260103T060000Z
DTEND:20260103T190000Z
DTSTAMP:20260424T101024Z
UID:69eb419057c32
CATEGORIES:Odpady segregowane -tworzywa sztuczne i metale
LOCATION:Bąkówka Bąkówka, Mazowieckie
ORGANIZER;CN=WGO Gminy Piaseczno:MAILTO:go@piaseczno.eu
DESCRIPTION: Odbiór odpadów 
URL;VALUE=URI:https://odpady.piaseczno.eu/harmonogram-odbioru-odpadow/odbior/bakowka-gloskow-letnisko-2/
SUMMARY:Bąkówka\, Głosków Letnisko\, Głosków tylko ulice: Abramowicza\, Radnych (od nr 2 do 26 i od 1 do 21)\, Szkolna\, Wspólna\; Gołków tylko ulice: Ceramiczna\, Ceglana\, Czterolistnej Koniczyny\, Dużego Stawu\, Gołkowska (od nr 56a do 128a i od nr 43 do nr 113)\, Małego Stawu\, Zielona - metale i tworzywa sztuczne
END:VEVENT
BEGIN:VEVENT
DTSTART:20260115T060000Z
DTEND:20260115T190000Z
DTSTAMP:20260424T101024Z
UID:69eb419057c53
CATEGORIES:Odpady segregowane -tworzywa sztuczne i metale
LOCATION:Bąkówka Bąkówka, Mazowieckie
ORGANIZER;CN=WGO Gminy Piaseczno:MAILTO:go@piaseczno.eu
DESCRIPTION: Odbiór odpadów 
URL;VALUE=URI:https://odpady.piaseczno.eu/harmonogram-odbioru-odpadow/odbior/bakowka-gloskow-letnisko-2/
SUMMARY:Bąkówka\, Głosków Letnisko\, Głosków tylko ulice: Abramowicza\, Radnych (od nr 2 do 26 i od 1 do 21)\, Szkolna\, Wspólna\; Gołków tylko ulice: Ceramiczna\, Ceglana\, Czterolistnej Koniczyny\, Dużego Stawu\, Gołkowska (od nr 56a do 128a i od nr 43 do nr 113)\, Małego Stawu\, Zielona - metale i tworzywa sztuczne
END:VEVENT
BEGIN:VEVENT
DTSTART:20260129T060000Z
DTEND:20260129T190000Z
DTSTAMP:20260424T101024Z
UID:69eb419057c72
CATEGORIES:Odpady segregowane -tworzywa sztuczne i metale
LOCATION:Bąkówka Bąkówka, Mazowieckie
ORGANIZER;CN=WGO Gminy Piaseczno:MAILTO:go@piaseczno.eu
DESCRIPTION: Odbiór odpadów 
URL;VALUE=URI:https://odpady.piaseczno.eu/harmonogram-odbioru-odpadow/odbior/bakowka-gloskow-letnisko-2/
SUMMARY:Bąkówka\, Głosków Letnisko\, Głosków tylko ulice: Abramowicza\, Radnych (od nr 2 do 26 i od 1 do 21)\, Szkolna\, Wspólna\; Gołków tylko ulice: Ceramiczna\, Ceglana\, Czterolistnej Koniczyny\, Dużego Stawu\, Gołkowska (od nr 56a do 128a i od nr 43 do nr 113)\, Małego Stawu\, Zielona - metale i tworzywa sztuczne
END:VEVENT
BEGIN:VEVENT
DTSTART:20260212T060000Z
DTEND:20260212T190000Z
DTSTAMP:20260424T101024Z
UID:69eb419057c95
CATEGORIES:Odpady segregowane -tworzywa sztuczne i metale
LOCATION:Bąkówka Bąkówka, Mazowieckie
ORGANIZER;CN=WGO Gminy Piaseczno:MAILTO:go@piaseczno.eu
DESCRIPTION: Odbiór odpadów 
URL;VALUE=URI:https://odpady.piaseczno.eu/harmonogram-odbioru-odpadow/odbior/bakowka-gloskow-letnisko-2/
SUMMARY:Bąkówka\, Głosków Letnisko\, Głosków tylko ulice: Abramowicza\, Radnych (od nr 2 do 26 i od 1 do 21)\, Szkolna\, Wspólna\; Gołków tylko ulice: Ceramiczna\, Ceglana\, Czterolistnej Koniczyny\, Dużego Stawu\, Gołkowska (od nr 56a do 128a i od nr 43 do nr 113)\, Małego Stawu\, Zielona - metale i tworzywa sztuczne
END:VEVENT
BEGIN:VEVENT
DTSTART:20260226T060000Z
DTEND:20260226T190000Z
DTSTAMP:20260424T101024Z
UID:69eb419057cb2
CATEGORIES:Odpady segregowane -tworzywa sztuczne i metale
LOCATION:Bąkówka Bąkówka, Mazowieckie
ORGANIZER;CN=WGO Gminy Piaseczno:MAILTO:go@piaseczno.eu
DESCRIPTION: Odbiór odpadów 
URL;VALUE=URI:https://odpady.piaseczno.eu/harmonogram-odbioru-odpadow/odbior/bakowka-gloskow-letnisko-2/
SUMMARY:Bąkówka\, Głosków Letnisko\, Głosków tylko ulice: Abramowicza\, Radnych (od nr 2 do 26 i od 1 do 21)\, Szkolna\, Wspólna\; Gołków tylko ulice: Ceramiczna\, Ceglana\, Czterolistnej Koniczyny\, Dużego Stawu\, Gołkowska (od nr 56a do 128a i od nr 43 do nr 113)\, Małego Stawu\, Zielona - metale i tworzywa sztuczne
END:VEVENT
BEGIN:VEVENT
DTSTART:20260312T060000Z
DTEND:20260312T190000Z
DTSTAMP:20260424T101024Z
UID:69eb419057ccf
CATEGORIES:Odpady segregowane -tworzywa sztuczne i metale
LOCATION:Bąkówka Bąkówka, Mazowieckie
ORGANIZER;CN=WGO Gminy Piaseczno:MAILTO:go@piaseczno.eu
DESCRIPTION: Odbiór odpadów 
URL;VALUE=URI:https://odpady.piaseczno.eu/harmonogram-odbioru-odpadow/odbior/bakowka-gloskow-letnisko-2/
SUMMARY:Bąkówka\, Głosków Letnisko\, Głosków tylko ulice: Abramowicza\, Radnych (od nr 2 do 26 i od 1 do 21)\, Szkolna\, Wspólna\; Gołków tylko ulice: Ceramiczna\, Ceglana\, Czterolistnej Koniczyny\, Dużego Stawu\, Gołkowska (od nr 56a do 128a i od nr 43 do nr 113)\, Małego Stawu\, Zielona - metale i tworzywa sztuczne
END:VEVENT
BEGIN:VEVENT
DTSTART:20260326T060000Z
DTEND:20260326T190000Z
DTSTAMP:20260424T101024Z
UID:69eb419057cec
CATEGORIES:Odpady segregowane -tworzywa sztuczne i metale
LOCATION:Bąkówka Bąkówka, Mazowieckie
ORGANIZER;CN=WGO Gminy Piaseczno:MAILTO:go@piaseczno.eu
DESCRIPTION: Odbiór odpadów 
URL;VALUE=URI:https://odpady.piaseczno.eu/harmonogram-odbioru-odpadow/odbior/bakowka-gloskow-letnisko-2/
SUMMARY:Bąkówka\, Głosków Letnisko\, Głosków tylko ulice: Abramowicza\, Radnych (od nr 2 do 26 i od 1 do 21)\, Szkolna\, Wspólna\; Gołków tylko ulice: Ceramiczna\, Ceglana\, Czterolistnej Koniczyny\, Dużego Stawu\, Gołkowska (od nr 56a do 128a i od nr 43 do nr 113)\, Małego Stawu\, Zielona - metale i tworzywa sztuczne
END:VEVENT
BEGIN:VEVENT
DTSTART:20260409T060000Z
DTEND:20260409T190000Z
DTSTAMP:20260424T101024Z
UID:69eb419057d08
CATEGORIES:Odpady segregowane -tworzywa sztuczne i metale
LOCATION:Bąkówka Bąkówka, Mazowieckie
ORGANIZER;CN=WGO Gminy Piaseczno:MAILTO:go@piaseczno.eu
DESCRIPTION: Odbiór odpadów 
URL;VALUE=URI:https://odpady.piaseczno.eu/harmonogram-odbioru-odpadow/odbior/bakowka-gloskow-letnisko-2/
SUMMARY:Bąkówka\, Głosków Letnisko\, Głosków tylko ulice: Abramowicza\, Radnych (od nr 2 do 26 i od 1 do 21)\, Szkolna\, Wspólna\; Gołków tylko ulice: Ceramiczna\, Ceglana\, Czterolistnej Koniczyny\, Dużego Stawu\, Gołkowska (od nr 56a do 128a i od nr 43 do nr 113)\, Małego Stawu\, Zielona - metale i tworzywa sztuczne
END:VEVENT
BEGIN:VEVENT
DTSTART:20260423T060000Z
DTEND:20260423T190000Z
DTSTAMP:20260424T101024Z
UID:69eb419057d2b
CATEGORIES:Odpady segregowane -tworzywa sztuczne i metale
LOCATION:Bąkówka Bąkówka, Mazowieckie
ORGANIZER;CN=WGO Gminy Piaseczno:MAILTO:go@piaseczno.eu
DESCRIPTION: Odbiór odpadów 
URL;VALUE=URI:https://odpady.piaseczno.eu/harmonogram-odbioru-odpadow/odbior/bakowka-gloskow-letnisko-2/
SUMMARY:Bąkówka\, Głosków Letnisko\, Głosków tylko ulice: Abramowicza\, Radnych (od nr 2 do 26 i od 1 do 21)\, Szkolna\, Wspólna\; Gołków tylko ulice: Ceramiczna\, Ceglana\, Czterolistnej Koniczyny\, Dużego Stawu\, Gołkowska (od nr 56a do 128a i od nr 43 do nr 113)\, Małego Stawu\, Zielona - metale i tworzywa sztuczne
END:VEVENT
BEGIN:VEVENT
DTSTART:20260507T060000Z
DTEND:20260507T190000Z
DTSTAMP:20260424T101024Z
UID:69eb419057d48
CATEGORIES:Odpady segregowane -tworzywa sztuczne i metale
LOCATION:Bąkówka Bąkówka, Mazowieckie
ORGANIZER;CN=WGO Gminy Piaseczno:MAILTO:go@piaseczno.eu
DESCRIPTION: Odbiór odpadów 
URL;VALUE=URI:https://odpady.piaseczno.eu/harmonogram-odbioru-odpadow/odbior/bakowka-gloskow-letnisko-2/
SUMMARY:Bąkówka\, Głosków Letnisko\, Głosków tylko ulice: Abramowicza\, Radnych (od nr 2 do 26 i od 1 do 21)\, Szkolna\, Wspólna\; Gołków tylko ulice: Ceramiczna\, Ceglana\, Czterolistnej Koniczyny\, Dużego Stawu\, Gołkowska (od nr 56a do 128a i od nr 43 do nr 113)\, Małego Stawu\, Zielona - metale i tworzywa sztuczne
END:VEVENT
BEGIN:VEVENT
DTSTART:20260521T060000Z
DTEND:20260521T190000Z
DTSTAMP:20260424T101024Z
UID:69eb419057d64
CATEGORIES:Odpady segregowane -tworzywa sztuczne i metale
LOCATION:Bąkówka Bąkówka, Mazowieckie
ORGANIZER;CN=WGO Gminy Piaseczno:MAILTO:go@piaseczno.eu
DESCRIPTION: Odbiór odpadów 
URL;VALUE=URI:https://odpady.piaseczno.eu/harmonogram-odbioru-odpadow/odbior/bakowka-gloskow-letnisko-2/
SUMMARY:Bąkówka\, Głosków Letnisko\, Głosków tylko ulice: Abramowicza\, Radnych (od nr 2 do 26 i od 1 do 21)\, Szkolna\, Wspólna\; Gołków tylko ulice: Ceramiczna\, Ceglana\, Czterolistnej Koniczyny\, Dużego Stawu\, Gołkowska (od nr 56a do 128a i od nr 43 do nr 113)\, Małego Stawu\, Zielona - metale i tworzywa sztuczne
END:VEVENT
BEGIN:VEVENT
DTSTART:20260606T060000Z
DTEND:20260606T190000Z
DTSTAMP:20260424T101024Z
UID:69eb419057d80
CATEGORIES:Odpady segregowane -tworzywa sztuczne i metale
LOCATION:Bąkówka Bąkówka, Mazowieckie
ORGANIZER;CN=WGO Gminy Piaseczno:MAILTO:go@piaseczno.eu
DESCRIPTION: Odbiór odpadów 
URL;VALUE=URI:https://odpady.piaseczno.eu/harmonogram-odbioru-odpadow/odbior/bakowka-gloskow-letnisko-2/
SUMMARY:Bąkówka\, Głosków Letnisko\, Głosków tylko ulice: Abramowicza\, Radnych (od nr 2 do 26 i od 1 do 21)\, Szkolna\, Wspólna\; Gołków tylko ulice: Ceramiczna\, Ceglana\, Czterolistnej Koniczyny\, Dużego Stawu\, Gołkowska (od nr 56a do 128a i od nr 43 do nr 113)\, Małego Stawu\, Zielona - metale i tworzywa sztuczne
END:VEVENT
BEGIN:VEVENT
DTSTART:20260618T060000Z
DTEND:20260618T190000Z
DTSTAMP:20260424T101024Z
UID:69eb419057d9c
CATEGORIES:Odpady segregowane -tworzywa sztuczne i metale
LOCATION:Bąkówka Bąkówka, Mazowieckie
ORGANIZER;CN=WGO Gminy Piaseczno:MAILTO:go@piaseczno.eu
DESCRIPTION: Odbiór odpadów 
URL;VALUE=URI:https://odpady.piaseczno.eu/harmonogram-odbioru-odpadow/odbior/bakowka-gloskow-letnisko-2/
SUMMARY:Bąkówka\, Głosków Letnisko\, Głosków tylko ulice: Abramowicza\, Radnych (od nr 2 do 26 i od 1 do 21)\, Szkolna\, Wspólna\; Gołków tylko ulice: Ceramiczna\, Ceglana\, Czterolistnej Koniczyny\, Dużego Stawu\, Gołkowska (od nr 56a do 128a i od nr 43 do nr 113)\, Małego Stawu\, Zielona - metale i tworzywa sztuczne
END:VEVENT
BEGIN:VEVENT
DTSTART:20260702T060000Z
DTEND:20260702T190000Z
DTSTAMP:20260424T101024Z
UID:69eb419057dc5
CATEGORIES:Odpady segregowane -tworzywa sztuczne i metale
LOCATION:Bąkówka Bąkówka, Mazowieckie
ORGANIZER;CN=WGO Gminy Piaseczno:MAILTO:go@piaseczno.eu
DESCRIPTION: Odbiór odpadów 
URL;VALUE=URI:https://odpady.piaseczno.eu/harmonogram-odbioru-odpadow/odbior/bakowka-gloskow-letnisko-2/
SUMMARY:Bąkówka\, Głosków Letnisko\, Głosków tylko ulice: Abramowicza\, Radnych (od nr 2 do 26 i od 1 do 21)\, Szkolna\, Wspólna\; Gołków tylko ulice: Ceramiczna\, Ceglana\, Czterolistnej Koniczyny\, Dużego Stawu\, Gołkowska (od nr 56a do 128a i od nr 43 do nr 113)\, Małego Stawu\, Zielona - metale i tworzywa sztuczne
END:VEVENT
BEGIN:VEVENT
DTSTART:20260716T060000Z
DTEND:20260716T190000Z
DTSTAMP:20260424T101024Z
UID:69eb419057df1
CATEGORIES:Odpady segregowane -tworzywa sztuczne i metale
LOCATION:Bąkówka Bąkówka, Mazowieckie
ORGANIZER;CN=WGO Gminy Piaseczno:MAILTO:go@piaseczno.eu
DESCRIPTION: Odbiór odpadów 
URL;VALUE=URI:https://odpady.piaseczno.eu/harmonogram-odbioru-odpadow/odbior/bakowka-gloskow-letnisko-2/
SUMMARY:Bąkówka\, Głosków Letnisko\, Głosków tylko ulice: Abramowicza\, Radnych (od nr 2 do 26 i od 1 do 21)\, Szkolna\, Wspólna\; Gołków tylko ulice: Ceramiczna\, Ceglana\, Czterolistnej Koniczyny\, Dużego Stawu\, Gołkowska (od nr 56a do 128a i od nr 43 do nr 113)\, Małego Stawu\, Zielona - metale i tworzywa sztuczne
END:VEVENT
BEGIN:VEVENT
DTSTART:20260730T060000Z
DTEND:20260730T190000Z
DTSTAMP:20260424T101024Z
UID:69eb419057e12
CATEGORIES:Odpady segregowane -tworzywa sztuczne i metale
LOCATION:Bąkówka Bąkówka, Mazowieckie
ORGANIZER;CN=WGO Gminy Piaseczno:MAILTO:go@piaseczno.eu
DESCRIPTION: Odbiór odpadów 
URL;VALUE=URI:https://odpady.piaseczno.eu/harmonogram-odbioru-odpadow/odbior/bakowka-gloskow-letnisko-2/
SUMMARY:Bąkówka\, Głosków Letnisko\, Głosków tylko ulice: Abramowicza\, Radnych (od nr 2 do 26 i od 1 do 21)\, Szkolna\, Wspólna\; Gołków tylko ulice: Ceramiczna\, Ceglana\, Czterolistnej Koniczyny\, Dużego Stawu\, Gołkowska (od nr 56a do 128a i od nr 43 do nr 113)\, Małego Stawu\, Zielona - metale i tworzywa sztuczne
END:VEVENT
BEGIN:VEVENT
DTSTART:20260813T060000Z
DTEND:20260813T190000Z
DTSTAMP:20260424T101024Z
UID:69eb419057e6a
CATEGORIES:Odpady segregowane -tworzywa sztuczne i metale
LOCATION:Bąkówka Bąkówka, Mazowieckie
ORGANIZER;CN=WGO Gminy Piaseczno:MAILTO:go@piaseczno.eu
DESCRIPTION: Odbiór odpadów 
URL;VALUE=URI:https://odpady.piaseczno.eu/harmonogram-odbioru-odpadow/odbior/bakowka-gloskow-letnisko-2/
SUMMARY:Bąkówka\, Głosków Letnisko\, Głosków tylko ulice: Abramowicza\, Radnych (od nr 2 do 26 i od 1 do 21)\, Szkolna\, Wspólna\; Gołków tylko ulice: Ceramiczna\, Ceglana\, Czterolistnej Koniczyny\, Dużego Stawu\, Gołkowska (od nr 56a do 128a i od nr 43 do nr 113)\, Małego Stawu\, Zielona - metale i tworzywa sztuczne
END:VEVENT
BEGIN:VEVENT
DTSTART:20260827T060000Z
DTEND:20260827T190000Z
DTSTAMP:20260424T101024Z
UID:69eb419057e96
CATEGORIES:Odpady segregowane -tworzywa sztuczne i metale
LOCATION:Bąkówka Bąkówka, Mazowieckie
ORGANIZER;CN=WGO Gminy Piaseczno:MAILTO:go@piaseczno.eu
DESCRIPTION: Odbiór odpadów 
URL;VALUE=URI:https://odpady.piaseczno.eu/harmonogram-odbioru-odpadow/odbior/bakowka-gloskow-letnisko-2/
SUMMARY:Bąkówka\, Głosków Letnisko\, Głosków tylko ulice: Abramowicza\, Radnych (od nr 2 do 26 i od 1 do 21)\, Szkolna\, Wspólna\; Gołków tylko ulice: Ceramiczna\, Ceglana\, Czterolistnej Koniczyny\, Dużego Stawu\, Gołkowska (od nr 56a do 128a i od nr 43 do nr 113)\, Małego Stawu\, Zielona - metale i tworzywa sztuczne
END:VEVENT
BEGIN:VEVENT
DTSTART:20260910T060000Z
DTEND:20260910T190000Z
DTSTAMP:20260424T101024Z
UID:69eb419057edf
CATEGORIES:Odpady segregowane -tworzywa sztuczne i metale
LOCATION:Bąkówka Bąkówka, Mazowieckie
ORGANIZER;CN=WGO Gminy Piaseczno:MAILTO:go@piaseczno.eu
DESCRIPTION: Odbiór odpadów 
URL;VALUE=URI:https://odpady.piaseczno.eu/harmonogram-odbioru-odpadow/odbior/bakowka-gloskow-letnisko-2/
SUMMARY:Bąkówka\, Głosków Letnisko\, Głosków tylko ulice: Abramowicza\, Radnych (od nr 2 do 26 i od 1 do 21)\, Szkolna\, Wspólna\; Gołków tylko ulice: Ceramiczna\, Ceglana\, Czterolistnej Koniczyny\, Dużego Stawu\, Gołkowska (od nr 56a do 128a i od nr 43 do nr 113)\, Małego Stawu\, Zielona - metale i tworzywa sztuczne
END:VEVENT
BEGIN:VEVENT
DTSTART:20260924T060000Z
DTEND:20260924T190000Z
DTSTAMP:20260424T101024Z
UID:69eb419057f52
CATEGORIES:Odpady segregowane -tworzywa sztuczne i metale
LOCATION:Bąkówka Bąkówka, Mazowieckie
ORGANIZER;CN=WGO Gminy Piaseczno:MAILTO:go@piaseczno.eu
DESCRIPTION: Odbiór odpadów 
URL;VALUE=URI:https://odpady.piaseczno.eu/harmonogram-odbioru-odpadow/odbior/bakowka-gloskow-letnisko-2/
SUMMARY:Bąkówka\, Głosków Letnisko\, Głosków tylko ulice: Abramowicza\, Radnych (od nr 2 do 26 i od 1 do 21)\, Szkolna\, Wspólna\; Gołków tylko ulice: Ceramiczna\, Ceglana\, Czterolistnej Koniczyny\, Dużego Stawu\, Gołkowska (od nr 56a do 128a i od nr 43 do nr 113)\, Małego Stawu\, Zielona - metale i tworzywa sztuczne
END:VEVENT
BEGIN:VEVENT
DTSTART:20261008T060000Z
DTEND:20261008T190000Z
DTSTAMP:20260424T101024Z
UID:69eb419057f84
CATEGORIES:Odpady segregowane -tworzywa sztuczne i metale
LOCATION:Bąkówka Bąkówka, Mazowieckie
ORGANIZER;CN=WGO Gminy Piaseczno:MAILTO:go@piaseczno.eu
DESCRIPTION: Odbiór odpadów 
URL;VALUE=URI:https://odpady.piaseczno.eu/harmonogram-odbioru-odpadow/odbior/bakowka-gloskow-letnisko-2/
SUMMARY:Bąkówka\, Głosków Letnisko\, Głosków tylko ulice: Abramowicza\, Radnych (od nr 2 do 26 i od 1 do 21)\, Szkolna\, Wspólna\; Gołków tylko ulice: Ceramiczna\, Ceglana\, Czterolistnej Koniczyny\, Dużego Stawu\, Gołkowska (od nr 56a do 128a i od nr 43 do nr 113)\, Małego Stawu\, Zielona - metale i tworzywa sztuczne
END:VEVENT
BEGIN:VEVENT
DTSTART:20261022T060000Z
DTEND:20261022T190000Z
DTSTAMP:20260424T101024Z
UID:69eb419057fd8
CATEGORIES:Odpady segregowane -tworzywa sztuczne i metale
LOCATION:Bąkówka Bąkówka, Mazowieckie
ORGANIZER;CN=WGO Gminy Piaseczno:MAILTO:go@piaseczno.eu
DESCRIPTION: Odbiór odpadów 
URL;VALUE=URI:https://odpady.piaseczno.eu/harmonogram-odbioru-odpadow/odbior/bakowka-gloskow-letnisko-2/
SUMMARY:Bąkówka\, Głosków Letnisko\, Głosków tylko ulice: Abramowicza\, Radnych (od nr 2 do 26 i od 1 do 21)\, Szkolna\, Wspólna\; Gołków tylko ulice: Ceramiczna\, Ceglana\, Czterolistnej Koniczyny\, Dużego Stawu\, Gołkowska (od nr 56a do 128a i od nr 43 do nr 113)\, Małego Stawu\, Zielona - metale i tworzywa sztuczne
END:VEVENT
BEGIN:VEVENT
DTSTART:20261105T060000Z
DTEND:20261105T190000Z
DTSTAMP:20260424T101024Z
UID:69eb419058013
CATEGORIES:Odpady segregowane -tworzywa sztuczne i metale
LOCATION:Bąkówka Bąkówka, Mazowieckie
ORGANIZER;CN=WGO Gminy Piaseczno:MAILTO:go@piaseczno.eu
DESCRIPTION: Odbiór odpadów 
URL;VALUE=URI:https://odpady.piaseczno.eu/harmonogram-odbioru-odpadow/odbior/bakowka-gloskow-letnisko-2/
SUMMARY:Bąkówka\, Głosków Letnisko\, Głosków tylko ulice: Abramowicza\, Radnych (od nr 2 do 26 i od 1 do 21)\, Szkolna\, Wspólna\; Gołków tylko ulice: Ceramiczna\, Ceglana\, Czterolistnej Koniczyny\, Dużego Stawu\, Gołkowska (od nr 56a do 128a i od nr 43 do nr 113)\, Małego Stawu\, Zielona - metale i tworzywa sztuczne
END:VEVENT
BEGIN:VEVENT
DTSTART:20261119T060000Z
DTEND:20261119T190000Z
DTSTAMP:20260424T101024Z
UID:69eb41905802f
CATEGORIES:Odpady segregowane -tworzywa sztuczne i metale
LOCATION:Bąkówka Bąkówka, Mazowieckie
ORGANIZER;CN=WGO Gminy Piaseczno:MAILTO:go@piaseczno.eu
DESCRIPTION: Odbiór odpadów 
URL;VALUE=URI:https://odpady.piaseczno.eu/harmonogram-odbioru-odpadow/odbior/bakowka-gloskow-letnisko-2/
SUMMARY:Bąkówka\, Głosków Letnisko\, Głosków tylko ulice: Abramowicza\, Radnych (od nr 2 do 26 i od 1 do 21)\, Szkolna\, Wspólna\; Gołków tylko ulice: Ceramiczna\, Ceglana\, Czterolistnej Koniczyny\, Dużego Stawu\, Gołkowska (od nr 56a do 128a i od nr 43 do nr 113)\, Małego Stawu\, Zielona - metale i tworzywa sztuczne
END:VEVENT
END:VCALENDAR
