BEGIN:VCALENDAR
VERSION:2.0
PRODID:-//DIGITAL FACTORY//EVENTS MAKER V1.6.12//EN
CALSCALE:GREGORIAN
METHOD:PUBLISH
BEGIN:VEVENT
DTSTART:20251120T060000Z
DTEND:20251120T190000Z
DTSTAMP:20260420T153904Z
UID:69e64898d847e
CATEGORIES:Odpady segregowane -tworzywa sztuczne i metale
LOCATION:Antoninów Antoninów, Mazowieckie, PL
DESCRIPTION: Odbiór odpadów 
URL;VALUE=URI:https://odpady.piaseczno.eu/harmonogram-odbioru-odpadow/odbior/antoninow-kuleszowka-mieszkowo-robercin-wola-golkowska-tworzywa-sztuczne-i-metale/
SUMMARY:Antoninów\, Kuleszówka\, Mieszkowo\, Robercin\, Wola Gołkowska - tworzywa sztuczne i metale
END:VEVENT
BEGIN:VEVENT
DTSTART:20251204T060000Z
DTEND:20251204T190000Z
DTSTAMP:20260420T153904Z
UID:69e64898d857f
CATEGORIES:Odpady segregowane -tworzywa sztuczne i metale
LOCATION:Antoninów Antoninów, Mazowieckie, PL
DESCRIPTION: Odbiór odpadów 
URL;VALUE=URI:https://odpady.piaseczno.eu/harmonogram-odbioru-odpadow/odbior/antoninow-kuleszowka-mieszkowo-robercin-wola-golkowska-tworzywa-sztuczne-i-metale/
SUMMARY:Antoninów\, Kuleszówka\, Mieszkowo\, Robercin\, Wola Gołkowska - tworzywa sztuczne i metale
END:VEVENT
BEGIN:VEVENT
DTSTART:20251218T060000Z
DTEND:20251218T190000Z
DTSTAMP:20260420T153904Z
UID:69e64898d85ce
CATEGORIES:Odpady segregowane -tworzywa sztuczne i metale
LOCATION:Antoninów Antoninów, Mazowieckie, PL
DESCRIPTION: Odbiór odpadów 
URL;VALUE=URI:https://odpady.piaseczno.eu/harmonogram-odbioru-odpadow/odbior/antoninow-kuleszowka-mieszkowo-robercin-wola-golkowska-tworzywa-sztuczne-i-metale/
SUMMARY:Antoninów\, Kuleszówka\, Mieszkowo\, Robercin\, Wola Gołkowska - tworzywa sztuczne i metale
END:VEVENT
BEGIN:VEVENT
DTSTART:20260103T060000Z
DTEND:20260103T190000Z
DTSTAMP:20260420T153904Z
UID:69e64898d8617
CATEGORIES:Odpady segregowane -tworzywa sztuczne i metale
LOCATION:Antoninów Antoninów, Mazowieckie, PL
DESCRIPTION: Odbiór odpadów 
URL;VALUE=URI:https://odpady.piaseczno.eu/harmonogram-odbioru-odpadow/odbior/antoninow-kuleszowka-mieszkowo-robercin-wola-golkowska-tworzywa-sztuczne-i-metale/
SUMMARY:Antoninów\, Kuleszówka\, Mieszkowo\, Robercin\, Wola Gołkowska - tworzywa sztuczne i metale
END:VEVENT
BEGIN:VEVENT
DTSTART:20260115T060000Z
DTEND:20260115T190000Z
DTSTAMP:20260420T153904Z
UID:69e64898d864d
CATEGORIES:Odpady segregowane -tworzywa sztuczne i metale
LOCATION:Antoninów Antoninów, Mazowieckie, PL
DESCRIPTION: Odbiór odpadów 
URL;VALUE=URI:https://odpady.piaseczno.eu/harmonogram-odbioru-odpadow/odbior/antoninow-kuleszowka-mieszkowo-robercin-wola-golkowska-tworzywa-sztuczne-i-metale/
SUMMARY:Antoninów\, Kuleszówka\, Mieszkowo\, Robercin\, Wola Gołkowska - tworzywa sztuczne i metale
END:VEVENT
BEGIN:VEVENT
DTSTART:20260129T060000Z
DTEND:20260129T190000Z
DTSTAMP:20260420T153904Z
UID:69e64898d8680
CATEGORIES:Odpady segregowane -tworzywa sztuczne i metale
LOCATION:Antoninów Antoninów, Mazowieckie, PL
DESCRIPTION: Odbiór odpadów 
URL;VALUE=URI:https://odpady.piaseczno.eu/harmonogram-odbioru-odpadow/odbior/antoninow-kuleszowka-mieszkowo-robercin-wola-golkowska-tworzywa-sztuczne-i-metale/
SUMMARY:Antoninów\, Kuleszówka\, Mieszkowo\, Robercin\, Wola Gołkowska - tworzywa sztuczne i metale
END:VEVENT
BEGIN:VEVENT
DTSTART:20260212T060000Z
DTEND:20260212T190000Z
DTSTAMP:20260420T153904Z
UID:69e64898d86c8
CATEGORIES:Odpady segregowane -tworzywa sztuczne i metale
LOCATION:Antoninów Antoninów, Mazowieckie, PL
DESCRIPTION: Odbiór odpadów 
URL;VALUE=URI:https://odpady.piaseczno.eu/harmonogram-odbioru-odpadow/odbior/antoninow-kuleszowka-mieszkowo-robercin-wola-golkowska-tworzywa-sztuczne-i-metale/
SUMMARY:Antoninów\, Kuleszówka\, Mieszkowo\, Robercin\, Wola Gołkowska - tworzywa sztuczne i metale
END:VEVENT
BEGIN:VEVENT
DTSTART:20260226T060000Z
DTEND:20260226T190000Z
DTSTAMP:20260420T153904Z
UID:69e64898d870b
CATEGORIES:Odpady segregowane -tworzywa sztuczne i metale
LOCATION:Antoninów Antoninów, Mazowieckie, PL
DESCRIPTION: Odbiór odpadów 
URL;VALUE=URI:https://odpady.piaseczno.eu/harmonogram-odbioru-odpadow/odbior/antoninow-kuleszowka-mieszkowo-robercin-wola-golkowska-tworzywa-sztuczne-i-metale/
SUMMARY:Antoninów\, Kuleszówka\, Mieszkowo\, Robercin\, Wola Gołkowska - tworzywa sztuczne i metale
END:VEVENT
BEGIN:VEVENT
DTSTART:20260312T060000Z
DTEND:20260312T190000Z
DTSTAMP:20260420T153904Z
UID:69e64898d8745
CATEGORIES:Odpady segregowane -tworzywa sztuczne i metale
LOCATION:Antoninów Antoninów, Mazowieckie, PL
DESCRIPTION: Odbiór odpadów 
URL;VALUE=URI:https://odpady.piaseczno.eu/harmonogram-odbioru-odpadow/odbior/antoninow-kuleszowka-mieszkowo-robercin-wola-golkowska-tworzywa-sztuczne-i-metale/
SUMMARY:Antoninów\, Kuleszówka\, Mieszkowo\, Robercin\, Wola Gołkowska - tworzywa sztuczne i metale
END:VEVENT
BEGIN:VEVENT
DTSTART:20260326T060000Z
DTEND:20260326T190000Z
DTSTAMP:20260420T153904Z
UID:69e64898d8778
CATEGORIES:Odpady segregowane -tworzywa sztuczne i metale
LOCATION:Antoninów Antoninów, Mazowieckie, PL
DESCRIPTION: Odbiór odpadów 
URL;VALUE=URI:https://odpady.piaseczno.eu/harmonogram-odbioru-odpadow/odbior/antoninow-kuleszowka-mieszkowo-robercin-wola-golkowska-tworzywa-sztuczne-i-metale/
SUMMARY:Antoninów\, Kuleszówka\, Mieszkowo\, Robercin\, Wola Gołkowska - tworzywa sztuczne i metale
END:VEVENT
BEGIN:VEVENT
DTSTART:20260409T060000Z
DTEND:20260409T190000Z
DTSTAMP:20260420T153904Z
UID:69e64898d87a9
CATEGORIES:Odpady segregowane -tworzywa sztuczne i metale
LOCATION:Antoninów Antoninów, Mazowieckie, PL
DESCRIPTION: Odbiór odpadów 
URL;VALUE=URI:https://odpady.piaseczno.eu/harmonogram-odbioru-odpadow/odbior/antoninow-kuleszowka-mieszkowo-robercin-wola-golkowska-tworzywa-sztuczne-i-metale/
SUMMARY:Antoninów\, Kuleszówka\, Mieszkowo\, Robercin\, Wola Gołkowska - tworzywa sztuczne i metale
END:VEVENT
BEGIN:VEVENT
DTSTART:20260423T060000Z
DTEND:20260423T190000Z
DTSTAMP:20260420T153904Z
UID:69e64898d87dc
CATEGORIES:Odpady segregowane -tworzywa sztuczne i metale
LOCATION:Antoninów Antoninów, Mazowieckie, PL
DESCRIPTION: Odbiór odpadów 
URL;VALUE=URI:https://odpady.piaseczno.eu/harmonogram-odbioru-odpadow/odbior/antoninow-kuleszowka-mieszkowo-robercin-wola-golkowska-tworzywa-sztuczne-i-metale/
SUMMARY:Antoninów\, Kuleszówka\, Mieszkowo\, Robercin\, Wola Gołkowska - tworzywa sztuczne i metale
END:VEVENT
BEGIN:VEVENT
DTSTART:20260507T060000Z
DTEND:20260507T190000Z
DTSTAMP:20260420T153904Z
UID:69e64898d880e
CATEGORIES:Odpady segregowane -tworzywa sztuczne i metale
LOCATION:Antoninów Antoninów, Mazowieckie, PL
DESCRIPTION: Odbiór odpadów 
URL;VALUE=URI:https://odpady.piaseczno.eu/harmonogram-odbioru-odpadow/odbior/antoninow-kuleszowka-mieszkowo-robercin-wola-golkowska-tworzywa-sztuczne-i-metale/
SUMMARY:Antoninów\, Kuleszówka\, Mieszkowo\, Robercin\, Wola Gołkowska - tworzywa sztuczne i metale
END:VEVENT
BEGIN:VEVENT
DTSTART:20260521T060000Z
DTEND:20260521T190000Z
DTSTAMP:20260420T153904Z
UID:69e64898d8840
CATEGORIES:Odpady segregowane -tworzywa sztuczne i metale
LOCATION:Antoninów Antoninów, Mazowieckie, PL
DESCRIPTION: Odbiór odpadów 
URL;VALUE=URI:https://odpady.piaseczno.eu/harmonogram-odbioru-odpadow/odbior/antoninow-kuleszowka-mieszkowo-robercin-wola-golkowska-tworzywa-sztuczne-i-metale/
SUMMARY:Antoninów\, Kuleszówka\, Mieszkowo\, Robercin\, Wola Gołkowska - tworzywa sztuczne i metale
END:VEVENT
BEGIN:VEVENT
DTSTART:20260606T060000Z
DTEND:20260606T190000Z
DTSTAMP:20260420T153904Z
UID:69e64898d886f
CATEGORIES:Odpady segregowane -tworzywa sztuczne i metale
LOCATION:Antoninów Antoninów, Mazowieckie, PL
DESCRIPTION: Odbiór odpadów 
URL;VALUE=URI:https://odpady.piaseczno.eu/harmonogram-odbioru-odpadow/odbior/antoninow-kuleszowka-mieszkowo-robercin-wola-golkowska-tworzywa-sztuczne-i-metale/
SUMMARY:Antoninów\, Kuleszówka\, Mieszkowo\, Robercin\, Wola Gołkowska - tworzywa sztuczne i metale
END:VEVENT
BEGIN:VEVENT
DTSTART:20260618T060000Z
DTEND:20260618T190000Z
DTSTAMP:20260420T153904Z
UID:69e64898d889e
CATEGORIES:Odpady segregowane -tworzywa sztuczne i metale
LOCATION:Antoninów Antoninów, Mazowieckie, PL
DESCRIPTION: Odbiór odpadów 
URL;VALUE=URI:https://odpady.piaseczno.eu/harmonogram-odbioru-odpadow/odbior/antoninow-kuleszowka-mieszkowo-robercin-wola-golkowska-tworzywa-sztuczne-i-metale/
SUMMARY:Antoninów\, Kuleszówka\, Mieszkowo\, Robercin\, Wola Gołkowska - tworzywa sztuczne i metale
END:VEVENT
BEGIN:VEVENT
DTSTART:20260702T060000Z
DTEND:20260702T190000Z
DTSTAMP:20260420T153904Z
UID:69e64898d88d9
CATEGORIES:Odpady segregowane -tworzywa sztuczne i metale
LOCATION:Antoninów Antoninów, Mazowieckie, PL
DESCRIPTION: Odbiór odpadów 
URL;VALUE=URI:https://odpady.piaseczno.eu/harmonogram-odbioru-odpadow/odbior/antoninow-kuleszowka-mieszkowo-robercin-wola-golkowska-tworzywa-sztuczne-i-metale/
SUMMARY:Antoninów\, Kuleszówka\, Mieszkowo\, Robercin\, Wola Gołkowska - tworzywa sztuczne i metale
END:VEVENT
BEGIN:VEVENT
DTSTART:20260716T060000Z
DTEND:20260716T190000Z
DTSTAMP:20260420T153904Z
UID:69e64898d8920
CATEGORIES:Odpady segregowane -tworzywa sztuczne i metale
LOCATION:Antoninów Antoninów, Mazowieckie, PL
DESCRIPTION: Odbiór odpadów 
URL;VALUE=URI:https://odpady.piaseczno.eu/harmonogram-odbioru-odpadow/odbior/antoninow-kuleszowka-mieszkowo-robercin-wola-golkowska-tworzywa-sztuczne-i-metale/
SUMMARY:Antoninów\, Kuleszówka\, Mieszkowo\, Robercin\, Wola Gołkowska - tworzywa sztuczne i metale
END:VEVENT
BEGIN:VEVENT
DTSTART:20260730T060000Z
DTEND:20260730T190000Z
DTSTAMP:20260420T153904Z
UID:69e64898d8953
CATEGORIES:Odpady segregowane -tworzywa sztuczne i metale
LOCATION:Antoninów Antoninów, Mazowieckie, PL
DESCRIPTION: Odbiór odpadów 
URL;VALUE=URI:https://odpady.piaseczno.eu/harmonogram-odbioru-odpadow/odbior/antoninow-kuleszowka-mieszkowo-robercin-wola-golkowska-tworzywa-sztuczne-i-metale/
SUMMARY:Antoninów\, Kuleszówka\, Mieszkowo\, Robercin\, Wola Gołkowska - tworzywa sztuczne i metale
END:VEVENT
BEGIN:VEVENT
DTSTART:20260813T060000Z
DTEND:20260813T190000Z
DTSTAMP:20260420T153904Z
UID:69e64898d8986
CATEGORIES:Odpady segregowane -tworzywa sztuczne i metale
LOCATION:Antoninów Antoninów, Mazowieckie, PL
DESCRIPTION: Odbiór odpadów 
URL;VALUE=URI:https://odpady.piaseczno.eu/harmonogram-odbioru-odpadow/odbior/antoninow-kuleszowka-mieszkowo-robercin-wola-golkowska-tworzywa-sztuczne-i-metale/
SUMMARY:Antoninów\, Kuleszówka\, Mieszkowo\, Robercin\, Wola Gołkowska - tworzywa sztuczne i metale
END:VEVENT
BEGIN:VEVENT
DTSTART:20260827T060000Z
DTEND:20260827T190000Z
DTSTAMP:20260420T153904Z
UID:69e64898d89b8
CATEGORIES:Odpady segregowane -tworzywa sztuczne i metale
LOCATION:Antoninów Antoninów, Mazowieckie, PL
DESCRIPTION: Odbiór odpadów 
URL;VALUE=URI:https://odpady.piaseczno.eu/harmonogram-odbioru-odpadow/odbior/antoninow-kuleszowka-mieszkowo-robercin-wola-golkowska-tworzywa-sztuczne-i-metale/
SUMMARY:Antoninów\, Kuleszówka\, Mieszkowo\, Robercin\, Wola Gołkowska - tworzywa sztuczne i metale
END:VEVENT
BEGIN:VEVENT
DTSTART:20260910T060000Z
DTEND:20260910T190000Z
DTSTAMP:20260420T153904Z
UID:69e64898d89f3
CATEGORIES:Odpady segregowane -tworzywa sztuczne i metale
LOCATION:Antoninów Antoninów, Mazowieckie, PL
DESCRIPTION: Odbiór odpadów 
URL;VALUE=URI:https://odpady.piaseczno.eu/harmonogram-odbioru-odpadow/odbior/antoninow-kuleszowka-mieszkowo-robercin-wola-golkowska-tworzywa-sztuczne-i-metale/
SUMMARY:Antoninów\, Kuleszówka\, Mieszkowo\, Robercin\, Wola Gołkowska - tworzywa sztuczne i metale
END:VEVENT
BEGIN:VEVENT
DTSTART:20260924T060000Z
DTEND:20260924T190000Z
DTSTAMP:20260420T153904Z
UID:69e64898d8a23
CATEGORIES:Odpady segregowane -tworzywa sztuczne i metale
LOCATION:Antoninów Antoninów, Mazowieckie, PL
DESCRIPTION: Odbiór odpadów 
URL;VALUE=URI:https://odpady.piaseczno.eu/harmonogram-odbioru-odpadow/odbior/antoninow-kuleszowka-mieszkowo-robercin-wola-golkowska-tworzywa-sztuczne-i-metale/
SUMMARY:Antoninów\, Kuleszówka\, Mieszkowo\, Robercin\, Wola Gołkowska - tworzywa sztuczne i metale
END:VEVENT
BEGIN:VEVENT
DTSTART:20261008T060000Z
DTEND:20261008T190000Z
DTSTAMP:20260420T153904Z
UID:69e64898d8a55
CATEGORIES:Odpady segregowane -tworzywa sztuczne i metale
LOCATION:Antoninów Antoninów, Mazowieckie, PL
DESCRIPTION: Odbiór odpadów 
URL;VALUE=URI:https://odpady.piaseczno.eu/harmonogram-odbioru-odpadow/odbior/antoninow-kuleszowka-mieszkowo-robercin-wola-golkowska-tworzywa-sztuczne-i-metale/
SUMMARY:Antoninów\, Kuleszówka\, Mieszkowo\, Robercin\, Wola Gołkowska - tworzywa sztuczne i metale
END:VEVENT
BEGIN:VEVENT
DTSTART:20261022T060000Z
DTEND:20261022T190000Z
DTSTAMP:20260420T153904Z
UID:69e64898d8a8f
CATEGORIES:Odpady segregowane -tworzywa sztuczne i metale
LOCATION:Antoninów Antoninów, Mazowieckie, PL
DESCRIPTION: Odbiór odpadów 
URL;VALUE=URI:https://odpady.piaseczno.eu/harmonogram-odbioru-odpadow/odbior/antoninow-kuleszowka-mieszkowo-robercin-wola-golkowska-tworzywa-sztuczne-i-metale/
SUMMARY:Antoninów\, Kuleszówka\, Mieszkowo\, Robercin\, Wola Gołkowska - tworzywa sztuczne i metale
END:VEVENT
BEGIN:VEVENT
DTSTART:20261105T060000Z
DTEND:20261105T190000Z
DTSTAMP:20260420T153904Z
UID:69e64898d8ac1
CATEGORIES:Odpady segregowane -tworzywa sztuczne i metale
LOCATION:Antoninów Antoninów, Mazowieckie, PL
DESCRIPTION: Odbiór odpadów 
URL;VALUE=URI:https://odpady.piaseczno.eu/harmonogram-odbioru-odpadow/odbior/antoninow-kuleszowka-mieszkowo-robercin-wola-golkowska-tworzywa-sztuczne-i-metale/
SUMMARY:Antoninów\, Kuleszówka\, Mieszkowo\, Robercin\, Wola Gołkowska - tworzywa sztuczne i metale
END:VEVENT
BEGIN:VEVENT
DTSTART:20261119T060000Z
DTEND:20261119T190000Z
DTSTAMP:20260420T153904Z
UID:69e64898d8aef
CATEGORIES:Odpady segregowane -tworzywa sztuczne i metale
LOCATION:Antoninów Antoninów, Mazowieckie, PL
DESCRIPTION: Odbiór odpadów 
URL;VALUE=URI:https://odpady.piaseczno.eu/harmonogram-odbioru-odpadow/odbior/antoninow-kuleszowka-mieszkowo-robercin-wola-golkowska-tworzywa-sztuczne-i-metale/
SUMMARY:Antoninów\, Kuleszówka\, Mieszkowo\, Robercin\, Wola Gołkowska - tworzywa sztuczne i metale
END:VEVENT
END:VCALENDAR
