BEGIN:VCALENDAR
VERSION:2.0
PRODID:-//DIGITAL FACTORY//EVENTS MAKER V1.6.12//EN
CALSCALE:GREGORIAN
METHOD:PUBLISH
BEGIN:VEVENT
DTSTART:20251127T060000Z
DTEND:20251127T190000Z
DTSTAMP:20260420T153832Z
UID:69e6487830eb8
CATEGORIES:Odpady segregowane - szkło
LOCATION:Antoninów Antoninów, Mazowieckie, PL
ORGANIZER;CN=WGO Gminy Piaseczno:MAILTO:go@piaseczno.eu
DESCRIPTION: Odbiór odpadów 
URL;VALUE=URI:https://odpady.piaseczno.eu/harmonogram-odbioru-odpadow/odbior/antoninow-kuleszowka-mieszkowo-robercin-wola-golkowska-szklo/
SUMMARY:Antoninów\, Kuleszówka\, Mieszkowo\, Robercin\, Wola Gołkowska - Szkło
END:VEVENT
BEGIN:VEVENT
DTSTART:20251220T060000Z
DTEND:20251220T190000Z
DTSTAMP:20260420T153832Z
UID:69e6487830f31
CATEGORIES:Odpady segregowane - szkło
LOCATION:Antoninów Antoninów, Mazowieckie, PL
ORGANIZER;CN=WGO Gminy Piaseczno:MAILTO:go@piaseczno.eu
DESCRIPTION: Odbiór odpadów 
URL;VALUE=URI:https://odpady.piaseczno.eu/harmonogram-odbioru-odpadow/odbior/antoninow-kuleszowka-mieszkowo-robercin-wola-golkowska-szklo/
SUMMARY:Antoninów\, Kuleszówka\, Mieszkowo\, Robercin\, Wola Gołkowska - Szkło
END:VEVENT
BEGIN:VEVENT
DTSTART:20260122T060000Z
DTEND:20260122T190000Z
DTSTAMP:20260420T153832Z
UID:69e6487830f58
CATEGORIES:Odpady segregowane - szkło
LOCATION:Antoninów Antoninów, Mazowieckie, PL
ORGANIZER;CN=WGO Gminy Piaseczno:MAILTO:go@piaseczno.eu
DESCRIPTION: Odbiór odpadów 
URL;VALUE=URI:https://odpady.piaseczno.eu/harmonogram-odbioru-odpadow/odbior/antoninow-kuleszowka-mieszkowo-robercin-wola-golkowska-szklo/
SUMMARY:Antoninów\, Kuleszówka\, Mieszkowo\, Robercin\, Wola Gołkowska - Szkło
END:VEVENT
BEGIN:VEVENT
DTSTART:20260219T060000Z
DTEND:20260219T190000Z
DTSTAMP:20260420T153832Z
UID:69e6487830f79
CATEGORIES:Odpady segregowane - szkło
LOCATION:Antoninów Antoninów, Mazowieckie, PL
ORGANIZER;CN=WGO Gminy Piaseczno:MAILTO:go@piaseczno.eu
DESCRIPTION: Odbiór odpadów 
URL;VALUE=URI:https://odpady.piaseczno.eu/harmonogram-odbioru-odpadow/odbior/antoninow-kuleszowka-mieszkowo-robercin-wola-golkowska-szklo/
SUMMARY:Antoninów\, Kuleszówka\, Mieszkowo\, Robercin\, Wola Gołkowska - Szkło
END:VEVENT
BEGIN:VEVENT
DTSTART:20260319T060000Z
DTEND:20260319T190000Z
DTSTAMP:20260420T153832Z
UID:69e6487830f97
CATEGORIES:Odpady segregowane - szkło
LOCATION:Antoninów Antoninów, Mazowieckie, PL
ORGANIZER;CN=WGO Gminy Piaseczno:MAILTO:go@piaseczno.eu
DESCRIPTION: Odbiór odpadów 
URL;VALUE=URI:https://odpady.piaseczno.eu/harmonogram-odbioru-odpadow/odbior/antoninow-kuleszowka-mieszkowo-robercin-wola-golkowska-szklo/
SUMMARY:Antoninów\, Kuleszówka\, Mieszkowo\, Robercin\, Wola Gołkowska - Szkło
END:VEVENT
BEGIN:VEVENT
DTSTART:20260416T060000Z
DTEND:20260416T190000Z
DTSTAMP:20260420T153832Z
UID:69e6487830fb2
CATEGORIES:Odpady segregowane - szkło
LOCATION:Antoninów Antoninów, Mazowieckie, PL
ORGANIZER;CN=WGO Gminy Piaseczno:MAILTO:go@piaseczno.eu
DESCRIPTION: Odbiór odpadów 
URL;VALUE=URI:https://odpady.piaseczno.eu/harmonogram-odbioru-odpadow/odbior/antoninow-kuleszowka-mieszkowo-robercin-wola-golkowska-szklo/
SUMMARY:Antoninów\, Kuleszówka\, Mieszkowo\, Robercin\, Wola Gołkowska - Szkło
END:VEVENT
BEGIN:VEVENT
DTSTART:20260514T060000Z
DTEND:20260514T190000Z
DTSTAMP:20260420T153832Z
UID:69e6487830fce
CATEGORIES:Odpady segregowane - szkło
LOCATION:Antoninów Antoninów, Mazowieckie, PL
ORGANIZER;CN=WGO Gminy Piaseczno:MAILTO:go@piaseczno.eu
DESCRIPTION: Odbiór odpadów 
URL;VALUE=URI:https://odpady.piaseczno.eu/harmonogram-odbioru-odpadow/odbior/antoninow-kuleszowka-mieszkowo-robercin-wola-golkowska-szklo/
SUMMARY:Antoninów\, Kuleszówka\, Mieszkowo\, Robercin\, Wola Gołkowska - Szkło
END:VEVENT
BEGIN:VEVENT
DTSTART:20260611T060000Z
DTEND:20260611T190000Z
DTSTAMP:20260420T153832Z
UID:69e6487830fe9
CATEGORIES:Odpady segregowane - szkło
LOCATION:Antoninów Antoninów, Mazowieckie, PL
ORGANIZER;CN=WGO Gminy Piaseczno:MAILTO:go@piaseczno.eu
DESCRIPTION: Odbiór odpadów 
URL;VALUE=URI:https://odpady.piaseczno.eu/harmonogram-odbioru-odpadow/odbior/antoninow-kuleszowka-mieszkowo-robercin-wola-golkowska-szklo/
SUMMARY:Antoninów\, Kuleszówka\, Mieszkowo\, Robercin\, Wola Gołkowska - Szkło
END:VEVENT
BEGIN:VEVENT
DTSTART:20260709T060000Z
DTEND:20260709T190000Z
DTSTAMP:20260420T153832Z
UID:69e6487831009
CATEGORIES:Odpady segregowane - szkło
LOCATION:Antoninów Antoninów, Mazowieckie, PL
ORGANIZER;CN=WGO Gminy Piaseczno:MAILTO:go@piaseczno.eu
DESCRIPTION: Odbiór odpadów 
URL;VALUE=URI:https://odpady.piaseczno.eu/harmonogram-odbioru-odpadow/odbior/antoninow-kuleszowka-mieszkowo-robercin-wola-golkowska-szklo/
SUMMARY:Antoninów\, Kuleszówka\, Mieszkowo\, Robercin\, Wola Gołkowska - Szkło
END:VEVENT
BEGIN:VEVENT
DTSTART:20260806T060000Z
DTEND:20260806T190000Z
DTSTAMP:20260420T153832Z
UID:69e6487831025
CATEGORIES:Odpady segregowane - szkło
LOCATION:Antoninów Antoninów, Mazowieckie, PL
ORGANIZER;CN=WGO Gminy Piaseczno:MAILTO:go@piaseczno.eu
DESCRIPTION: Odbiór odpadów 
URL;VALUE=URI:https://odpady.piaseczno.eu/harmonogram-odbioru-odpadow/odbior/antoninow-kuleszowka-mieszkowo-robercin-wola-golkowska-szklo/
SUMMARY:Antoninów\, Kuleszówka\, Mieszkowo\, Robercin\, Wola Gołkowska - Szkło
END:VEVENT
BEGIN:VEVENT
DTSTART:20260903T060000Z
DTEND:20260903T190000Z
DTSTAMP:20260420T153832Z
UID:69e648783103f
CATEGORIES:Odpady segregowane - szkło
LOCATION:Antoninów Antoninów, Mazowieckie, PL
ORGANIZER;CN=WGO Gminy Piaseczno:MAILTO:go@piaseczno.eu
DESCRIPTION: Odbiór odpadów 
URL;VALUE=URI:https://odpady.piaseczno.eu/harmonogram-odbioru-odpadow/odbior/antoninow-kuleszowka-mieszkowo-robercin-wola-golkowska-szklo/
SUMMARY:Antoninów\, Kuleszówka\, Mieszkowo\, Robercin\, Wola Gołkowska - Szkło
END:VEVENT
BEGIN:VEVENT
DTSTART:20261001T060000Z
DTEND:20261001T190000Z
DTSTAMP:20260420T153832Z
UID:69e648783105a
CATEGORIES:Odpady segregowane - szkło
LOCATION:Antoninów Antoninów, Mazowieckie, PL
ORGANIZER;CN=WGO Gminy Piaseczno:MAILTO:go@piaseczno.eu
DESCRIPTION: Odbiór odpadów 
URL;VALUE=URI:https://odpady.piaseczno.eu/harmonogram-odbioru-odpadow/odbior/antoninow-kuleszowka-mieszkowo-robercin-wola-golkowska-szklo/
SUMMARY:Antoninów\, Kuleszówka\, Mieszkowo\, Robercin\, Wola Gołkowska - Szkło
END:VEVENT
BEGIN:VEVENT
DTSTART:20261029T060000Z
DTEND:20261029T190000Z
DTSTAMP:20260420T153832Z
UID:69e6487831074
CATEGORIES:Odpady segregowane - szkło
LOCATION:Antoninów Antoninów, Mazowieckie, PL
ORGANIZER;CN=WGO Gminy Piaseczno:MAILTO:go@piaseczno.eu
DESCRIPTION: Odbiór odpadów 
URL;VALUE=URI:https://odpady.piaseczno.eu/harmonogram-odbioru-odpadow/odbior/antoninow-kuleszowka-mieszkowo-robercin-wola-golkowska-szklo/
SUMMARY:Antoninów\, Kuleszówka\, Mieszkowo\, Robercin\, Wola Gołkowska - Szkło
END:VEVENT
BEGIN:VEVENT
DTSTART:20261126T060000Z
DTEND:20261126T190000Z
DTSTAMP:20260420T153832Z
UID:69e648783108e
CATEGORIES:Odpady segregowane - szkło
LOCATION:Antoninów Antoninów, Mazowieckie, PL
ORGANIZER;CN=WGO Gminy Piaseczno:MAILTO:go@piaseczno.eu
DESCRIPTION: Odbiór odpadów 
URL;VALUE=URI:https://odpady.piaseczno.eu/harmonogram-odbioru-odpadow/odbior/antoninow-kuleszowka-mieszkowo-robercin-wola-golkowska-szklo/
SUMMARY:Antoninów\, Kuleszówka\, Mieszkowo\, Robercin\, Wola Gołkowska - Szkło
END:VEVENT
END:VCALENDAR
