BEGIN:VCALENDAR
VERSION:2.0
PRODID:-//DIGITAL FACTORY//EVENTS MAKER V1.6.12//EN
CALSCALE:GREGORIAN
METHOD:PUBLISH
BEGIN:VEVENT
DTSTART:20251114T060000Z
DTEND:20251114T190000Z
DTSTAMP:20260423T105417Z
UID:69e9fa5911ce9
CATEGORIES:Odpady zmieszane
LOCATION:Antoninów Antoninów, Mazowieckie, PL
ORGANIZER;CN=WGO Gminy Piaseczno:MAILTO:go@piaseczno.eu
DESCRIPTION: Odbiór odpadów 
URL;VALUE=URI:https://odpady.piaseczno.eu/harmonogram-odbioru-odpadow/odbior/antoninow-kuleszowka-mieszkowo-robercin-wola-golkowska-papier-plastik-metal-tekstylia/
SUMMARY:Antoninów\, Kuleszówka\, Mieszkowo\, Robercin\, Wola Gołkowska - odpady zmieszane
END:VEVENT
BEGIN:VEVENT
DTSTART:20251128T060000Z
DTEND:20251128T190000Z
DTSTAMP:20260423T105417Z
UID:69e9fa5911dab
CATEGORIES:Odpady zmieszane
LOCATION:Antoninów Antoninów, Mazowieckie, PL
ORGANIZER;CN=WGO Gminy Piaseczno:MAILTO:go@piaseczno.eu
DESCRIPTION: Odbiór odpadów 
URL;VALUE=URI:https://odpady.piaseczno.eu/harmonogram-odbioru-odpadow/odbior/antoninow-kuleszowka-mieszkowo-robercin-wola-golkowska-papier-plastik-metal-tekstylia/
SUMMARY:Antoninów\, Kuleszówka\, Mieszkowo\, Robercin\, Wola Gołkowska - odpady zmieszane
END:VEVENT
BEGIN:VEVENT
DTSTART:20251212T060000Z
DTEND:20251212T190000Z
DTSTAMP:20260423T105417Z
UID:69e9fa5911dfe
CATEGORIES:Odpady zmieszane
LOCATION:Antoninów Antoninów, Mazowieckie, PL
ORGANIZER;CN=WGO Gminy Piaseczno:MAILTO:go@piaseczno.eu
DESCRIPTION: Odbiór odpadów 
URL;VALUE=URI:https://odpady.piaseczno.eu/harmonogram-odbioru-odpadow/odbior/antoninow-kuleszowka-mieszkowo-robercin-wola-golkowska-papier-plastik-metal-tekstylia/
SUMMARY:Antoninów\, Kuleszówka\, Mieszkowo\, Robercin\, Wola Gołkowska - odpady zmieszane
END:VEVENT
BEGIN:VEVENT
DTSTART:20251227T060000Z
DTEND:20251227T190000Z
DTSTAMP:20260423T105417Z
UID:69e9fa5911e1f
CATEGORIES:Odpady zmieszane
LOCATION:Antoninów Antoninów, Mazowieckie, PL
ORGANIZER;CN=WGO Gminy Piaseczno:MAILTO:go@piaseczno.eu
DESCRIPTION: Odbiór odpadów 
URL;VALUE=URI:https://odpady.piaseczno.eu/harmonogram-odbioru-odpadow/odbior/antoninow-kuleszowka-mieszkowo-robercin-wola-golkowska-papier-plastik-metal-tekstylia/
SUMMARY:Antoninów\, Kuleszówka\, Mieszkowo\, Robercin\, Wola Gołkowska - odpady zmieszane
END:VEVENT
BEGIN:VEVENT
DTSTART:20260109T060000Z
DTEND:20260109T190000Z
DTSTAMP:20260423T105417Z
UID:69e9fa5911e53
CATEGORIES:Odpady zmieszane
LOCATION:Antoninów Antoninów, Mazowieckie, PL
ORGANIZER;CN=WGO Gminy Piaseczno:MAILTO:go@piaseczno.eu
DESCRIPTION: Odbiór odpadów 
URL;VALUE=URI:https://odpady.piaseczno.eu/harmonogram-odbioru-odpadow/odbior/antoninow-kuleszowka-mieszkowo-robercin-wola-golkowska-papier-plastik-metal-tekstylia/
SUMMARY:Antoninów\, Kuleszówka\, Mieszkowo\, Robercin\, Wola Gołkowska - odpady zmieszane
END:VEVENT
BEGIN:VEVENT
DTSTART:20260123T060000Z
DTEND:20260123T190000Z
DTSTAMP:20260423T105417Z
UID:69e9fa5911e71
CATEGORIES:Odpady zmieszane
LOCATION:Antoninów Antoninów, Mazowieckie, PL
ORGANIZER;CN=WGO Gminy Piaseczno:MAILTO:go@piaseczno.eu
DESCRIPTION: Odbiór odpadów 
URL;VALUE=URI:https://odpady.piaseczno.eu/harmonogram-odbioru-odpadow/odbior/antoninow-kuleszowka-mieszkowo-robercin-wola-golkowska-papier-plastik-metal-tekstylia/
SUMMARY:Antoninów\, Kuleszówka\, Mieszkowo\, Robercin\, Wola Gołkowska - odpady zmieszane
END:VEVENT
BEGIN:VEVENT
DTSTART:20260206T060000Z
DTEND:20260206T190000Z
DTSTAMP:20260423T105417Z
UID:69e9fa5911ea1
CATEGORIES:Odpady zmieszane
LOCATION:Antoninów Antoninów, Mazowieckie, PL
ORGANIZER;CN=WGO Gminy Piaseczno:MAILTO:go@piaseczno.eu
DESCRIPTION: Odbiór odpadów 
URL;VALUE=URI:https://odpady.piaseczno.eu/harmonogram-odbioru-odpadow/odbior/antoninow-kuleszowka-mieszkowo-robercin-wola-golkowska-papier-plastik-metal-tekstylia/
SUMMARY:Antoninów\, Kuleszówka\, Mieszkowo\, Robercin\, Wola Gołkowska - odpady zmieszane
END:VEVENT
BEGIN:VEVENT
DTSTART:20260220T060000Z
DTEND:20260220T190000Z
DTSTAMP:20260423T105417Z
UID:69e9fa5911ebe
CATEGORIES:Odpady zmieszane
LOCATION:Antoninów Antoninów, Mazowieckie, PL
ORGANIZER;CN=WGO Gminy Piaseczno:MAILTO:go@piaseczno.eu
DESCRIPTION: Odbiór odpadów 
URL;VALUE=URI:https://odpady.piaseczno.eu/harmonogram-odbioru-odpadow/odbior/antoninow-kuleszowka-mieszkowo-robercin-wola-golkowska-papier-plastik-metal-tekstylia/
SUMMARY:Antoninów\, Kuleszówka\, Mieszkowo\, Robercin\, Wola Gołkowska - odpady zmieszane
END:VEVENT
BEGIN:VEVENT
DTSTART:20260306T060000Z
DTEND:20260306T190000Z
DTSTAMP:20260423T105417Z
UID:69e9fa5911ee0
CATEGORIES:Odpady zmieszane
LOCATION:Antoninów Antoninów, Mazowieckie, PL
ORGANIZER;CN=WGO Gminy Piaseczno:MAILTO:go@piaseczno.eu
DESCRIPTION: Odbiór odpadów 
URL;VALUE=URI:https://odpady.piaseczno.eu/harmonogram-odbioru-odpadow/odbior/antoninow-kuleszowka-mieszkowo-robercin-wola-golkowska-papier-plastik-metal-tekstylia/
SUMMARY:Antoninów\, Kuleszówka\, Mieszkowo\, Robercin\, Wola Gołkowska - odpady zmieszane
END:VEVENT
BEGIN:VEVENT
DTSTART:20260320T060000Z
DTEND:20260320T190000Z
DTSTAMP:20260423T105417Z
UID:69e9fa5911f08
CATEGORIES:Odpady zmieszane
LOCATION:Antoninów Antoninów, Mazowieckie, PL
ORGANIZER;CN=WGO Gminy Piaseczno:MAILTO:go@piaseczno.eu
DESCRIPTION: Odbiór odpadów 
URL;VALUE=URI:https://odpady.piaseczno.eu/harmonogram-odbioru-odpadow/odbior/antoninow-kuleszowka-mieszkowo-robercin-wola-golkowska-papier-plastik-metal-tekstylia/
SUMMARY:Antoninów\, Kuleszówka\, Mieszkowo\, Robercin\, Wola Gołkowska - odpady zmieszane
END:VEVENT
BEGIN:VEVENT
DTSTART:20260403T060000Z
DTEND:20260403T190000Z
DTSTAMP:20260423T105417Z
UID:69e9fa5911f22
CATEGORIES:Odpady zmieszane
LOCATION:Antoninów Antoninów, Mazowieckie, PL
ORGANIZER;CN=WGO Gminy Piaseczno:MAILTO:go@piaseczno.eu
DESCRIPTION: Odbiór odpadów 
URL;VALUE=URI:https://odpady.piaseczno.eu/harmonogram-odbioru-odpadow/odbior/antoninow-kuleszowka-mieszkowo-robercin-wola-golkowska-papier-plastik-metal-tekstylia/
SUMMARY:Antoninów\, Kuleszówka\, Mieszkowo\, Robercin\, Wola Gołkowska - odpady zmieszane
END:VEVENT
BEGIN:VEVENT
DTSTART:20260417T060000Z
DTEND:20260417T190000Z
DTSTAMP:20260423T105417Z
UID:69e9fa5911f3c
CATEGORIES:Odpady zmieszane
LOCATION:Antoninów Antoninów, Mazowieckie, PL
ORGANIZER;CN=WGO Gminy Piaseczno:MAILTO:go@piaseczno.eu
DESCRIPTION: Odbiór odpadów 
URL;VALUE=URI:https://odpady.piaseczno.eu/harmonogram-odbioru-odpadow/odbior/antoninow-kuleszowka-mieszkowo-robercin-wola-golkowska-papier-plastik-metal-tekstylia/
SUMMARY:Antoninów\, Kuleszówka\, Mieszkowo\, Robercin\, Wola Gołkowska - odpady zmieszane
END:VEVENT
BEGIN:VEVENT
DTSTART:20260504T060000Z
DTEND:20260504T190000Z
DTSTAMP:20260423T105417Z
UID:69e9fa5911f57
CATEGORIES:Odpady zmieszane
LOCATION:Antoninów Antoninów, Mazowieckie, PL
ORGANIZER;CN=WGO Gminy Piaseczno:MAILTO:go@piaseczno.eu
DESCRIPTION: Odbiór odpadów 
URL;VALUE=URI:https://odpady.piaseczno.eu/harmonogram-odbioru-odpadow/odbior/antoninow-kuleszowka-mieszkowo-robercin-wola-golkowska-papier-plastik-metal-tekstylia/
SUMMARY:Antoninów\, Kuleszówka\, Mieszkowo\, Robercin\, Wola Gołkowska - odpady zmieszane
END:VEVENT
BEGIN:VEVENT
DTSTART:20260515T060000Z
DTEND:20260515T190000Z
DTSTAMP:20260423T105417Z
UID:69e9fa5911f70
CATEGORIES:Odpady zmieszane
LOCATION:Antoninów Antoninów, Mazowieckie, PL
ORGANIZER;CN=WGO Gminy Piaseczno:MAILTO:go@piaseczno.eu
DESCRIPTION: Odbiór odpadów 
URL;VALUE=URI:https://odpady.piaseczno.eu/harmonogram-odbioru-odpadow/odbior/antoninow-kuleszowka-mieszkowo-robercin-wola-golkowska-papier-plastik-metal-tekstylia/
SUMMARY:Antoninów\, Kuleszówka\, Mieszkowo\, Robercin\, Wola Gołkowska - odpady zmieszane
END:VEVENT
BEGIN:VEVENT
DTSTART:20260529T060000Z
DTEND:20260529T190000Z
DTSTAMP:20260423T105417Z
UID:69e9fa5911f8a
CATEGORIES:Odpady zmieszane
LOCATION:Antoninów Antoninów, Mazowieckie, PL
ORGANIZER;CN=WGO Gminy Piaseczno:MAILTO:go@piaseczno.eu
DESCRIPTION: Odbiór odpadów 
URL;VALUE=URI:https://odpady.piaseczno.eu/harmonogram-odbioru-odpadow/odbior/antoninow-kuleszowka-mieszkowo-robercin-wola-golkowska-papier-plastik-metal-tekstylia/
SUMMARY:Antoninów\, Kuleszówka\, Mieszkowo\, Robercin\, Wola Gołkowska - odpady zmieszane
END:VEVENT
BEGIN:VEVENT
DTSTART:20260605T060000Z
DTEND:20260605T190000Z
DTSTAMP:20260423T105417Z
UID:69e9fa5911faa
CATEGORIES:Odpady zmieszane
LOCATION:Antoninów Antoninów, Mazowieckie, PL
ORGANIZER;CN=WGO Gminy Piaseczno:MAILTO:go@piaseczno.eu
DESCRIPTION: Odbiór odpadów 
URL;VALUE=URI:https://odpady.piaseczno.eu/harmonogram-odbioru-odpadow/odbior/antoninow-kuleszowka-mieszkowo-robercin-wola-golkowska-papier-plastik-metal-tekstylia/
SUMMARY:Antoninów\, Kuleszówka\, Mieszkowo\, Robercin\, Wola Gołkowska - odpady zmieszane
END:VEVENT
BEGIN:VEVENT
DTSTART:20260612T060000Z
DTEND:20260612T190000Z
DTSTAMP:20260423T105417Z
UID:69e9fa5911fc5
CATEGORIES:Odpady zmieszane
LOCATION:Antoninów Antoninów, Mazowieckie, PL
ORGANIZER;CN=WGO Gminy Piaseczno:MAILTO:go@piaseczno.eu
DESCRIPTION: Odbiór odpadów 
URL;VALUE=URI:https://odpady.piaseczno.eu/harmonogram-odbioru-odpadow/odbior/antoninow-kuleszowka-mieszkowo-robercin-wola-golkowska-papier-plastik-metal-tekstylia/
SUMMARY:Antoninów\, Kuleszówka\, Mieszkowo\, Robercin\, Wola Gołkowska - odpady zmieszane
END:VEVENT
BEGIN:VEVENT
DTSTART:20260619T060000Z
DTEND:20260619T190000Z
DTSTAMP:20260423T105417Z
UID:69e9fa5911fdf
CATEGORIES:Odpady zmieszane
LOCATION:Antoninów Antoninów, Mazowieckie, PL
ORGANIZER;CN=WGO Gminy Piaseczno:MAILTO:go@piaseczno.eu
DESCRIPTION: Odbiór odpadów 
URL;VALUE=URI:https://odpady.piaseczno.eu/harmonogram-odbioru-odpadow/odbior/antoninow-kuleszowka-mieszkowo-robercin-wola-golkowska-papier-plastik-metal-tekstylia/
SUMMARY:Antoninów\, Kuleszówka\, Mieszkowo\, Robercin\, Wola Gołkowska - odpady zmieszane
END:VEVENT
BEGIN:VEVENT
DTSTART:20260626T060000Z
DTEND:20260626T190000Z
DTSTAMP:20260423T105417Z
UID:69e9fa5911ff9
CATEGORIES:Odpady zmieszane
LOCATION:Antoninów Antoninów, Mazowieckie, PL
ORGANIZER;CN=WGO Gminy Piaseczno:MAILTO:go@piaseczno.eu
DESCRIPTION: Odbiór odpadów 
URL;VALUE=URI:https://odpady.piaseczno.eu/harmonogram-odbioru-odpadow/odbior/antoninow-kuleszowka-mieszkowo-robercin-wola-golkowska-papier-plastik-metal-tekstylia/
SUMMARY:Antoninów\, Kuleszówka\, Mieszkowo\, Robercin\, Wola Gołkowska - odpady zmieszane
END:VEVENT
BEGIN:VEVENT
DTSTART:20260703T060000Z
DTEND:20260703T190000Z
DTSTAMP:20260423T105417Z
UID:69e9fa5912014
CATEGORIES:Odpady zmieszane
LOCATION:Antoninów Antoninów, Mazowieckie, PL
ORGANIZER;CN=WGO Gminy Piaseczno:MAILTO:go@piaseczno.eu
DESCRIPTION: Odbiór odpadów 
URL;VALUE=URI:https://odpady.piaseczno.eu/harmonogram-odbioru-odpadow/odbior/antoninow-kuleszowka-mieszkowo-robercin-wola-golkowska-papier-plastik-metal-tekstylia/
SUMMARY:Antoninów\, Kuleszówka\, Mieszkowo\, Robercin\, Wola Gołkowska - odpady zmieszane
END:VEVENT
BEGIN:VEVENT
DTSTART:20260710T060000Z
DTEND:20260710T190000Z
DTSTAMP:20260423T105417Z
UID:69e9fa591202d
CATEGORIES:Odpady zmieszane
LOCATION:Antoninów Antoninów, Mazowieckie, PL
ORGANIZER;CN=WGO Gminy Piaseczno:MAILTO:go@piaseczno.eu
DESCRIPTION: Odbiór odpadów 
URL;VALUE=URI:https://odpady.piaseczno.eu/harmonogram-odbioru-odpadow/odbior/antoninow-kuleszowka-mieszkowo-robercin-wola-golkowska-papier-plastik-metal-tekstylia/
SUMMARY:Antoninów\, Kuleszówka\, Mieszkowo\, Robercin\, Wola Gołkowska - odpady zmieszane
END:VEVENT
BEGIN:VEVENT
DTSTART:20260717T060000Z
DTEND:20260717T190000Z
DTSTAMP:20260423T105417Z
UID:69e9fa5912047
CATEGORIES:Odpady zmieszane
LOCATION:Antoninów Antoninów, Mazowieckie, PL
ORGANIZER;CN=WGO Gminy Piaseczno:MAILTO:go@piaseczno.eu
DESCRIPTION: Odbiór odpadów 
URL;VALUE=URI:https://odpady.piaseczno.eu/harmonogram-odbioru-odpadow/odbior/antoninow-kuleszowka-mieszkowo-robercin-wola-golkowska-papier-plastik-metal-tekstylia/
SUMMARY:Antoninów\, Kuleszówka\, Mieszkowo\, Robercin\, Wola Gołkowska - odpady zmieszane
END:VEVENT
BEGIN:VEVENT
DTSTART:20260724T060000Z
DTEND:20260724T190000Z
DTSTAMP:20260423T105417Z
UID:69e9fa5912061
CATEGORIES:Odpady zmieszane
LOCATION:Antoninów Antoninów, Mazowieckie, PL
ORGANIZER;CN=WGO Gminy Piaseczno:MAILTO:go@piaseczno.eu
DESCRIPTION: Odbiór odpadów 
URL;VALUE=URI:https://odpady.piaseczno.eu/harmonogram-odbioru-odpadow/odbior/antoninow-kuleszowka-mieszkowo-robercin-wola-golkowska-papier-plastik-metal-tekstylia/
SUMMARY:Antoninów\, Kuleszówka\, Mieszkowo\, Robercin\, Wola Gołkowska - odpady zmieszane
END:VEVENT
BEGIN:VEVENT
DTSTART:20260731T060000Z
DTEND:20260731T190000Z
DTSTAMP:20260423T105417Z
UID:69e9fa591207f
CATEGORIES:Odpady zmieszane
LOCATION:Antoninów Antoninów, Mazowieckie, PL
ORGANIZER;CN=WGO Gminy Piaseczno:MAILTO:go@piaseczno.eu
DESCRIPTION: Odbiór odpadów 
URL;VALUE=URI:https://odpady.piaseczno.eu/harmonogram-odbioru-odpadow/odbior/antoninow-kuleszowka-mieszkowo-robercin-wola-golkowska-papier-plastik-metal-tekstylia/
SUMMARY:Antoninów\, Kuleszówka\, Mieszkowo\, Robercin\, Wola Gołkowska - odpady zmieszane
END:VEVENT
BEGIN:VEVENT
DTSTART:20260807T060000Z
DTEND:20260807T190000Z
DTSTAMP:20260423T105417Z
UID:69e9fa5912099
CATEGORIES:Odpady zmieszane
LOCATION:Antoninów Antoninów, Mazowieckie, PL
ORGANIZER;CN=WGO Gminy Piaseczno:MAILTO:go@piaseczno.eu
DESCRIPTION: Odbiór odpadów 
URL;VALUE=URI:https://odpady.piaseczno.eu/harmonogram-odbioru-odpadow/odbior/antoninow-kuleszowka-mieszkowo-robercin-wola-golkowska-papier-plastik-metal-tekstylia/
SUMMARY:Antoninów\, Kuleszówka\, Mieszkowo\, Robercin\, Wola Gołkowska - odpady zmieszane
END:VEVENT
BEGIN:VEVENT
DTSTART:20260814T060000Z
DTEND:20260814T190000Z
DTSTAMP:20260423T105417Z
UID:69e9fa59120b3
CATEGORIES:Odpady zmieszane
LOCATION:Antoninów Antoninów, Mazowieckie, PL
ORGANIZER;CN=WGO Gminy Piaseczno:MAILTO:go@piaseczno.eu
DESCRIPTION: Odbiór odpadów 
URL;VALUE=URI:https://odpady.piaseczno.eu/harmonogram-odbioru-odpadow/odbior/antoninow-kuleszowka-mieszkowo-robercin-wola-golkowska-papier-plastik-metal-tekstylia/
SUMMARY:Antoninów\, Kuleszówka\, Mieszkowo\, Robercin\, Wola Gołkowska - odpady zmieszane
END:VEVENT
BEGIN:VEVENT
DTSTART:20260821T060000Z
DTEND:20260821T190000Z
DTSTAMP:20260423T105417Z
UID:69e9fa59120cc
CATEGORIES:Odpady zmieszane
LOCATION:Antoninów Antoninów, Mazowieckie, PL
ORGANIZER;CN=WGO Gminy Piaseczno:MAILTO:go@piaseczno.eu
DESCRIPTION: Odbiór odpadów 
URL;VALUE=URI:https://odpady.piaseczno.eu/harmonogram-odbioru-odpadow/odbior/antoninow-kuleszowka-mieszkowo-robercin-wola-golkowska-papier-plastik-metal-tekstylia/
SUMMARY:Antoninów\, Kuleszówka\, Mieszkowo\, Robercin\, Wola Gołkowska - odpady zmieszane
END:VEVENT
BEGIN:VEVENT
DTSTART:20260828T060000Z
DTEND:20260828T190000Z
DTSTAMP:20260423T105417Z
UID:69e9fa59120e6
CATEGORIES:Odpady zmieszane
LOCATION:Antoninów Antoninów, Mazowieckie, PL
ORGANIZER;CN=WGO Gminy Piaseczno:MAILTO:go@piaseczno.eu
DESCRIPTION: Odbiór odpadów 
URL;VALUE=URI:https://odpady.piaseczno.eu/harmonogram-odbioru-odpadow/odbior/antoninow-kuleszowka-mieszkowo-robercin-wola-golkowska-papier-plastik-metal-tekstylia/
SUMMARY:Antoninów\, Kuleszówka\, Mieszkowo\, Robercin\, Wola Gołkowska - odpady zmieszane
END:VEVENT
BEGIN:VEVENT
DTSTART:20260904T060000Z
DTEND:20260904T190000Z
DTSTAMP:20260423T105417Z
UID:69e9fa5912100
CATEGORIES:Odpady zmieszane
LOCATION:Antoninów Antoninów, Mazowieckie, PL
ORGANIZER;CN=WGO Gminy Piaseczno:MAILTO:go@piaseczno.eu
DESCRIPTION: Odbiór odpadów 
URL;VALUE=URI:https://odpady.piaseczno.eu/harmonogram-odbioru-odpadow/odbior/antoninow-kuleszowka-mieszkowo-robercin-wola-golkowska-papier-plastik-metal-tekstylia/
SUMMARY:Antoninów\, Kuleszówka\, Mieszkowo\, Robercin\, Wola Gołkowska - odpady zmieszane
END:VEVENT
BEGIN:VEVENT
DTSTART:20260918T060000Z
DTEND:20260918T190000Z
DTSTAMP:20260423T105417Z
UID:69e9fa591212b
CATEGORIES:Odpady zmieszane
LOCATION:Antoninów Antoninów, Mazowieckie, PL
ORGANIZER;CN=WGO Gminy Piaseczno:MAILTO:go@piaseczno.eu
DESCRIPTION: Odbiór odpadów 
URL;VALUE=URI:https://odpady.piaseczno.eu/harmonogram-odbioru-odpadow/odbior/antoninow-kuleszowka-mieszkowo-robercin-wola-golkowska-papier-plastik-metal-tekstylia/
SUMMARY:Antoninów\, Kuleszówka\, Mieszkowo\, Robercin\, Wola Gołkowska - odpady zmieszane
END:VEVENT
BEGIN:VEVENT
DTSTART:20261002T060000Z
DTEND:20261002T190000Z
DTSTAMP:20260423T105417Z
UID:69e9fa5912175
CATEGORIES:Odpady zmieszane
LOCATION:Antoninów Antoninów, Mazowieckie, PL
ORGANIZER;CN=WGO Gminy Piaseczno:MAILTO:go@piaseczno.eu
DESCRIPTION: Odbiór odpadów 
URL;VALUE=URI:https://odpady.piaseczno.eu/harmonogram-odbioru-odpadow/odbior/antoninow-kuleszowka-mieszkowo-robercin-wola-golkowska-papier-plastik-metal-tekstylia/
SUMMARY:Antoninów\, Kuleszówka\, Mieszkowo\, Robercin\, Wola Gołkowska - odpady zmieszane
END:VEVENT
BEGIN:VEVENT
DTSTART:20261016T060000Z
DTEND:20261016T190000Z
DTSTAMP:20260423T105417Z
UID:69e9fa59121a1
CATEGORIES:Odpady zmieszane
LOCATION:Antoninów Antoninów, Mazowieckie, PL
ORGANIZER;CN=WGO Gminy Piaseczno:MAILTO:go@piaseczno.eu
DESCRIPTION: Odbiór odpadów 
URL;VALUE=URI:https://odpady.piaseczno.eu/harmonogram-odbioru-odpadow/odbior/antoninow-kuleszowka-mieszkowo-robercin-wola-golkowska-papier-plastik-metal-tekstylia/
SUMMARY:Antoninów\, Kuleszówka\, Mieszkowo\, Robercin\, Wola Gołkowska - odpady zmieszane
END:VEVENT
BEGIN:VEVENT
DTSTART:20261030T060000Z
DTEND:20261030T190000Z
DTSTAMP:20260423T105417Z
UID:69e9fa59121bc
CATEGORIES:Odpady zmieszane
LOCATION:Antoninów Antoninów, Mazowieckie, PL
ORGANIZER;CN=WGO Gminy Piaseczno:MAILTO:go@piaseczno.eu
DESCRIPTION: Odbiór odpadów 
URL;VALUE=URI:https://odpady.piaseczno.eu/harmonogram-odbioru-odpadow/odbior/antoninow-kuleszowka-mieszkowo-robercin-wola-golkowska-papier-plastik-metal-tekstylia/
SUMMARY:Antoninów\, Kuleszówka\, Mieszkowo\, Robercin\, Wola Gołkowska - odpady zmieszane
END:VEVENT
BEGIN:VEVENT
DTSTART:20261113T060000Z
DTEND:20261113T190000Z
DTSTAMP:20260423T105417Z
UID:69e9fa59121e5
CATEGORIES:Odpady zmieszane
LOCATION:Antoninów Antoninów, Mazowieckie, PL
ORGANIZER;CN=WGO Gminy Piaseczno:MAILTO:go@piaseczno.eu
DESCRIPTION: Odbiór odpadów 
URL;VALUE=URI:https://odpady.piaseczno.eu/harmonogram-odbioru-odpadow/odbior/antoninow-kuleszowka-mieszkowo-robercin-wola-golkowska-papier-plastik-metal-tekstylia/
SUMMARY:Antoninów\, Kuleszówka\, Mieszkowo\, Robercin\, Wola Gołkowska - odpady zmieszane
END:VEVENT
BEGIN:VEVENT
DTSTART:20261127T060000Z
DTEND:20261127T190000Z
DTSTAMP:20260423T105417Z
UID:69e9fa59121ff
CATEGORIES:Odpady zmieszane
LOCATION:Antoninów Antoninów, Mazowieckie, PL
ORGANIZER;CN=WGO Gminy Piaseczno:MAILTO:go@piaseczno.eu
DESCRIPTION: Odbiór odpadów 
URL;VALUE=URI:https://odpady.piaseczno.eu/harmonogram-odbioru-odpadow/odbior/antoninow-kuleszowka-mieszkowo-robercin-wola-golkowska-papier-plastik-metal-tekstylia/
SUMMARY:Antoninów\, Kuleszówka\, Mieszkowo\, Robercin\, Wola Gołkowska - odpady zmieszane
END:VEVENT
END:VCALENDAR
