BEGIN:VCALENDAR
VERSION:2.0
PRODID:-//DIGITAL FACTORY//EVENTS MAKER V1.6.12//EN
CALSCALE:GREGORIAN
METHOD:PUBLISH
BEGIN:VEVENT
DTSTART:20251201T060000Z
DTEND:20251201T190000Z
DTSTAMP:20260424T120631Z
UID:69eb5cc7d8def
CATEGORIES:Odpady segregowane -tworzywa sztuczne i metale
LOCATION:SEKTOR III: PIASECZNO ulice Chyliczkowska (od nr 1 do 25a i od nr 2 do 20) do Zgoda 
ORGANIZER;CN=WGO Gminy Piaseczno:MAILTO:go@piaseczno.eu
DESCRIPTION: Odbiór odpadów 
URL;VALUE=URI:https://odpady.piaseczno.eu/harmonogram-odbioru-odpadow/odbior/1-do-25a-i-od-nr-2-do-20-koscielna-kosciuszki-od-nr-2-do-18-i-od-nr-1-do-17-krolewskie-lipy-mlynarska-sierakowskiego-warszawska-zgoda/
SUMMARY:SEKTOR III - PIASECZNO od. ul. Chyliczkowska (od nr 1 do 25a i od nr 2 do 20) do ul. Żabia
END:VEVENT
BEGIN:VEVENT
DTSTART:20251215T060000Z
DTEND:20251215T190000Z
DTSTAMP:20260424T120631Z
UID:69eb5cc7d8ec6
CATEGORIES:Odpady segregowane -tworzywa sztuczne i metale
LOCATION:SEKTOR III: PIASECZNO ulice Chyliczkowska (od nr 1 do 25a i od nr 2 do 20) do Zgoda 
ORGANIZER;CN=WGO Gminy Piaseczno:MAILTO:go@piaseczno.eu
DESCRIPTION: Odbiór odpadów 
URL;VALUE=URI:https://odpady.piaseczno.eu/harmonogram-odbioru-odpadow/odbior/1-do-25a-i-od-nr-2-do-20-koscielna-kosciuszki-od-nr-2-do-18-i-od-nr-1-do-17-krolewskie-lipy-mlynarska-sierakowskiego-warszawska-zgoda/
SUMMARY:SEKTOR III - PIASECZNO od. ul. Chyliczkowska (od nr 1 do 25a i od nr 2 do 20) do ul. Żabia
END:VEVENT
BEGIN:VEVENT
DTSTART:20251229T060000Z
DTEND:20251229T190000Z
DTSTAMP:20260424T120631Z
UID:69eb5cc7d8ef1
CATEGORIES:Odpady segregowane -tworzywa sztuczne i metale
LOCATION:SEKTOR III: PIASECZNO ulice Chyliczkowska (od nr 1 do 25a i od nr 2 do 20) do Zgoda 
ORGANIZER;CN=WGO Gminy Piaseczno:MAILTO:go@piaseczno.eu
DESCRIPTION: Odbiór odpadów 
URL;VALUE=URI:https://odpady.piaseczno.eu/harmonogram-odbioru-odpadow/odbior/1-do-25a-i-od-nr-2-do-20-koscielna-kosciuszki-od-nr-2-do-18-i-od-nr-1-do-17-krolewskie-lipy-mlynarska-sierakowskiego-warszawska-zgoda/
SUMMARY:SEKTOR III - PIASECZNO od. ul. Chyliczkowska (od nr 1 do 25a i od nr 2 do 20) do ul. Żabia
END:VEVENT
BEGIN:VEVENT
DTSTART:20260112T060000Z
DTEND:20260112T190000Z
DTSTAMP:20260424T120631Z
UID:69eb5cc7d8f13
CATEGORIES:Odpady segregowane -tworzywa sztuczne i metale
LOCATION:SEKTOR III: PIASECZNO ulice Chyliczkowska (od nr 1 do 25a i od nr 2 do 20) do Zgoda 
ORGANIZER;CN=WGO Gminy Piaseczno:MAILTO:go@piaseczno.eu
DESCRIPTION: Odbiór odpadów 
URL;VALUE=URI:https://odpady.piaseczno.eu/harmonogram-odbioru-odpadow/odbior/1-do-25a-i-od-nr-2-do-20-koscielna-kosciuszki-od-nr-2-do-18-i-od-nr-1-do-17-krolewskie-lipy-mlynarska-sierakowskiego-warszawska-zgoda/
SUMMARY:SEKTOR III - PIASECZNO od. ul. Chyliczkowska (od nr 1 do 25a i od nr 2 do 20) do ul. Żabia
END:VEVENT
BEGIN:VEVENT
DTSTART:20260126T060000Z
DTEND:20260126T190000Z
DTSTAMP:20260424T120631Z
UID:69eb5cc7d8f31
CATEGORIES:Odpady segregowane -tworzywa sztuczne i metale
LOCATION:SEKTOR III: PIASECZNO ulice Chyliczkowska (od nr 1 do 25a i od nr 2 do 20) do Zgoda 
ORGANIZER;CN=WGO Gminy Piaseczno:MAILTO:go@piaseczno.eu
DESCRIPTION: Odbiór odpadów 
URL;VALUE=URI:https://odpady.piaseczno.eu/harmonogram-odbioru-odpadow/odbior/1-do-25a-i-od-nr-2-do-20-koscielna-kosciuszki-od-nr-2-do-18-i-od-nr-1-do-17-krolewskie-lipy-mlynarska-sierakowskiego-warszawska-zgoda/
SUMMARY:SEKTOR III - PIASECZNO od. ul. Chyliczkowska (od nr 1 do 25a i od nr 2 do 20) do ul. Żabia
END:VEVENT
BEGIN:VEVENT
DTSTART:20260209T060000Z
DTEND:20260209T190000Z
DTSTAMP:20260424T120631Z
UID:69eb5cc7d8f4e
CATEGORIES:Odpady segregowane -tworzywa sztuczne i metale
LOCATION:SEKTOR III: PIASECZNO ulice Chyliczkowska (od nr 1 do 25a i od nr 2 do 20) do Zgoda 
ORGANIZER;CN=WGO Gminy Piaseczno:MAILTO:go@piaseczno.eu
DESCRIPTION: Odbiór odpadów 
URL;VALUE=URI:https://odpady.piaseczno.eu/harmonogram-odbioru-odpadow/odbior/1-do-25a-i-od-nr-2-do-20-koscielna-kosciuszki-od-nr-2-do-18-i-od-nr-1-do-17-krolewskie-lipy-mlynarska-sierakowskiego-warszawska-zgoda/
SUMMARY:SEKTOR III - PIASECZNO od. ul. Chyliczkowska (od nr 1 do 25a i od nr 2 do 20) do ul. Żabia
END:VEVENT
BEGIN:VEVENT
DTSTART:20260223T060000Z
DTEND:20260223T190000Z
DTSTAMP:20260424T120631Z
UID:69eb5cc7d8f6e
CATEGORIES:Odpady segregowane -tworzywa sztuczne i metale
LOCATION:SEKTOR III: PIASECZNO ulice Chyliczkowska (od nr 1 do 25a i od nr 2 do 20) do Zgoda 
ORGANIZER;CN=WGO Gminy Piaseczno:MAILTO:go@piaseczno.eu
DESCRIPTION: Odbiór odpadów 
URL;VALUE=URI:https://odpady.piaseczno.eu/harmonogram-odbioru-odpadow/odbior/1-do-25a-i-od-nr-2-do-20-koscielna-kosciuszki-od-nr-2-do-18-i-od-nr-1-do-17-krolewskie-lipy-mlynarska-sierakowskiego-warszawska-zgoda/
SUMMARY:SEKTOR III - PIASECZNO od. ul. Chyliczkowska (od nr 1 do 25a i od nr 2 do 20) do ul. Żabia
END:VEVENT
BEGIN:VEVENT
DTSTART:20260309T060000Z
DTEND:20260309T190000Z
DTSTAMP:20260424T120631Z
UID:69eb5cc7d8f8a
CATEGORIES:Odpady segregowane -tworzywa sztuczne i metale
LOCATION:SEKTOR III: PIASECZNO ulice Chyliczkowska (od nr 1 do 25a i od nr 2 do 20) do Zgoda 
ORGANIZER;CN=WGO Gminy Piaseczno:MAILTO:go@piaseczno.eu
DESCRIPTION: Odbiór odpadów 
URL;VALUE=URI:https://odpady.piaseczno.eu/harmonogram-odbioru-odpadow/odbior/1-do-25a-i-od-nr-2-do-20-koscielna-kosciuszki-od-nr-2-do-18-i-od-nr-1-do-17-krolewskie-lipy-mlynarska-sierakowskiego-warszawska-zgoda/
SUMMARY:SEKTOR III - PIASECZNO od. ul. Chyliczkowska (od nr 1 do 25a i od nr 2 do 20) do ul. Żabia
END:VEVENT
BEGIN:VEVENT
DTSTART:20260323T060000Z
DTEND:20260323T190000Z
DTSTAMP:20260424T120631Z
UID:69eb5cc7d8fa5
CATEGORIES:Odpady segregowane -tworzywa sztuczne i metale
LOCATION:SEKTOR III: PIASECZNO ulice Chyliczkowska (od nr 1 do 25a i od nr 2 do 20) do Zgoda 
ORGANIZER;CN=WGO Gminy Piaseczno:MAILTO:go@piaseczno.eu
DESCRIPTION: Odbiór odpadów 
URL;VALUE=URI:https://odpady.piaseczno.eu/harmonogram-odbioru-odpadow/odbior/1-do-25a-i-od-nr-2-do-20-koscielna-kosciuszki-od-nr-2-do-18-i-od-nr-1-do-17-krolewskie-lipy-mlynarska-sierakowskiego-warszawska-zgoda/
SUMMARY:SEKTOR III - PIASECZNO od. ul. Chyliczkowska (od nr 1 do 25a i od nr 2 do 20) do ul. Żabia
END:VEVENT
BEGIN:VEVENT
DTSTART:20260409T060000Z
DTEND:20260409T190000Z
DTSTAMP:20260424T120631Z
UID:69eb5cc7d8fbf
CATEGORIES:Odpady segregowane -tworzywa sztuczne i metale
LOCATION:SEKTOR III: PIASECZNO ulice Chyliczkowska (od nr 1 do 25a i od nr 2 do 20) do Zgoda 
ORGANIZER;CN=WGO Gminy Piaseczno:MAILTO:go@piaseczno.eu
DESCRIPTION: Odbiór odpadów 
URL;VALUE=URI:https://odpady.piaseczno.eu/harmonogram-odbioru-odpadow/odbior/1-do-25a-i-od-nr-2-do-20-koscielna-kosciuszki-od-nr-2-do-18-i-od-nr-1-do-17-krolewskie-lipy-mlynarska-sierakowskiego-warszawska-zgoda/
SUMMARY:SEKTOR III - PIASECZNO od. ul. Chyliczkowska (od nr 1 do 25a i od nr 2 do 20) do ul. Żabia
END:VEVENT
BEGIN:VEVENT
DTSTART:20260420T060000Z
DTEND:20260420T190000Z
DTSTAMP:20260424T120631Z
UID:69eb5cc7d8fda
CATEGORIES:Odpady segregowane -tworzywa sztuczne i metale
LOCATION:SEKTOR III: PIASECZNO ulice Chyliczkowska (od nr 1 do 25a i od nr 2 do 20) do Zgoda 
ORGANIZER;CN=WGO Gminy Piaseczno:MAILTO:go@piaseczno.eu
DESCRIPTION: Odbiór odpadów 
URL;VALUE=URI:https://odpady.piaseczno.eu/harmonogram-odbioru-odpadow/odbior/1-do-25a-i-od-nr-2-do-20-koscielna-kosciuszki-od-nr-2-do-18-i-od-nr-1-do-17-krolewskie-lipy-mlynarska-sierakowskiego-warszawska-zgoda/
SUMMARY:SEKTOR III - PIASECZNO od. ul. Chyliczkowska (od nr 1 do 25a i od nr 2 do 20) do ul. Żabia
END:VEVENT
BEGIN:VEVENT
DTSTART:20260504T060000Z
DTEND:20260504T190000Z
DTSTAMP:20260424T120631Z
UID:69eb5cc7d8ff4
CATEGORIES:Odpady segregowane -tworzywa sztuczne i metale
LOCATION:SEKTOR III: PIASECZNO ulice Chyliczkowska (od nr 1 do 25a i od nr 2 do 20) do Zgoda 
ORGANIZER;CN=WGO Gminy Piaseczno:MAILTO:go@piaseczno.eu
DESCRIPTION: Odbiór odpadów 
URL;VALUE=URI:https://odpady.piaseczno.eu/harmonogram-odbioru-odpadow/odbior/1-do-25a-i-od-nr-2-do-20-koscielna-kosciuszki-od-nr-2-do-18-i-od-nr-1-do-17-krolewskie-lipy-mlynarska-sierakowskiego-warszawska-zgoda/
SUMMARY:SEKTOR III - PIASECZNO od. ul. Chyliczkowska (od nr 1 do 25a i od nr 2 do 20) do ul. Żabia
END:VEVENT
BEGIN:VEVENT
DTSTART:20260518T060000Z
DTEND:20260518T190000Z
DTSTAMP:20260424T120631Z
UID:69eb5cc7d9015
CATEGORIES:Odpady segregowane -tworzywa sztuczne i metale
LOCATION:SEKTOR III: PIASECZNO ulice Chyliczkowska (od nr 1 do 25a i od nr 2 do 20) do Zgoda 
ORGANIZER;CN=WGO Gminy Piaseczno:MAILTO:go@piaseczno.eu
DESCRIPTION: Odbiór odpadów 
URL;VALUE=URI:https://odpady.piaseczno.eu/harmonogram-odbioru-odpadow/odbior/1-do-25a-i-od-nr-2-do-20-koscielna-kosciuszki-od-nr-2-do-18-i-od-nr-1-do-17-krolewskie-lipy-mlynarska-sierakowskiego-warszawska-zgoda/
SUMMARY:SEKTOR III - PIASECZNO od. ul. Chyliczkowska (od nr 1 do 25a i od nr 2 do 20) do ul. Żabia
END:VEVENT
BEGIN:VEVENT
DTSTART:20260601T060000Z
DTEND:20260601T190000Z
DTSTAMP:20260424T120631Z
UID:69eb5cc7d9031
CATEGORIES:Odpady segregowane -tworzywa sztuczne i metale
LOCATION:SEKTOR III: PIASECZNO ulice Chyliczkowska (od nr 1 do 25a i od nr 2 do 20) do Zgoda 
ORGANIZER;CN=WGO Gminy Piaseczno:MAILTO:go@piaseczno.eu
DESCRIPTION: Odbiór odpadów 
URL;VALUE=URI:https://odpady.piaseczno.eu/harmonogram-odbioru-odpadow/odbior/1-do-25a-i-od-nr-2-do-20-koscielna-kosciuszki-od-nr-2-do-18-i-od-nr-1-do-17-krolewskie-lipy-mlynarska-sierakowskiego-warszawska-zgoda/
SUMMARY:SEKTOR III - PIASECZNO od. ul. Chyliczkowska (od nr 1 do 25a i od nr 2 do 20) do ul. Żabia
END:VEVENT
BEGIN:VEVENT
DTSTART:20260615T060000Z
DTEND:20260615T190000Z
DTSTAMP:20260424T120631Z
UID:69eb5cc7d904b
CATEGORIES:Odpady segregowane -tworzywa sztuczne i metale
LOCATION:SEKTOR III: PIASECZNO ulice Chyliczkowska (od nr 1 do 25a i od nr 2 do 20) do Zgoda 
ORGANIZER;CN=WGO Gminy Piaseczno:MAILTO:go@piaseczno.eu
DESCRIPTION: Odbiór odpadów 
URL;VALUE=URI:https://odpady.piaseczno.eu/harmonogram-odbioru-odpadow/odbior/1-do-25a-i-od-nr-2-do-20-koscielna-kosciuszki-od-nr-2-do-18-i-od-nr-1-do-17-krolewskie-lipy-mlynarska-sierakowskiego-warszawska-zgoda/
SUMMARY:SEKTOR III - PIASECZNO od. ul. Chyliczkowska (od nr 1 do 25a i od nr 2 do 20) do ul. Żabia
END:VEVENT
BEGIN:VEVENT
DTSTART:20260629T060000Z
DTEND:20260629T190000Z
DTSTAMP:20260424T120631Z
UID:69eb5cc7d9065
CATEGORIES:Odpady segregowane -tworzywa sztuczne i metale
LOCATION:SEKTOR III: PIASECZNO ulice Chyliczkowska (od nr 1 do 25a i od nr 2 do 20) do Zgoda 
ORGANIZER;CN=WGO Gminy Piaseczno:MAILTO:go@piaseczno.eu
DESCRIPTION: Odbiór odpadów 
URL;VALUE=URI:https://odpady.piaseczno.eu/harmonogram-odbioru-odpadow/odbior/1-do-25a-i-od-nr-2-do-20-koscielna-kosciuszki-od-nr-2-do-18-i-od-nr-1-do-17-krolewskie-lipy-mlynarska-sierakowskiego-warszawska-zgoda/
SUMMARY:SEKTOR III - PIASECZNO od. ul. Chyliczkowska (od nr 1 do 25a i od nr 2 do 20) do ul. Żabia
END:VEVENT
BEGIN:VEVENT
DTSTART:20260713T060000Z
DTEND:20260713T190000Z
DTSTAMP:20260424T120631Z
UID:69eb5cc7d908c
CATEGORIES:Odpady segregowane -tworzywa sztuczne i metale
LOCATION:SEKTOR III: PIASECZNO ulice Chyliczkowska (od nr 1 do 25a i od nr 2 do 20) do Zgoda 
ORGANIZER;CN=WGO Gminy Piaseczno:MAILTO:go@piaseczno.eu
DESCRIPTION: Odbiór odpadów 
URL;VALUE=URI:https://odpady.piaseczno.eu/harmonogram-odbioru-odpadow/odbior/1-do-25a-i-od-nr-2-do-20-koscielna-kosciuszki-od-nr-2-do-18-i-od-nr-1-do-17-krolewskie-lipy-mlynarska-sierakowskiego-warszawska-zgoda/
SUMMARY:SEKTOR III - PIASECZNO od. ul. Chyliczkowska (od nr 1 do 25a i od nr 2 do 20) do ul. Żabia
END:VEVENT
BEGIN:VEVENT
DTSTART:20260727T060000Z
DTEND:20260727T190000Z
DTSTAMP:20260424T120631Z
UID:69eb5cc7d90aa
CATEGORIES:Odpady segregowane -tworzywa sztuczne i metale
LOCATION:SEKTOR III: PIASECZNO ulice Chyliczkowska (od nr 1 do 25a i od nr 2 do 20) do Zgoda 
ORGANIZER;CN=WGO Gminy Piaseczno:MAILTO:go@piaseczno.eu
DESCRIPTION: Odbiór odpadów 
URL;VALUE=URI:https://odpady.piaseczno.eu/harmonogram-odbioru-odpadow/odbior/1-do-25a-i-od-nr-2-do-20-koscielna-kosciuszki-od-nr-2-do-18-i-od-nr-1-do-17-krolewskie-lipy-mlynarska-sierakowskiego-warszawska-zgoda/
SUMMARY:SEKTOR III - PIASECZNO od. ul. Chyliczkowska (od nr 1 do 25a i od nr 2 do 20) do ul. Żabia
END:VEVENT
BEGIN:VEVENT
DTSTART:20260810T060000Z
DTEND:20260810T190000Z
DTSTAMP:20260424T120631Z
UID:69eb5cc7d90c9
CATEGORIES:Odpady segregowane -tworzywa sztuczne i metale
LOCATION:SEKTOR III: PIASECZNO ulice Chyliczkowska (od nr 1 do 25a i od nr 2 do 20) do Zgoda 
ORGANIZER;CN=WGO Gminy Piaseczno:MAILTO:go@piaseczno.eu
DESCRIPTION: Odbiór odpadów 
URL;VALUE=URI:https://odpady.piaseczno.eu/harmonogram-odbioru-odpadow/odbior/1-do-25a-i-od-nr-2-do-20-koscielna-kosciuszki-od-nr-2-do-18-i-od-nr-1-do-17-krolewskie-lipy-mlynarska-sierakowskiego-warszawska-zgoda/
SUMMARY:SEKTOR III - PIASECZNO od. ul. Chyliczkowska (od nr 1 do 25a i od nr 2 do 20) do ul. Żabia
END:VEVENT
BEGIN:VEVENT
DTSTART:20260824T060000Z
DTEND:20260824T190000Z
DTSTAMP:20260424T120631Z
UID:69eb5cc7d90e4
CATEGORIES:Odpady segregowane -tworzywa sztuczne i metale
LOCATION:SEKTOR III: PIASECZNO ulice Chyliczkowska (od nr 1 do 25a i od nr 2 do 20) do Zgoda 
ORGANIZER;CN=WGO Gminy Piaseczno:MAILTO:go@piaseczno.eu
DESCRIPTION: Odbiór odpadów 
URL;VALUE=URI:https://odpady.piaseczno.eu/harmonogram-odbioru-odpadow/odbior/1-do-25a-i-od-nr-2-do-20-koscielna-kosciuszki-od-nr-2-do-18-i-od-nr-1-do-17-krolewskie-lipy-mlynarska-sierakowskiego-warszawska-zgoda/
SUMMARY:SEKTOR III - PIASECZNO od. ul. Chyliczkowska (od nr 1 do 25a i od nr 2 do 20) do ul. Żabia
END:VEVENT
BEGIN:VEVENT
DTSTART:20260907T060000Z
DTEND:20260907T190000Z
DTSTAMP:20260424T120631Z
UID:69eb5cc7d90fe
CATEGORIES:Odpady segregowane -tworzywa sztuczne i metale
LOCATION:SEKTOR III: PIASECZNO ulice Chyliczkowska (od nr 1 do 25a i od nr 2 do 20) do Zgoda 
ORGANIZER;CN=WGO Gminy Piaseczno:MAILTO:go@piaseczno.eu
DESCRIPTION: Odbiór odpadów 
URL;VALUE=URI:https://odpady.piaseczno.eu/harmonogram-odbioru-odpadow/odbior/1-do-25a-i-od-nr-2-do-20-koscielna-kosciuszki-od-nr-2-do-18-i-od-nr-1-do-17-krolewskie-lipy-mlynarska-sierakowskiego-warszawska-zgoda/
SUMMARY:SEKTOR III - PIASECZNO od. ul. Chyliczkowska (od nr 1 do 25a i od nr 2 do 20) do ul. Żabia
END:VEVENT
BEGIN:VEVENT
DTSTART:20260921T060000Z
DTEND:20260921T190000Z
DTSTAMP:20260424T120631Z
UID:69eb5cc7d9118
CATEGORIES:Odpady segregowane -tworzywa sztuczne i metale
LOCATION:SEKTOR III: PIASECZNO ulice Chyliczkowska (od nr 1 do 25a i od nr 2 do 20) do Zgoda 
ORGANIZER;CN=WGO Gminy Piaseczno:MAILTO:go@piaseczno.eu
DESCRIPTION: Odbiór odpadów 
URL;VALUE=URI:https://odpady.piaseczno.eu/harmonogram-odbioru-odpadow/odbior/1-do-25a-i-od-nr-2-do-20-koscielna-kosciuszki-od-nr-2-do-18-i-od-nr-1-do-17-krolewskie-lipy-mlynarska-sierakowskiego-warszawska-zgoda/
SUMMARY:SEKTOR III - PIASECZNO od. ul. Chyliczkowska (od nr 1 do 25a i od nr 2 do 20) do ul. Żabia
END:VEVENT
BEGIN:VEVENT
DTSTART:20261005T060000Z
DTEND:20261005T190000Z
DTSTAMP:20260424T120631Z
UID:69eb5cc7d9132
CATEGORIES:Odpady segregowane -tworzywa sztuczne i metale
LOCATION:SEKTOR III: PIASECZNO ulice Chyliczkowska (od nr 1 do 25a i od nr 2 do 20) do Zgoda 
ORGANIZER;CN=WGO Gminy Piaseczno:MAILTO:go@piaseczno.eu
DESCRIPTION: Odbiór odpadów 
URL;VALUE=URI:https://odpady.piaseczno.eu/harmonogram-odbioru-odpadow/odbior/1-do-25a-i-od-nr-2-do-20-koscielna-kosciuszki-od-nr-2-do-18-i-od-nr-1-do-17-krolewskie-lipy-mlynarska-sierakowskiego-warszawska-zgoda/
SUMMARY:SEKTOR III - PIASECZNO od. ul. Chyliczkowska (od nr 1 do 25a i od nr 2 do 20) do ul. Żabia
END:VEVENT
BEGIN:VEVENT
DTSTART:20261019T060000Z
DTEND:20261019T190000Z
DTSTAMP:20260424T120631Z
UID:69eb5cc7d914c
CATEGORIES:Odpady segregowane -tworzywa sztuczne i metale
LOCATION:SEKTOR III: PIASECZNO ulice Chyliczkowska (od nr 1 do 25a i od nr 2 do 20) do Zgoda 
ORGANIZER;CN=WGO Gminy Piaseczno:MAILTO:go@piaseczno.eu
DESCRIPTION: Odbiór odpadów 
URL;VALUE=URI:https://odpady.piaseczno.eu/harmonogram-odbioru-odpadow/odbior/1-do-25a-i-od-nr-2-do-20-koscielna-kosciuszki-od-nr-2-do-18-i-od-nr-1-do-17-krolewskie-lipy-mlynarska-sierakowskiego-warszawska-zgoda/
SUMMARY:SEKTOR III - PIASECZNO od. ul. Chyliczkowska (od nr 1 do 25a i od nr 2 do 20) do ul. Żabia
END:VEVENT
BEGIN:VEVENT
DTSTART:20261102T060000Z
DTEND:20261102T190000Z
DTSTAMP:20260424T120631Z
UID:69eb5cc7d916a
CATEGORIES:Odpady segregowane -tworzywa sztuczne i metale
LOCATION:SEKTOR III: PIASECZNO ulice Chyliczkowska (od nr 1 do 25a i od nr 2 do 20) do Zgoda 
ORGANIZER;CN=WGO Gminy Piaseczno:MAILTO:go@piaseczno.eu
DESCRIPTION: Odbiór odpadów 
URL;VALUE=URI:https://odpady.piaseczno.eu/harmonogram-odbioru-odpadow/odbior/1-do-25a-i-od-nr-2-do-20-koscielna-kosciuszki-od-nr-2-do-18-i-od-nr-1-do-17-krolewskie-lipy-mlynarska-sierakowskiego-warszawska-zgoda/
SUMMARY:SEKTOR III - PIASECZNO od. ul. Chyliczkowska (od nr 1 do 25a i od nr 2 do 20) do ul. Żabia
END:VEVENT
BEGIN:VEVENT
DTSTART:20261116T060000Z
DTEND:20261116T190000Z
DTSTAMP:20260424T120631Z
UID:69eb5cc7d9185
CATEGORIES:Odpady segregowane -tworzywa sztuczne i metale
LOCATION:SEKTOR III: PIASECZNO ulice Chyliczkowska (od nr 1 do 25a i od nr 2 do 20) do Zgoda 
ORGANIZER;CN=WGO Gminy Piaseczno:MAILTO:go@piaseczno.eu
DESCRIPTION: Odbiór odpadów 
URL;VALUE=URI:https://odpady.piaseczno.eu/harmonogram-odbioru-odpadow/odbior/1-do-25a-i-od-nr-2-do-20-koscielna-kosciuszki-od-nr-2-do-18-i-od-nr-1-do-17-krolewskie-lipy-mlynarska-sierakowskiego-warszawska-zgoda/
SUMMARY:SEKTOR III - PIASECZNO od. ul. Chyliczkowska (od nr 1 do 25a i od nr 2 do 20) do ul. Żabia
END:VEVENT
BEGIN:VEVENT
DTSTART:20261130T060000Z
DTEND:20261130T190000Z
DTSTAMP:20260424T120631Z
UID:69eb5cc7d919f
CATEGORIES:Odpady segregowane -tworzywa sztuczne i metale
LOCATION:SEKTOR III: PIASECZNO ulice Chyliczkowska (od nr 1 do 25a i od nr 2 do 20) do Zgoda 
ORGANIZER;CN=WGO Gminy Piaseczno:MAILTO:go@piaseczno.eu
DESCRIPTION: Odbiór odpadów 
URL;VALUE=URI:https://odpady.piaseczno.eu/harmonogram-odbioru-odpadow/odbior/1-do-25a-i-od-nr-2-do-20-koscielna-kosciuszki-od-nr-2-do-18-i-od-nr-1-do-17-krolewskie-lipy-mlynarska-sierakowskiego-warszawska-zgoda/
SUMMARY:SEKTOR III - PIASECZNO od. ul. Chyliczkowska (od nr 1 do 25a i od nr 2 do 20) do ul. Żabia
END:VEVENT
END:VCALENDAR
